BEGIN:VCALENDAR
VERSION:2.0
PRODID:-//North Mountain United Tapestry - ECPv6.15.20//NONSGML v1.0//EN
CALSCALE:GREGORIAN
METHOD:PUBLISH
X-ORIGINAL-URL:https://www.unitedtapestry.com
X-WR-CALDESC:Events for North Mountain United Tapestry
REFRESH-INTERVAL;VALUE=DURATION:PT1H
X-Robots-Tag:noindex
X-PUBLISHED-TTL:PT1H
BEGIN:VTIMEZONE
TZID:America/Halifax
BEGIN:DAYLIGHT
TZOFFSETFROM:-0400
TZOFFSETTO:-0300
TZNAME:ADT
DTSTART:20220313T060000
END:DAYLIGHT
BEGIN:STANDARD
TZOFFSETFROM:-0300
TZOFFSETTO:-0400
TZNAME:AST
DTSTART:20221106T050000
END:STANDARD
BEGIN:DAYLIGHT
TZOFFSETFROM:-0400
TZOFFSETTO:-0300
TZNAME:ADT
DTSTART:20230312T060000
END:DAYLIGHT
BEGIN:STANDARD
TZOFFSETFROM:-0300
TZOFFSETTO:-0400
TZNAME:AST
DTSTART:20231105T050000
END:STANDARD
BEGIN:DAYLIGHT
TZOFFSETFROM:-0400
TZOFFSETTO:-0300
TZNAME:ADT
DTSTART:20240310T060000
END:DAYLIGHT
BEGIN:STANDARD
TZOFFSETFROM:-0300
TZOFFSETTO:-0400
TZNAME:AST
DTSTART:20241103T050000
END:STANDARD
END:VTIMEZONE
BEGIN:VEVENT
DTSTART;TZID=America/Halifax:20230527T093000
DTEND;TZID=America/Halifax:20230527T130000
DTSTAMP:20260422T183959
CREATED:20230517T130714Z
LAST-MODIFIED:20230530T140051Z
UID:2822-1685179800-1685192400@www.unitedtapestry.com
SUMMARY:Market Music - Tyler Salsman
DESCRIPTION:Each week during market hours\, we have special musicians lined up to enhance your community experience.  We’ve got a fantastic line up of musicians set to play at each of our North Mountain Farmers’ Markets\, starting on May 27th
URL:https://www.unitedtapestry.com/event/market-music/
LOCATION:Nova Scotia
CATEGORIES:Music At The Market
ATTACH;FMTTYPE=image/png:https://www.unitedtapestry.com/wp-content/uploads/2023/05/Market-Music-1.png
END:VEVENT
END:VCALENDAR