BEGIN:VCALENDAR
VERSION:2.0
PRODID:-//North Mountain United Tapestry - ECPv6.15.20//NONSGML v1.0//EN
CALSCALE:GREGORIAN
METHOD:PUBLISH
X-WR-CALNAME:North Mountain United Tapestry
X-ORIGINAL-URL:https://www.unitedtapestry.com
X-WR-CALDESC:Events for North Mountain United Tapestry
REFRESH-INTERVAL;VALUE=DURATION:PT1H
X-Robots-Tag:noindex
X-PUBLISHED-TTL:PT1H
BEGIN:VTIMEZONE
TZID:America/Halifax
BEGIN:DAYLIGHT
TZOFFSETFROM:-0400
TZOFFSETTO:-0300
TZNAME:ADT
DTSTART:20230312T060000
END:DAYLIGHT
BEGIN:STANDARD
TZOFFSETFROM:-0300
TZOFFSETTO:-0400
TZNAME:AST
DTSTART:20231105T050000
END:STANDARD
BEGIN:DAYLIGHT
TZOFFSETFROM:-0400
TZOFFSETTO:-0300
TZNAME:ADT
DTSTART:20240310T060000
END:DAYLIGHT
BEGIN:STANDARD
TZOFFSETFROM:-0300
TZOFFSETTO:-0400
TZNAME:AST
DTSTART:20241103T050000
END:STANDARD
BEGIN:DAYLIGHT
TZOFFSETFROM:-0400
TZOFFSETTO:-0300
TZNAME:ADT
DTSTART:20250309T060000
END:DAYLIGHT
BEGIN:STANDARD
TZOFFSETFROM:-0300
TZOFFSETTO:-0400
TZNAME:AST
DTSTART:20251102T050000
END:STANDARD
END:VTIMEZONE
BEGIN:VEVENT
DTSTART;TZID=America/Halifax:20240615T093000
DTEND;TZID=America/Halifax:20240615T130000
DTSTAMP:20260421T083707
CREATED:20240614T182404Z
LAST-MODIFIED:20240615T024921Z
UID:3349-1718443800-1718456400@www.unitedtapestry.com
SUMMARY:June 15 Market Day
DESCRIPTION:Its forecast to be a rainy day tomorrow….come in out of the showers! \nOur sweet little historic church will be full  of \nFresh produce from Wandering Farm \, \nSTRAWBERRIES from Morse Farms\, \nfree range poultry from Perkins Polyculture\, \ncraft beer and cider  from Sea Level Brewing\, \nvisual art from Kathy  and Crystal \, \nInuit jewellery from One Spruce Twig Beadwork\, \n Wild Horse Pottery’s Donna Fagen will have  shelves full of her beautiful work and \na special YOUNG ENTREPENEUR Table with  young folk from  Flying Squirrel Adventures \nAnd that’s not all! \nColleen with yummy baked treats from Baking with CLASS will be there \nand Sandy from Eastern Door Arts and Crafts with her amazing carved stone\, bone and pyrography . \nCathou of  Silvery Moon Alpacas Farm will be spinning here alpaca wool and selling her gorgeous  knitted and felted pieces. \nFresh baked bread and yummy goodies from Danielle of  Twisted Whisk .   \nBarb and Lyndon of Wings and Things  birdhouses and Ikebana stones will greet you  and \nCarrie  and her mom of Remy’s Friends have the cutest petwear! \nAni is going to switch things up and rather than bring her weaving she is going to showcase her other passion plants! And her son will bring farm fresh eggs \nPete and RePete of Pete’s Creations and Woodlawn Hollow Homestead (respectively) are offering wooden carved bowls  and herbs \nMusic by Robertson and Jaffurs! \n \nIts going to be great!! \n 
URL:https://www.unitedtapestry.com/event/june-15-market-day/
LOCATION:North Mountain United Tapestry\, 3201 Long Point Road\, Harbourville\, Nova Scotia\, B0P 1E0\, Canada
CATEGORIES:Market Day
ATTACH;FMTTYPE=image/png:https://www.unitedtapestry.com/wp-content/uploads/2024/04/Farmers-Market-1.png
ORGANIZER;CN="North Mountain United Tapestry":MAILTO:unitedtapestry@gmail.com
END:VEVENT
END:VCALENDAR