BEGIN:VCALENDAR
VERSION:2.0
PRODID:-//North Mountain United Tapestry - ECPv6.15.20//NONSGML v1.0//EN
CALSCALE:GREGORIAN
METHOD:PUBLISH
X-WR-CALNAME:North Mountain United Tapestry
X-ORIGINAL-URL:https://www.unitedtapestry.com
X-WR-CALDESC:Events for North Mountain United Tapestry
REFRESH-INTERVAL;VALUE=DURATION:PT1H
X-Robots-Tag:noindex
X-PUBLISHED-TTL:PT1H
BEGIN:VTIMEZONE
TZID:America/Halifax
BEGIN:DAYLIGHT
TZOFFSETFROM:-0400
TZOFFSETTO:-0300
TZNAME:ADT
DTSTART:20230312T060000
END:DAYLIGHT
BEGIN:STANDARD
TZOFFSETFROM:-0300
TZOFFSETTO:-0400
TZNAME:AST
DTSTART:20231105T050000
END:STANDARD
BEGIN:DAYLIGHT
TZOFFSETFROM:-0400
TZOFFSETTO:-0300
TZNAME:ADT
DTSTART:20240310T060000
END:DAYLIGHT
BEGIN:STANDARD
TZOFFSETFROM:-0300
TZOFFSETTO:-0400
TZNAME:AST
DTSTART:20241103T050000
END:STANDARD
BEGIN:DAYLIGHT
TZOFFSETFROM:-0400
TZOFFSETTO:-0300
TZNAME:ADT
DTSTART:20250309T060000
END:DAYLIGHT
BEGIN:STANDARD
TZOFFSETFROM:-0300
TZOFFSETTO:-0400
TZNAME:AST
DTSTART:20251102T050000
END:STANDARD
END:VTIMEZONE
BEGIN:VEVENT
DTSTART;TZID=America/Halifax:20240622T093000
DTEND;TZID=America/Halifax:20240622T130000
DTSTAMP:20260421T100035
CREATED:20240620T161656Z
LAST-MODIFIED:20240620T161901Z
UID:3361-1719048600-1719061200@www.unitedtapestry.com
SUMMARY:June 22  North Mountain Market
DESCRIPTION:This week at the Market\nRustic Pots \nTwisted Whisk \nLife on Harmony Street \nThe Green Window Sill \nWoodlawn Hollow (Brian’s twig furniture and Pete’s Herbs etc) \nWandering Farm \nSea Level \nPerkins Polyculture \nBaking with CLASS \nChristine Faour Author \nSilvery Moon Alpacas Farm \nPaintings by Kathy \nKate’s Pantry CoffeeShop \nPete’s Creations \nWings and Things \nAni van Dyk \nChase Lane Creations \nMusic with …. \n \nMarket Map
URL:https://www.unitedtapestry.com/event/june-22-north-mountain-market/
LOCATION:North Mountain United Tapestry\, 3201 Long Point Road\, Harbourville\, Nova Scotia\, B0P 1E0\, Canada
CATEGORIES:Market Day
ORGANIZER;CN="North Mountain United Tapestry":MAILTO:unitedtapestry@gmail.com
END:VEVENT
END:VCALENDAR