BEGIN:VCALENDAR
VERSION:2.0
PRODID:-//North Mountain United Tapestry - ECPv6.15.20//NONSGML v1.0//EN
CALSCALE:GREGORIAN
METHOD:PUBLISH
X-WR-CALNAME:North Mountain United Tapestry
X-ORIGINAL-URL:https://www.unitedtapestry.com
X-WR-CALDESC:Events for North Mountain United Tapestry
REFRESH-INTERVAL;VALUE=DURATION:PT1H
X-Robots-Tag:noindex
X-PUBLISHED-TTL:PT1H
BEGIN:VTIMEZONE
TZID:America/Halifax
BEGIN:DAYLIGHT
TZOFFSETFROM:-0400
TZOFFSETTO:-0300
TZNAME:ADT
DTSTART:20230312T060000
END:DAYLIGHT
BEGIN:STANDARD
TZOFFSETFROM:-0300
TZOFFSETTO:-0400
TZNAME:AST
DTSTART:20231105T050000
END:STANDARD
BEGIN:DAYLIGHT
TZOFFSETFROM:-0400
TZOFFSETTO:-0300
TZNAME:ADT
DTSTART:20240310T060000
END:DAYLIGHT
BEGIN:STANDARD
TZOFFSETFROM:-0300
TZOFFSETTO:-0400
TZNAME:AST
DTSTART:20241103T050000
END:STANDARD
BEGIN:DAYLIGHT
TZOFFSETFROM:-0400
TZOFFSETTO:-0300
TZNAME:ADT
DTSTART:20250309T060000
END:DAYLIGHT
BEGIN:STANDARD
TZOFFSETFROM:-0300
TZOFFSETTO:-0400
TZNAME:AST
DTSTART:20251102T050000
END:STANDARD
END:VTIMEZONE
BEGIN:VEVENT
DTSTART;TZID=America/Halifax:20240706T093000
DTEND;TZID=America/Halifax:20240706T130000
DTSTAMP:20260421T070145
CREATED:20240705T164527Z
LAST-MODIFIED:20240706T000544Z
UID:3398-1720258200-1720270800@www.unitedtapestry.com
SUMMARY:July 6 Market Day
DESCRIPTION:This week at the Market\nArt\, cards and nature inspired crafts with Laughing Lupins – Shelley Racz ART\nFree range chicken and eggs with Perkins Polyculture Farm \nVisual  Art with Paintings by Kathy\nCrafted Farm to Table beer and cider with Sea Level Brewing\nArt and repurposed treasures with Chase Lane Creations\nPottery with Rousseau Pottery  Sorry to say Rose had had to cancel and we hope to welcome her on another date\nPurses\, bags and more with Not Just Leather Repairs\nYummy baked treats with Baking with CLASS\nFresh Veggies with Wandering Farm\nFresh Baked Bread \, Salves \, Teas and Candles with North Mountain Uprising\nHand made soap withLife On Harmony Street\nBrewed Coffee\, cold drinks and gluten free treats with Kate’s Pantry Coffee Shop\nHand carved bowls with Pete’s Creations \nFresh and dried Herbs\, Rosemary plantlets Woodlawn Hollow Homestead \nAND \nmusic with our own Zakary Miller \n \n  \n\n\n\n\n\n\n\n\n\n\n\n\n\n\n\n\n\n\nAND IF IT RAINS
URL:https://www.unitedtapestry.com/event/july-6-market-day/
LOCATION:North Mountain United Tapestry\, 3201 Long Point Road\, Harbourville\, Nova Scotia\, B0P 1E0\, Canada
ATTACH;FMTTYPE=image/png:https://www.unitedtapestry.com/wp-content/uploads/2024/04/Mermaid310-trans-bg.png
ORGANIZER;CN="North Mountain United Tapestry":MAILTO:unitedtapestry@gmail.com
END:VEVENT
END:VCALENDAR