BEGIN:VCALENDAR
VERSION:2.0
PRODID:-//North Mountain United Tapestry - ECPv6.15.20//NONSGML v1.0//EN
CALSCALE:GREGORIAN
METHOD:PUBLISH
X-ORIGINAL-URL:https://www.unitedtapestry.com
X-WR-CALDESC:Events for North Mountain United Tapestry
REFRESH-INTERVAL;VALUE=DURATION:PT1H
X-Robots-Tag:noindex
X-PUBLISHED-TTL:PT1H
BEGIN:VTIMEZONE
TZID:America/Halifax
BEGIN:DAYLIGHT
TZOFFSETFROM:-0400
TZOFFSETTO:-0300
TZNAME:ADT
DTSTART:20230312T060000
END:DAYLIGHT
BEGIN:STANDARD
TZOFFSETFROM:-0300
TZOFFSETTO:-0400
TZNAME:AST
DTSTART:20231105T050000
END:STANDARD
BEGIN:DAYLIGHT
TZOFFSETFROM:-0400
TZOFFSETTO:-0300
TZNAME:ADT
DTSTART:20240310T060000
END:DAYLIGHT
BEGIN:STANDARD
TZOFFSETFROM:-0300
TZOFFSETTO:-0400
TZNAME:AST
DTSTART:20241103T050000
END:STANDARD
BEGIN:DAYLIGHT
TZOFFSETFROM:-0400
TZOFFSETTO:-0300
TZNAME:ADT
DTSTART:20250309T060000
END:DAYLIGHT
BEGIN:STANDARD
TZOFFSETFROM:-0300
TZOFFSETTO:-0400
TZNAME:AST
DTSTART:20251102T050000
END:STANDARD
END:VTIMEZONE
BEGIN:VEVENT
DTSTART;TZID=America/Halifax:20240720T093000
DTEND;TZID=America/Halifax:20240720T130000
DTSTAMP:20260421T083124
CREATED:20240718T191528Z
LAST-MODIFIED:20240719T174050Z
UID:3414-1721467800-1721480400@www.unitedtapestry.com
SUMMARY:July 20 Market Day!
DESCRIPTION:We are looking forward to a great Saturday Market this week on the 20th! \nHere is a flashback to last week   \nWe sure enjoyed the music of   Mike Aube  \nThis week Don Denny! \nExpected vendors as of Thursday…. \nArt\, cards and nature inspired crafts with Laughing Lupins – Shelley Racz ART \nFree range chicken and eggs with Perkins Polyculture Farm \nVisual  Art with Paintings by Kathy \nCrafted Farm to Table beer and cider with Sea Level Brewing \nArt and repurposed treasures with Chase Lane Creations \nPottery with Wild Horse Pottery \nYummy baked treats with Baking with CLASS \nBrewed Coffee\, cold drinks and gluten free treats with Kate’s Pantry Coffee Shop \nHand carved bowls  and more with Pete’s Creations                                                                                                              \nFarm Fresh Veggies with Wandering Farms \nFlower bouquets herbs\, upcycled aprons\, body bars(lotion) from the Petal Farm \nAmazing food  for your soul with Molotov Cuisine. \nHandmade Soap with Life on Harmony Street \nStorm Acker’s handmade Neck’ed \nSourdough  bread\, bagels and baguettes\, probably cardamom buns and healing salves from North Mountain Uprising \nTwig Furniture\, dried and fresh herbs from Woodlawn Hollow \nMusic with Don Denny \nA North Mountain Market Favourite! Don plays keyboard and sings songs about life\, love\, hopes and dreams from five or six decades of your best memories! \nVisit Site \n  \nThis week’s map\n \n  \n 
URL:https://www.unitedtapestry.com/event/july-20-market-day/
LOCATION:North Mountain United Tapestry\, 3201 Long Point Road\, Harbourville\, Nova Scotia\, B0P 1E0\, Canada
CATEGORIES:Market Day
ORGANIZER;CN="North Mountain United Tapestry":MAILTO:unitedtapestry@gmail.com
END:VEVENT
END:VCALENDAR