BEGIN:VCALENDAR
VERSION:2.0
PRODID:-//North Mountain United Tapestry - ECPv6.15.20//NONSGML v1.0//EN
CALSCALE:GREGORIAN
METHOD:PUBLISH
X-ORIGINAL-URL:https://www.unitedtapestry.com
X-WR-CALDESC:Events for North Mountain United Tapestry
REFRESH-INTERVAL;VALUE=DURATION:PT1H
X-Robots-Tag:noindex
X-PUBLISHED-TTL:PT1H
BEGIN:VTIMEZONE
TZID:America/Halifax
BEGIN:DAYLIGHT
TZOFFSETFROM:-0400
TZOFFSETTO:-0300
TZNAME:ADT
DTSTART:20230312T060000
END:DAYLIGHT
BEGIN:STANDARD
TZOFFSETFROM:-0300
TZOFFSETTO:-0400
TZNAME:AST
DTSTART:20231105T050000
END:STANDARD
BEGIN:DAYLIGHT
TZOFFSETFROM:-0400
TZOFFSETTO:-0300
TZNAME:ADT
DTSTART:20240310T060000
END:DAYLIGHT
BEGIN:STANDARD
TZOFFSETFROM:-0300
TZOFFSETTO:-0400
TZNAME:AST
DTSTART:20241103T050000
END:STANDARD
BEGIN:DAYLIGHT
TZOFFSETFROM:-0400
TZOFFSETTO:-0300
TZNAME:ADT
DTSTART:20250309T060000
END:DAYLIGHT
BEGIN:STANDARD
TZOFFSETFROM:-0300
TZOFFSETTO:-0400
TZNAME:AST
DTSTART:20251102T050000
END:STANDARD
END:VTIMEZONE
BEGIN:VEVENT
DTSTART;TZID=America/Halifax:20240721T190000
DTEND;TZID=America/Halifax:20240721T210000
DTSTAMP:20260421T055156
CREATED:20240624T170226Z
LAST-MODIFIED:20240721T173909Z
UID:3372-1721588400-1721595600@www.unitedtapestry.com
SUMMARY:Freya Miliken
DESCRIPTION:CANCELLED\nJoin us Sunday July 21\, 2024 for an evening with  award-winning singer-songwriter\, Freya Miliken. Freya returns to our stage for a much anticipated solo concert. Freya released her debut EP Wholeheartedly  in 2023 and she was immediately recognized as one of the Maritime’s finest songwriters . The title track received Music New Brunswick’s award for Song of the Year. Freya has also been recently commissioned by Symphony Nova Scotia to compose for the Lullaby Songs Project\, in addition to United Way’s Songs of the City. Come to our historic little church on the bluff in Harbourville\, Nova Scotia for a summer evening you won’t soon forget. \nTickets and info \nmusic@unitedtapestry.com \n902-599-4808 \netransfer music@unitedtapestry.com \nQuestion: Which concert? \nAnswer: freya \nSee Freya Live on Youtube \n 
URL:https://www.unitedtapestry.com/event/freya-milikin/
LOCATION:North Mountain United Tapestry\, 3201 Long Point Road\, Harbourville\, Nova Scotia\, B0P 1E0\, Canada
CATEGORIES:Concerts
ATTACH;FMTTYPE=image/jpeg:https://www.unitedtapestry.com/wp-content/uploads/2024/06/cancelled.jpg
ORGANIZER;CN="North Mountain United Tapestry":MAILTO:unitedtapestry@gmail.com
END:VEVENT
END:VCALENDAR