BEGIN:VCALENDAR
VERSION:2.0
PRODID:-//North Mountain United Tapestry - ECPv6.15.20//NONSGML v1.0//EN
CALSCALE:GREGORIAN
METHOD:PUBLISH
X-ORIGINAL-URL:https://www.unitedtapestry.com
X-WR-CALDESC:Events for North Mountain United Tapestry
REFRESH-INTERVAL;VALUE=DURATION:PT1H
X-Robots-Tag:noindex
X-PUBLISHED-TTL:PT1H
BEGIN:VTIMEZONE
TZID:America/Halifax
BEGIN:DAYLIGHT
TZOFFSETFROM:-0400
TZOFFSETTO:-0300
TZNAME:ADT
DTSTART:20230312T060000
END:DAYLIGHT
BEGIN:STANDARD
TZOFFSETFROM:-0300
TZOFFSETTO:-0400
TZNAME:AST
DTSTART:20231105T050000
END:STANDARD
BEGIN:DAYLIGHT
TZOFFSETFROM:-0400
TZOFFSETTO:-0300
TZNAME:ADT
DTSTART:20240310T060000
END:DAYLIGHT
BEGIN:STANDARD
TZOFFSETFROM:-0300
TZOFFSETTO:-0400
TZNAME:AST
DTSTART:20241103T050000
END:STANDARD
BEGIN:DAYLIGHT
TZOFFSETFROM:-0400
TZOFFSETTO:-0300
TZNAME:ADT
DTSTART:20250309T060000
END:DAYLIGHT
BEGIN:STANDARD
TZOFFSETFROM:-0300
TZOFFSETTO:-0400
TZNAME:AST
DTSTART:20251102T050000
END:STANDARD
END:VTIMEZONE
BEGIN:VEVENT
DTSTART;TZID=America/Halifax:20240810T093000
DTEND;TZID=America/Halifax:20240810T130000
DTSTAMP:20260421T035955
CREATED:20240809T200849Z
LAST-MODIFIED:20240809T200849Z
UID:3459-1723282200-1723294800@www.unitedtapestry.com
SUMMARY:August 10 Market Day!
DESCRIPTION:  \nWe are all cozied up inside if it rains.  Join us from 9:30am-1pm\nThis is how we celebrated last time we cozied up! \n \nThis week Music with Andrew Hill  \nExpected vendors as of Friday…\n\n1 Free range chicken and eggs with Perkins Polyculture Farm\n2 Visual  Art with Paintings by Kathy\n3 Crafted Farm to Table beer and cider with Sea Level Brewing\n4 Yummy baked treats with Baking with CLASS\n5 Brewed Coffee\, cold drinks and gluten free treats with Kate’s Pantry Coffee Shop\n6 Farm Fresh Veggies with Wandering Farm\n7 Handspun alpacas yarn\, knitted\, wooden\, felted items. Hand dyed 100% silk scarves.  Essential oil products from Silvery Moon Alpacas Farm \n9 Dahlia Bouquets from Kate Cowley\n10 Jewelry from Shannon graves\n11 Flower bouquets herbs\, upcycled aprons\, body bars(lotion) from the Petal Farm\n12  Twig Furniture\, dried herbs and teas\, FREEZIES  from Woodlawn Hollow\n13 Art with  Chilean artist Pamela Ciudad  PameFagus (@pamefagus_) • Instagram photos and videos\n14. Hand sewn aprons and other lovelies from Sew and Sew\n15. Original art work\, bird/bath feeders created from thrifted glassware from Chase Lane Creations  \nAND\nTHE LAUNCH OF OUR\n \n\n  \n  \nThis week’s map\n \n  \n  \n  \n 
URL:https://www.unitedtapestry.com/event/august-10-market-day/
LOCATION:North Mountain United Tapestry\, 3201 Long Point Road\, Harbourville\, Nova Scotia\, B0P 1E0\, Canada
CATEGORIES:Market Day
ORGANIZER;CN="North Mountain United Tapestry":MAILTO:unitedtapestry@gmail.com
END:VEVENT
END:VCALENDAR