BEGIN:VCALENDAR
VERSION:2.0
PRODID:-//North Mountain United Tapestry - ECPv6.15.20//NONSGML v1.0//EN
CALSCALE:GREGORIAN
METHOD:PUBLISH
X-WR-CALNAME:North Mountain United Tapestry
X-ORIGINAL-URL:https://www.unitedtapestry.com
X-WR-CALDESC:Events for North Mountain United Tapestry
REFRESH-INTERVAL;VALUE=DURATION:PT1H
X-Robots-Tag:noindex
X-PUBLISHED-TTL:PT1H
BEGIN:VTIMEZONE
TZID:America/Halifax
BEGIN:DAYLIGHT
TZOFFSETFROM:-0400
TZOFFSETTO:-0300
TZNAME:ADT
DTSTART:20230312T060000
END:DAYLIGHT
BEGIN:STANDARD
TZOFFSETFROM:-0300
TZOFFSETTO:-0400
TZNAME:AST
DTSTART:20231105T050000
END:STANDARD
BEGIN:DAYLIGHT
TZOFFSETFROM:-0400
TZOFFSETTO:-0300
TZNAME:ADT
DTSTART:20240310T060000
END:DAYLIGHT
BEGIN:STANDARD
TZOFFSETFROM:-0300
TZOFFSETTO:-0400
TZNAME:AST
DTSTART:20241103T050000
END:STANDARD
BEGIN:DAYLIGHT
TZOFFSETFROM:-0400
TZOFFSETTO:-0300
TZNAME:ADT
DTSTART:20250309T060000
END:DAYLIGHT
BEGIN:STANDARD
TZOFFSETFROM:-0300
TZOFFSETTO:-0400
TZNAME:AST
DTSTART:20251102T050000
END:STANDARD
END:VTIMEZONE
BEGIN:VEVENT
DTSTART;TZID=America/Halifax:20240817T093000
DTEND;TZID=America/Halifax:20240817T130000
DTSTAMP:20260421T035739
CREATED:20240815T013602Z
LAST-MODIFIED:20240817T000840Z
UID:3465-1723887000-1723899600@www.unitedtapestry.com
SUMMARY:August 17 Market Day!
DESCRIPTION:  \n  Join us from 9:30 AM to 1PM\n We had a great time\nLast Week at the Market\nThank you!\n \nThis week Music with our very own BLACK ROCK BUOYS\nExpected vendors as of Wednesday…\n\n1 Free range chicken and eggs with Perkins Polyculture Farm\n2 Visual  Art with Paintings by Kathy\n3 Crafted Farm to Table beer and cider with Sea Level Brewing\n4 Yummy baked treats with Baking with CLASS\n5 Brewed Coffee\, cold drinks and gluten free treats with Kate’s Pantry Coffee Shop\n6 Farm Fresh Veggies with Wandering Farm\n7 Handspun alpacas yarn\, knitted\, wooden\, felted items. Hand dyed 100% silk scarves.  Essential oil products from Silvery Moon Alpacas Farm \n9 Theresa McLean Author\n10 Jewelry from Shannon Graves\n11 Flower bouquets herbs from the Petal Farm\n12  Twig Furniture\, dried herbs and teas\, FREEZIES  from Woodlawn Hollow\n13  Christine Faour Author PLUS lavender fresh and dried and other surprises..yummy surprises!\n14.Healing Herbs\, BREAD\, and so much more with  North Mountain Uprising!   \n15. Original art work\, bird/bath feeders created from thrifted glassware from Chase Lane Creations  \n16  Cupcakes\, hand pies and other yummy baked goods from Burrows Bakes \n17 Pottery with Two Rivers Pottery \nAND\nFor the Kiddos\n \nThis week’s map\n \n  \n  \n  \n  \n 
URL:https://www.unitedtapestry.com/event/august-17-market-day/
LOCATION:North Mountain United Tapestry\, 3201 Long Point Road\, Harbourville\, Nova Scotia\, B0P 1E0\, Canada
CATEGORIES:Market Day
ATTACH;FMTTYPE=image/png:https://www.unitedtapestry.com/wp-content/uploads/2024/04/Mermaid310-trans-bg.png
ORGANIZER;CN="North Mountain United Tapestry":MAILTO:unitedtapestry@gmail.com
END:VEVENT
END:VCALENDAR