BEGIN:VCALENDAR
VERSION:2.0
PRODID:-//North Mountain United Tapestry - ECPv6.15.20//NONSGML v1.0//EN
CALSCALE:GREGORIAN
METHOD:PUBLISH
X-WR-CALNAME:North Mountain United Tapestry
X-ORIGINAL-URL:https://www.unitedtapestry.com
X-WR-CALDESC:Events for North Mountain United Tapestry
REFRESH-INTERVAL;VALUE=DURATION:PT1H
X-Robots-Tag:noindex
X-PUBLISHED-TTL:PT1H
BEGIN:VTIMEZONE
TZID:America/Halifax
BEGIN:DAYLIGHT
TZOFFSETFROM:-0400
TZOFFSETTO:-0300
TZNAME:ADT
DTSTART:20230312T060000
END:DAYLIGHT
BEGIN:STANDARD
TZOFFSETFROM:-0300
TZOFFSETTO:-0400
TZNAME:AST
DTSTART:20231105T050000
END:STANDARD
BEGIN:DAYLIGHT
TZOFFSETFROM:-0400
TZOFFSETTO:-0300
TZNAME:ADT
DTSTART:20240310T060000
END:DAYLIGHT
BEGIN:STANDARD
TZOFFSETFROM:-0300
TZOFFSETTO:-0400
TZNAME:AST
DTSTART:20241103T050000
END:STANDARD
BEGIN:DAYLIGHT
TZOFFSETFROM:-0400
TZOFFSETTO:-0300
TZNAME:ADT
DTSTART:20250309T060000
END:DAYLIGHT
BEGIN:STANDARD
TZOFFSETFROM:-0300
TZOFFSETTO:-0400
TZNAME:AST
DTSTART:20251102T050000
END:STANDARD
END:VTIMEZONE
BEGIN:VEVENT
DTSTART;TZID=America/Halifax:20240818T110000
DTEND;TZID=America/Halifax:20240818T120000
DTSTAMP:20260421T070247
CREATED:20240514T142335Z
LAST-MODIFIED:20240624T174015Z
UID:3298-1723978800-1723982400@www.unitedtapestry.com
SUMMARY:August 18th Church Service
DESCRIPTION:  \nWe are pleased to welcome the community to four church services this year on June 30\, July 14 and August 18\, 2024 at North Mountain United Tapestry at 11 am with Minister Sheila  Redden-Smith AND of course our wonderful community led Christmas Eve Service at 5:30 on Dec 24th. \n \nHarbourville United Church\n The Harbourville Church has a long history of service to this small community on the shores of the Bay of Fundy. In 1857 John Lathcrn. a ‘second man’ to the Methodist pastor in the Cornwallis district\, developed an interest in the Fundy Shore. Three years later the church in Harbourville was designed b Rev. George Butcher\, a Methodist pastor. and built by John Clark. Construction costs were approximately $1000.00 and the church opened for use in 1860.\n          Over the years. the people of the Harbourville community held many fund-raising events on behalf of the little church on the cliffs to equip it with pews\, altar cloths\, hymn books\, and other furnishings. In 1925. the little Methodist church became the Harbourville United Church and to this day is part of the charge ministered from Berwick United.\n       Improvements have been made and through a seven – generation history has been cared for by the community members\, especially the women of the Ladies’ Sewing Circle. The ecumenical nature of the church is emphasized today\, welcoming all members of the community. Like the community our church has a long and rich history on the shores of the Bay.\n      Since 2013 Harbourville United with the vision of “North Mountain Tapestry”  has evolved to become a gathering place for the local community offering a weekly summer farmers market\, craft displays\, concerts and interesting speakers. We also hold 3 summer worship services and a Community led Christmas Eve Service
URL:https://www.unitedtapestry.com/event/august-18th-church-service/
LOCATION:North Mountain United Tapestry\, 3201 Long Point Road\, Harbourville\, Nova Scotia\, B0P 1E0\, Canada
CATEGORIES:Church Services
ATTACH;FMTTYPE=image/jpeg:https://www.unitedtapestry.com/wp-content/uploads/2023/06/301819959_524509096216541_1997318002147571523_n-1-1.jpg
ORGANIZER;CN="Berwick United Church of Canada":MAILTO:bertrin@eastlink.ca
END:VEVENT
BEGIN:VEVENT
DTSTART;TZID=America/Halifax:20241224T173000
DTEND;TZID=America/Halifax:20241224T173000
DTSTAMP:20260421T070247
CREATED:20240514T142934Z
LAST-MODIFIED:20240514T142934Z
UID:3300-1735061400-1735061400@www.unitedtapestry.com
SUMMARY:December 24th Christmas Eve Service
DESCRIPTION:  \n \nHarbourville United Church\n The Harbourville Church has a long history of service to this small community on the shores of the Bay of Fundy. In 1857 John Lathcrn. a ‘second man’ to the Methodist pastor in the Cornwallis district\, developed an interest in the Fundy Shore. Three years later the church in Harbourville was designed b Rev. George Butcher\, a Methodist pastor. and built by John Clark. Construction costs were approximately $1000.00 and the church opened for use in 1860.\n          Over the years. the people of the Harbourville community held many fund-raising events on behalf of the little church on the cliffs to equip it with pews\, altar cloths\, hymn books\, and other furnishings. In 1925. the little Methodist church became the Harbourville United Church and to this day is part of the charge ministered from Berwick United.\n       Improvements have been made and through a seven – generation history has been cared for by the community members\, especially the women of the Ladies’ Sewing Circle. The ecumenical nature of the church is emphasized today\, welcoming all members of the community. Like the community our church has a long and rich history on the shores of the Bay.\n      Since 2013 Harbourville United with the vision of “North Mountain Tapestry”  has evolved to become a gathering place for the local community offering a weekly summer farmers market\, craft displays\, concerts and interesting speakers. We also hold 3 summer worship services and a Community led Christmas Eve Service
URL:https://www.unitedtapestry.com/event/december-24th-christmas-eve-service/
LOCATION:North Mountain United Tapestry\, 3201 Long Point Road\, Harbourville\, Nova Scotia\, B0P 1E0\, Canada
CATEGORIES:Church Services
ATTACH;FMTTYPE=image/jpeg:https://www.unitedtapestry.com/wp-content/uploads/2023/05/327173925_715882610247654_105359090017896207_n.jpg
ORGANIZER;CN="Berwick United Church of Canada":MAILTO:bertrin@eastlink.ca
END:VEVENT
BEGIN:VEVENT
DTSTART;TZID=America/Halifax:20240818T190000
DTEND;TZID=America/Halifax:20240818T210000
DTSTAMP:20260421T070247
CREATED:20240726T164309Z
LAST-MODIFIED:20240726T164808Z
UID:3444-1724007600-1724014800@www.unitedtapestry.com
SUMMARY:Zakary Miller and the Res-O-Matics
DESCRIPTION:Wow\, what an evening! A delightful and virtuosic journey through musical history! Zakary Miller revives hilarious and overlooked tunes from the past\, breathing new life into them. His original work mirrors this\, encapsulating the whimsy of life on Earth with a classic\, yodeling twist. The Res-O-Matics deliver acoustic blues with a focus on the early to mid-20th Century sound. With Micheal Robertson on guitar and resonator\, Jeff Barteaux on the harp\, Alexa Jaffurs on the upright bass\, and Ray DeVries on the hand drum\, it’s an event not to be missed!
URL:https://www.unitedtapestry.com/event/zakary-miller-and-the-res-o-matics/
LOCATION:North Mountain United Tapestry\, 3201 Long Point Road\, Harbourville\, Nova Scotia\, B0P 1E0\, Canada
CATEGORIES:Concerts
ATTACH;FMTTYPE=image/jpeg:https://www.unitedtapestry.com/wp-content/uploads/2024/07/POster.jpg
ORGANIZER;CN="North Mountain United Tapestry":MAILTO:unitedtapestry@gmail.com
END:VEVENT
END:VCALENDAR