BEGIN:VCALENDAR
VERSION:2.0
PRODID:-//North Mountain United Tapestry - ECPv6.15.20//NONSGML v1.0//EN
CALSCALE:GREGORIAN
METHOD:PUBLISH
X-WR-CALNAME:North Mountain United Tapestry
X-ORIGINAL-URL:https://www.unitedtapestry.com
X-WR-CALDESC:Events for North Mountain United Tapestry
REFRESH-INTERVAL;VALUE=DURATION:PT1H
X-Robots-Tag:noindex
X-PUBLISHED-TTL:PT1H
BEGIN:VTIMEZONE
TZID:America/Halifax
BEGIN:DAYLIGHT
TZOFFSETFROM:-0400
TZOFFSETTO:-0300
TZNAME:ADT
DTSTART:20230312T060000
END:DAYLIGHT
BEGIN:STANDARD
TZOFFSETFROM:-0300
TZOFFSETTO:-0400
TZNAME:AST
DTSTART:20231105T050000
END:STANDARD
BEGIN:DAYLIGHT
TZOFFSETFROM:-0400
TZOFFSETTO:-0300
TZNAME:ADT
DTSTART:20240310T060000
END:DAYLIGHT
BEGIN:STANDARD
TZOFFSETFROM:-0300
TZOFFSETTO:-0400
TZNAME:AST
DTSTART:20241103T050000
END:STANDARD
BEGIN:DAYLIGHT
TZOFFSETFROM:-0400
TZOFFSETTO:-0300
TZNAME:ADT
DTSTART:20250309T060000
END:DAYLIGHT
BEGIN:STANDARD
TZOFFSETFROM:-0300
TZOFFSETTO:-0400
TZNAME:AST
DTSTART:20251102T050000
END:STANDARD
END:VTIMEZONE
BEGIN:VEVENT
DTSTART;TZID=America/Halifax:20240915T163000
DTEND;TZID=America/Halifax:20240915T203000
DTSTAMP:20260421T023207
CREATED:20240906T175750Z
LAST-MODIFIED:20240906T175807Z
UID:3517-1726417800-1726432200@www.unitedtapestry.com
SUMMARY:Gala-The Ways In Which We Gather
DESCRIPTION:Celebrating The Ways In Which We GatherOver 10 years ago\, there was talk of our little church building being sold. A group of like-intentioned individuals were determined to preserve this space as a place to foster and continue to grow a community based on the values of local commerce\, wellness & spirituality\, sustainability\, history and art.Like many other spaces in our surrounding communities\, the North Mountain United Tapestry became a place for people to gather in a collection of ways.Join us Sunday\, September 15th at 4:30 as we celebrate 10 years of gathering with the North Mountain United Tapestry at 3201 Long Point Rd\, Harbourville\, NS.Hear the story of how visions of Tapestry ignited from around the kitchen table\, share in what Tapestry is today and celebrate with us what it can become.We can’t wait for you to join us.
URL:https://www.unitedtapestry.com/event/galathe-ways-in-which-we-gather/
LOCATION:North Mountain United Tapestry\, 3201 Long Point Road\, Harbourville\, Nova Scotia\, B0P 1E0\, Canada
CATEGORIES:Concerts
ATTACH;FMTTYPE=image/jpeg:https://www.unitedtapestry.com/wp-content/uploads/2024/09/GALA-Poster.jpg
ORGANIZER;CN="North Mountain United Tapestry":MAILTO:unitedtapestry@gmail.com
END:VEVENT
END:VCALENDAR