BEGIN:VCALENDAR
VERSION:2.0
PRODID:-//North Mountain United Tapestry - ECPv6.15.20//NONSGML v1.0//EN
CALSCALE:GREGORIAN
METHOD:PUBLISH
X-ORIGINAL-URL:https://www.unitedtapestry.com
X-WR-CALDESC:Events for North Mountain United Tapestry
REFRESH-INTERVAL;VALUE=DURATION:PT1H
X-Robots-Tag:noindex
X-PUBLISHED-TTL:PT1H
BEGIN:VTIMEZONE
TZID:America/Halifax
BEGIN:DAYLIGHT
TZOFFSETFROM:-0400
TZOFFSETTO:-0300
TZNAME:ADT
DTSTART:20230312T060000
END:DAYLIGHT
BEGIN:STANDARD
TZOFFSETFROM:-0300
TZOFFSETTO:-0400
TZNAME:AST
DTSTART:20231105T050000
END:STANDARD
BEGIN:DAYLIGHT
TZOFFSETFROM:-0400
TZOFFSETTO:-0300
TZNAME:ADT
DTSTART:20240310T060000
END:DAYLIGHT
BEGIN:STANDARD
TZOFFSETFROM:-0300
TZOFFSETTO:-0400
TZNAME:AST
DTSTART:20241103T050000
END:STANDARD
BEGIN:DAYLIGHT
TZOFFSETFROM:-0400
TZOFFSETTO:-0300
TZNAME:ADT
DTSTART:20250309T060000
END:DAYLIGHT
BEGIN:STANDARD
TZOFFSETFROM:-0300
TZOFFSETTO:-0400
TZNAME:AST
DTSTART:20251102T050000
END:STANDARD
END:VTIMEZONE
BEGIN:VEVENT
DTSTART;TZID=America/Halifax:20240921T093000
DTEND;TZID=America/Halifax:20240921T130000
DTSTAMP:20260420T232254
CREATED:20240830T164518Z
LAST-MODIFIED:20240920T232333Z
UID:3496-1726911000-1726923600@www.unitedtapestry.com
SUMMARY:September 21 Market Day!
DESCRIPTION:  \n  Join us from 9:30 AM to 1PM\nCome Gather With Us!\nThe Danny Arnold Memorial Fund will be collecting donations for the Berwick Food Bank by selling gorgeous Chinese lanterns for your fall bouquets and decorations. Danny is remembered as  a special young man who had a genuine love for animals and worked at our local meat market on his days away from 4H \,  sports ( soccer\, swimming) and Black Rock youth group activities. He spent his quiet time reading.  His parents\, John and Valerie \, are great supporters of our market.  Please be generous in your donations to the food bank and take home a a beautiful bouquet as a thank you. \nDanny Arnold beloved son\, brother\, grandson\, nephew\, cousin and friend 1997 -2013 \n. \n  \n  \n  \n\nOur Steeplechase has begun!\nWe are raising money to restore our steeple. Our  silent auction items can be viewed and bid on! \n\nThe Bird House- an exceptional piece of art from Terry Robison fresh from his recent exhibition at the Acadia Art Gallery-current bid $500\nIsle Haute- a painting of a beloved iconic island  by beloved Harbourville Artist Debbie Greenwood\nCape Split- a photograph of an incredible hiking destination for thousands by well known Black Rock photographer  Dick Killam\nQuilted Canada- quilted by the mum of one of our favourite and best fundraisers ..shhhhh some folks are so humble!\n Bay of Fundy but Carlie…more info to follow\n		\n		\n			\n				\n			\n			\n				\n			\n			\n				\n			\n			\n				\n			\n		\n\n\n  \nMusic with the fabulous  Kim Doolittle\n \n  \nOur Vendors\n1 Free range chicken and eggs with Perkins Polyculture Farm \n2 Visual  Art with Paintings by Kathy \n3 Crafted Farm to Table beer and cider with Sea Level Brewing \n4 Yummy baked treats with Baking with CLASS \n5 Brewed Coffee\, cold drinks and gluten free treats with Kate’s Pantry Coffee Shop \n6 Farm Fresh Veggies with Wandering Farm \n7 Handspun alpacas yarn\, knitted\, wooden\, felted items. Hand dyed 100% silk scarves.  Essential oil products from Silvery Moon Alpacas Farm  \n8. Beautiful colourful art with  Paintings by Arnold  \n9.  Christine Faour Author PLUS lavender fresh and dried and other surprises..yummy surprises! \n10. Handwoven Creations and Art PLUS Houseplants with Ani van Dyk \n11. Art\, cards and treasures with Laughing Lupins \n12. Delicious baked cakes  and treats from Burrows Bakes \nAND\nFor the Children\n Express yourself! For the young and young at heart. Self guided painting with paint brushes and paper supplied\, dress up clothes and more. North Mountain Market Creation Station welcomes our young friend Vicki who is helping out this week! Vicki is the daughter of Arnold of Paintings by Arnold \n \nThis week’s map\n \n  \n  \n  \n  \n  \n 
URL:https://www.unitedtapestry.com/event/september-21-market-day/
LOCATION:North Mountain United Tapestry\, 3201 Long Point Road\, Harbourville\, Nova Scotia\, B0P 1E0\, Canada
CATEGORIES:Market Day
ATTACH;FMTTYPE=image/png:https://www.unitedtapestry.com/wp-content/uploads/2024/04/Mermaid310-trans-bg.png
ORGANIZER;CN="North Mountain United Tapestry":MAILTO:unitedtapestry@gmail.com
END:VEVENT
END:VCALENDAR