BEGIN:VCALENDAR
VERSION:2.0
PRODID:-//North Mountain United Tapestry - ECPv6.15.20//NONSGML v1.0//EN
CALSCALE:GREGORIAN
METHOD:PUBLISH
X-ORIGINAL-URL:https://www.unitedtapestry.com
X-WR-CALDESC:Events for North Mountain United Tapestry
REFRESH-INTERVAL;VALUE=DURATION:PT1H
X-Robots-Tag:noindex
X-PUBLISHED-TTL:PT1H
BEGIN:VTIMEZONE
TZID:America/Halifax
BEGIN:DAYLIGHT
TZOFFSETFROM:-0400
TZOFFSETTO:-0300
TZNAME:ADT
DTSTART:20230312T060000
END:DAYLIGHT
BEGIN:STANDARD
TZOFFSETFROM:-0300
TZOFFSETTO:-0400
TZNAME:AST
DTSTART:20231105T050000
END:STANDARD
BEGIN:DAYLIGHT
TZOFFSETFROM:-0400
TZOFFSETTO:-0300
TZNAME:ADT
DTSTART:20240310T060000
END:DAYLIGHT
BEGIN:STANDARD
TZOFFSETFROM:-0300
TZOFFSETTO:-0400
TZNAME:AST
DTSTART:20241103T050000
END:STANDARD
BEGIN:DAYLIGHT
TZOFFSETFROM:-0400
TZOFFSETTO:-0300
TZNAME:ADT
DTSTART:20250309T060000
END:DAYLIGHT
BEGIN:STANDARD
TZOFFSETFROM:-0300
TZOFFSETTO:-0400
TZNAME:AST
DTSTART:20251102T050000
END:STANDARD
END:VTIMEZONE
BEGIN:VEVENT
DTSTART;TZID=America/Halifax:20241005T093000
DTEND;TZID=America/Halifax:20241005T130000
DTSTAMP:20260420T215039
CREATED:20241004T161112Z
LAST-MODIFIED:20241004T170905Z
UID:3553-1728120600-1728133200@www.unitedtapestry.com
SUMMARY:October 5th Market Day!
DESCRIPTION:  \n  Join us from 9:30 AM to 1PM\nCome Gather With Us!\n \nOur Vendors\n1 Free range chicken and eggs with Perkins Polyculture Farm \n2 Visual  Art with Paintings by Kathy \n3 Crafted Farm to Table beer and cider with Sea Level Brewing \n4 Yummy baked treats with Baking with CLASS \n5 Brewed Coffee\, cold drinks and gluten free treats with Kate’s Pantry Coffee Shop \n6 Farm Fresh Veggies with Wandering Farm \n7 Handspun alpacas yarn\, knitted\, wooden\, felted items. Hand dyed 100% silk scarves.  Essential oil products from Silvery Moon Alpacas Farm  \n8. Beautiful colourful art with  Paintings by Arnold  \n10. (Not here if it is raining) Handwoven Creations and Art PLUS Houseplants with Ani van Dyk  \n11. Art\, cards and treasures with Laughing Lupins \n12.  Gorgeous Handmade soap from Life on Harmony Street \n13. Beverly’s Crafts  Lovely handcrafted seasonal wreaths \n  \nWin a Family Pass to Morse’s Farm Corn Maze!\nPumpkin palooza alert! Join Woodlawn Hollow Homestead and Morse’s Farm Ltd. for some gourd-geous fun. Come and guess how many pumpkins in the bucket and maybe you will win a family pass to the Morse’s Berwick corn maze – drawing on October 12th. See the video (and bucket of pumpkins below) \n \nOur Steeplechase has begun!\n \nWe are raising money to restore our steeple. Our silent auction items can be viewed at the market and bid on! \n\nThe Bird House- an exceptional piece of art from Terry Robison fresh from his recent exhibition at the Acadia Art Gallery-current bid $500\nIsle Haute- a painting of a beloved iconic island  by beloved Harbourville Artist Debbie Greenwood                       -current bid  $175\nCape Split- a photograph of an incredible hiking destination for thousands by well known Black Rock photographer  Dick Killam                                                                                                                                                             -current bid $100\nQuilted Canada- quilted by Barbara Hutchison \,mum of one of our favourite and best fundraisers ..shhhhh some folks are so humble!                                                                                                                            -current bid $150\n Beauty in the Bay painting  by Carley Carr former North Mountain United Tapestry board member       -current bid $75\nLighthouse painting by Kathy Williams beloved member of our North Mountain Market family              -current bid $100\nNEW Colourful Painting by Arnold -photograph to come!\n\n  \n\n		\n		\n			\n				\n			\n			\n				\n			\n			\n				\n			\n			\n				\n			\n			\n				\n			\n			\n				\n			\n		\n\n  \nTrad Music with Scott Henderson\n \nAND\nFor the Children\n Express yourself! For the young and young at heart. Self guided painting with paint brushes AND PUMPKINS supplied. North Mountain Market Creation Station welcomes our young friend Vicki who is helping out this week! Vicki is the daughter of Arnold of Paintings by Arnold \n \n  \n  \n  \n  \n  \n  \n 
URL:https://www.unitedtapestry.com/event/october-5th-market-day/
LOCATION:North Mountain United Tapestry\, 3201 Long Point Road\, Harbourville\, Nova Scotia\, B0P 1E0\, Canada
CATEGORIES:Market Day
ATTACH;FMTTYPE=image/png:https://www.unitedtapestry.com/wp-content/uploads/2024/04/Mermaid310-trans-bg.png
ORGANIZER;CN="North Mountain United Tapestry":MAILTO:unitedtapestry@gmail.com
END:VEVENT
END:VCALENDAR