BEGIN:VCALENDAR
VERSION:2.0
PRODID:-//North Mountain United Tapestry - ECPv6.15.20//NONSGML v1.0//EN
CALSCALE:GREGORIAN
METHOD:PUBLISH
X-WR-CALNAME:North Mountain United Tapestry
X-ORIGINAL-URL:https://www.unitedtapestry.com
X-WR-CALDESC:Events for North Mountain United Tapestry
REFRESH-INTERVAL;VALUE=DURATION:PT1H
X-Robots-Tag:noindex
X-PUBLISHED-TTL:PT1H
BEGIN:VTIMEZONE
TZID:America/Halifax
BEGIN:DAYLIGHT
TZOFFSETFROM:-0400
TZOFFSETTO:-0300
TZNAME:ADT
DTSTART:20240310T060000
END:DAYLIGHT
BEGIN:STANDARD
TZOFFSETFROM:-0300
TZOFFSETTO:-0400
TZNAME:AST
DTSTART:20241103T050000
END:STANDARD
BEGIN:DAYLIGHT
TZOFFSETFROM:-0400
TZOFFSETTO:-0300
TZNAME:ADT
DTSTART:20250309T060000
END:DAYLIGHT
BEGIN:STANDARD
TZOFFSETFROM:-0300
TZOFFSETTO:-0400
TZNAME:AST
DTSTART:20251102T050000
END:STANDARD
BEGIN:DAYLIGHT
TZOFFSETFROM:-0400
TZOFFSETTO:-0300
TZNAME:ADT
DTSTART:20260308T060000
END:DAYLIGHT
BEGIN:STANDARD
TZOFFSETFROM:-0300
TZOFFSETTO:-0400
TZNAME:AST
DTSTART:20261101T050000
END:STANDARD
END:VTIMEZONE
BEGIN:VEVENT
DTSTART;TZID=America/Halifax:20250222T130000
DTEND;TZID=America/Halifax:20250222T150000
DTSTAMP:20260420T120713
CREATED:20250214T173857Z
LAST-MODIFIED:20250214T173857Z
UID:3645-1740229200-1740236400@www.unitedtapestry.com
SUMMARY:2025 Annual General Meeting
DESCRIPTION:Agenda  Annual General Meeting  \nNorth Mountain United Tapestry Cultural & Heritage Society \nSunday February 22\, 2025 \nUnited Church\, Harbourville\, N.S. \n 1:30 pm           Welcome (Tiffany Doherty) \n1:35 pm           Business Meeting (Katrin Sommerfeld) \nCall to Order \nIntroductions \nApproval of Agenda \nApproval of Minutes from 2024 AGM \nRegular Business Items: \nBoard Member Nominations \nSpecial Resolution (see below) \n1:50 pm           Chair’s Report on 2024 (Tiffany Doherty) \n2:00 pm           Treasurer’s Report (Andy Magee & Katrin Sommerfeld) \n2:20 pm           Committee Reports: \nNorth Mountain Market Report (Kate MacInnes Adams) \nMusic Report (Kate MacInnes Adams) \nHistory Committee Report (Pat Kemp) \nWorkshop & Fundraiser Report (Philip Hare) \n2:40 pm      New Business for 2025 (Tiffany Doherty & Katrin Sommerfeld) \nAppointment of new board members \n3:00 pm      Adjournment \nSOCIAL  coffee tea and sweets and live music by Cuckoo Moon \n\nNotification of Special Resolution to North Mountain United Tapestry Cultural & Heritage Society By-Laws\n\n\nDuring the Annual General Meeting on February 22\, 2025 Tapestry’s Membership will vote on the following proposed changes to Article 39 of the Society’s By-Laws:\n\n\nCurrent Article 39:\n\n\nOne of the officers shall be the Secretary. The Secretary Shall:\n\n\na. have responsibility for the preparation and custody of all books and records\n\n\nincluding:\n\n\nb. the publicity\, such as newspaper articles\, newsletters and event flyers.\n\n\nc. who is responsible for recording minutes of all board and members meetings\n\n\nd. updated register of members\, and email subscribers\n\n\nProposed Changes to Article 39:\n\n\nOne of the officers shall be the Secretary. The Secretary Shall:\n\n\na. be the person who is responsible for recording the minutes of all board\, annual\n\n\ngeneral and members meetings\, and keeping these records and documents.\n\n\nb. updated register of members\, and Tapestry’s email subscriber lists on Mailchimp.\n\n\nc. coordinate the volunteer(s) supporting the Society’s publicity\, such as newspaper\n\n\narticles\, newsletters and event flyers and be the liaison to the Directors of the\n\n\nSociety.\n\n 
URL:https://www.unitedtapestry.com/event/2025-annual-general-meeting/
LOCATION:North Mountain United Tapestry\, 3201 Long Point Road\, Harbourville\, Nova Scotia\, B0P 1E0\, Canada
CATEGORIES:Other Events
ATTACH;FMTTYPE=image/png:https://www.unitedtapestry.com/wp-content/uploads/2025/02/AGM-notice.png
END:VEVENT
END:VCALENDAR