BEGIN:VCALENDAR
VERSION:2.0
PRODID:-//North Mountain United Tapestry - ECPv6.15.20//NONSGML v1.0//EN
CALSCALE:GREGORIAN
METHOD:PUBLISH
X-WR-CALNAME:North Mountain United Tapestry
X-ORIGINAL-URL:https://www.unitedtapestry.com
X-WR-CALDESC:Events for North Mountain United Tapestry
REFRESH-INTERVAL;VALUE=DURATION:PT1H
X-Robots-Tag:noindex
X-PUBLISHED-TTL:PT1H
BEGIN:VTIMEZONE
TZID:America/Halifax
BEGIN:DAYLIGHT
TZOFFSETFROM:-0400
TZOFFSETTO:-0300
TZNAME:ADT
DTSTART:20240310T060000
END:DAYLIGHT
BEGIN:STANDARD
TZOFFSETFROM:-0300
TZOFFSETTO:-0400
TZNAME:AST
DTSTART:20241103T050000
END:STANDARD
BEGIN:DAYLIGHT
TZOFFSETFROM:-0400
TZOFFSETTO:-0300
TZNAME:ADT
DTSTART:20250309T060000
END:DAYLIGHT
BEGIN:STANDARD
TZOFFSETFROM:-0300
TZOFFSETTO:-0400
TZNAME:AST
DTSTART:20251102T050000
END:STANDARD
BEGIN:DAYLIGHT
TZOFFSETFROM:-0400
TZOFFSETTO:-0300
TZNAME:ADT
DTSTART:20260308T060000
END:DAYLIGHT
BEGIN:STANDARD
TZOFFSETFROM:-0300
TZOFFSETTO:-0400
TZNAME:AST
DTSTART:20261101T050000
END:STANDARD
END:VTIMEZONE
BEGIN:VEVENT
DTSTART;TZID=America/Halifax:20250531T093000
DTEND;TZID=America/Halifax:20250531T130000
DTSTAMP:20260420T070954
CREATED:20250510T111126Z
LAST-MODIFIED:20250530T105231Z
UID:3722-1748683800-1748696400@www.unitedtapestry.com
SUMMARY:North Mountain Market Opening Day 2025
DESCRIPTION:Mark May 31st on your calendar and come join us for Food\, Live Music\, Art\, Crafts. 9:30 AM start  and we don’t close until 1PM.  Savour the rugged beauty of the Bay of Fundy. Shop at Harbourville’s wharf side Fish Market. Enjoy lunch at the Harbourville Trading Company. We are iconic Nova Scotia at its best!\nFollow the Mermaid north on Hwy 360 from Exit 15\, Hwy 101\n\nFrom local artisans to fresh farm produce\, there’s a treasure trove of delights waiting for you. Don’t miss out on this vibrant showcase of community talent  and CRAFTSMANSHIP.\nOur farmers’ market is celebrating it’s 11th season in 2025. Big love to our incredible customers at the North Mountain Market for going all-in on ‘buy local’ . You’re directly supporting our passion projects – farm\, garden\, bakery and studio creations – and keeping our families happy and afloat. We are grateful!\nInside our historic little church on May 31st\nPaintings by Kathy\nSilvery Moon Alpacas Farm\nKate’s Pantry Coffee Shop\nCoast Mountain Designs \nChase Lane Creations\nTwo Rivers Pottery\nRediscover Nova Scotia Playful Adventures\nPrismatic Creations\nHolisticious\nTheresa MacLean Author\nVallhalla Farm\nLife on Harmony Street\nMcConnell House\nPaintings by Arnold\nOutside on our grounds\nWandering Farms\nWings and Things\nThe Knotty Tapper\nNorth Mountain Uprising\nWoodlawn Hollow Homestead\nNaturally Grown Garlic\n\nPLUS!\nLive Music with our own Zakary Miller!\n \nAnd for the Family\n\nCOMING SOON!\nHarbourville Flower Faerie coming June 14\nShyrina Rose Ceramics coming June 7\nNot Just Leather Repairs coming July 5th\nBougie Sisters.Co Bakery coming August 9th & 23rd\nPerkins Polycultures To be announced\nChristine Faour Author To be announced\n  \nWondering how to find your vendors this week?\n \n  \n  \n  \n  \n  \n  \n  \n  \n  \n 
URL:https://www.unitedtapestry.com/event/north-mountain-market-opening-day-2025/
LOCATION:North Mountain United Tapestry\, 3201 Long Point Road\, Harbourville\, Nova Scotia\, B0P 1E0\, Canada
CATEGORIES:Market Day
ATTACH;FMTTYPE=image/png:https://www.unitedtapestry.com/wp-content/uploads/2025/05/Market-Cover-4.png
ORGANIZER;CN="North Mountain United Tapestry":MAILTO:unitedtapestry@gmail.com
END:VEVENT
END:VCALENDAR