BEGIN:VCALENDAR
VERSION:2.0
PRODID:-//North Mountain United Tapestry - ECPv6.15.20//NONSGML v1.0//EN
CALSCALE:GREGORIAN
METHOD:PUBLISH
X-WR-CALNAME:North Mountain United Tapestry
X-ORIGINAL-URL:https://www.unitedtapestry.com
X-WR-CALDESC:Events for North Mountain United Tapestry
REFRESH-INTERVAL;VALUE=DURATION:PT1H
X-Robots-Tag:noindex
X-PUBLISHED-TTL:PT1H
BEGIN:VTIMEZONE
TZID:America/Halifax
BEGIN:DAYLIGHT
TZOFFSETFROM:-0400
TZOFFSETTO:-0300
TZNAME:ADT
DTSTART:20240310T060000
END:DAYLIGHT
BEGIN:STANDARD
TZOFFSETFROM:-0300
TZOFFSETTO:-0400
TZNAME:AST
DTSTART:20241103T050000
END:STANDARD
BEGIN:DAYLIGHT
TZOFFSETFROM:-0400
TZOFFSETTO:-0300
TZNAME:ADT
DTSTART:20250309T060000
END:DAYLIGHT
BEGIN:STANDARD
TZOFFSETFROM:-0300
TZOFFSETTO:-0400
TZNAME:AST
DTSTART:20251102T050000
END:STANDARD
BEGIN:DAYLIGHT
TZOFFSETFROM:-0400
TZOFFSETTO:-0300
TZNAME:ADT
DTSTART:20260308T060000
END:DAYLIGHT
BEGIN:STANDARD
TZOFFSETFROM:-0300
TZOFFSETTO:-0400
TZNAME:AST
DTSTART:20261101T050000
END:STANDARD
END:VTIMEZONE
BEGIN:VEVENT
DTSTART;TZID=America/Halifax:20250614T093000
DTEND;TZID=America/Halifax:20250614T130000
DTSTAMP:20260420T051504
CREATED:20250612T152112Z
LAST-MODIFIED:20250614T102351Z
UID:3777-1749893400-1749906000@www.unitedtapestry.com
SUMMARY:North Mountain Market June 14th 2025
DESCRIPTION:https://www.unitedtapestry.com/wp-content/uploads/2025/06/Sat-June-14-Market.mp4\nMark June 14 on your calendar and come join us in Harbourville for Food\, Live Music\, Art\, Crafts. 9:30 AM start  and we don’t close until 1PM.  Savour the rugged beauty of the Bay of Fundy.  Shop at Harbourville’s wharf side Fish Market.  Enjoy at the Harbourville Trading Company. We are iconic Nova Scotia at its best!\nFollow the Mermaid north on Hwy 360 from Exit 15\, Hwy 101\nFrom local artisans to fresh farm produce\, there’s a treasure trove of delights waiting for you. Don’t miss out on this vibrant showcase of community talent  and CRAFTSMANSHIP.\nOur farmers’ market is celebrating it’s 11th season in 2025. Big love to our incredible customers at the North Mountain Market for going all-in on ‘buy local’ . You’re directly supporting our passion projects – farm\, garden\, bakery and studio creations – and keeping our families happy and afloat. We are grateful!\nInside our historic little church on June 14th\nPaintings by Kathy\nSilvery Moon Alpacas Farm\nKate’s Pantry Coffee Shop\nChase Lane Creations\nHolisticious\nVallhalla Farm\nMcConnell House\nPaintings by Arnold\nNot Just Leather Repair\nHarbourville Flower Faerie\nChristine Faour Author\nBriny Sticher\nOutside on our grounds\nWandering Farms\nWings and Things\nThe Knotty Tapper\nNorth Mountain Uprising\nWoodlawn Hollow Homestead\n\nPLUS!\nLive Music with  Scott Henderson!\n \nAnd for the Family\n\nCOMING SOON!\nShyrina Rose Ceramics coming June 21st\nPerkins Polyculture coming July 5th\, August 2nd\, September 6 and Oct 4th\nBougie Sisters.Co Bakery coming August 9th and  23rd\nTwo Rivers Pottery coming  June 28\, July 26\, August 23\, Sept 20 and Oct 11\nBurrow Bakes coming July 5th\, August 2nd\, September 6th and October 4th\n  \nWondering how to find your vendors this week?\n \n  \n  \n  \n  \n  \n  \n  \n  \n  \n  \n 
URL:https://www.unitedtapestry.com/event/north-mountain-market-june-14th-2025-2/
LOCATION:North Mountain United Tapestry\, 3201 Long Point Road\, Harbourville\, Nova Scotia\, B0P 1E0\, Canada
CATEGORIES:Market Day
ATTACH;FMTTYPE=image/jpeg:https://www.unitedtapestry.com/wp-content/uploads/2025/06/502471886_1242306627770114_1044975821691598580_n.jpg
ORGANIZER;CN="North Mountain United Tapestry":MAILTO:unitedtapestry@gmail.com
END:VEVENT
END:VCALENDAR