BEGIN:VCALENDAR
VERSION:2.0
PRODID:-//North Mountain United Tapestry - ECPv6.15.20//NONSGML v1.0//EN
CALSCALE:GREGORIAN
METHOD:PUBLISH
X-ORIGINAL-URL:https://www.unitedtapestry.com
X-WR-CALDESC:Events for North Mountain United Tapestry
REFRESH-INTERVAL;VALUE=DURATION:PT1H
X-Robots-Tag:noindex
X-PUBLISHED-TTL:PT1H
BEGIN:VTIMEZONE
TZID:America/Halifax
BEGIN:DAYLIGHT
TZOFFSETFROM:-0400
TZOFFSETTO:-0300
TZNAME:ADT
DTSTART:20240310T060000
END:DAYLIGHT
BEGIN:STANDARD
TZOFFSETFROM:-0300
TZOFFSETTO:-0400
TZNAME:AST
DTSTART:20241103T050000
END:STANDARD
BEGIN:DAYLIGHT
TZOFFSETFROM:-0400
TZOFFSETTO:-0300
TZNAME:ADT
DTSTART:20250309T060000
END:DAYLIGHT
BEGIN:STANDARD
TZOFFSETFROM:-0300
TZOFFSETTO:-0400
TZNAME:AST
DTSTART:20251102T050000
END:STANDARD
BEGIN:DAYLIGHT
TZOFFSETFROM:-0400
TZOFFSETTO:-0300
TZNAME:ADT
DTSTART:20260308T060000
END:DAYLIGHT
BEGIN:STANDARD
TZOFFSETFROM:-0300
TZOFFSETTO:-0400
TZNAME:AST
DTSTART:20261101T050000
END:STANDARD
END:VTIMEZONE
BEGIN:VEVENT
DTSTART;TZID=America/Halifax:20250628T093000
DTEND;TZID=America/Halifax:20250628T130000
DTSTAMP:20260420T051709
CREATED:20250626T165432Z
LAST-MODIFIED:20250626T165432Z
UID:3816-1751103000-1751115600@www.unitedtapestry.com
SUMMARY:North Mountain Market June 28th 2025
DESCRIPTION:Summer is here! Come join us in Harbourville for Food\, Live Music\, Art\, Crafts.\n      9:30 AM start and we don’t close until 1PM.\nWe are welcoming back some crafty old  friends of the market this week\n                      EZ Wood Productions\n  \nSavour the rugged beauty of the Bay of Fundy.  Shop at Harbourville’s wharf side Fish Market.  Enjoy at the Harbourville Trading Company. We are postcard worthy Nova Scotia !\nFollow the Mermaid north on Hwy 360 from Exit 15\, Hwy 101\n Local Artisans \, Bakers and  Fresh Farm Produce!\nInside our historic little church on June 28th\n  \nPaintings by Kathy\nSilvery Moon Alpacas Farm\nKate’s Pantry Coffee Shop\nChase Lane Creations\nHolisticious\nVallhalla Farm\nMcConnell House\nPaintings by Arnold\nEZ Wood Productions\nA Briny Stitcher\nTwo Rivers Pottery\nNot Just Leather Repairs\n  \n  \nOutside on our grounds\nWandering Farms\nNorth Mountain Uprising\nWoodlawn Hollow Homestead\nMorses Strawberries\n\nPLUS!\nLive Music with  The Black Rock Buoys!\n\nFor the Family\n\nCOMING SOON!\nPerkins Polyculture coming July 5th\, August 2nd\, September 6 and Oct 4th\nBougie Sisters.Co Bakery coming August 9th and  23rd\nTwo Rivers Pottery  also coming  July 26\, August 23\, Sept 20 and Oct 11\nBurrow Bakes coming July 5th\, August 2nd\, September 6th and October 4th\n  \nWondering how to find your vendors this week?\n \n  \n  \n  \n  \n  \n  \n  \n  \n  \n  \n  \n 
URL:https://www.unitedtapestry.com/event/north-mountain-market-june-28th-2025-2/
LOCATION:North Mountain United Tapestry\, 3201 Long Point Road\, Harbourville\, Nova Scotia\, B0P 1E0\, Canada
CATEGORIES:Market Day
ATTACH;FMTTYPE=image/jpeg:https://www.unitedtapestry.com/wp-content/uploads/2025/06/502471886_1242306627770114_1044975821691598580_n.jpg
ORGANIZER;CN="North Mountain United Tapestry":MAILTO:unitedtapestry@gmail.com
END:VEVENT
END:VCALENDAR