BEGIN:VCALENDAR
VERSION:2.0
PRODID:-//North Mountain United Tapestry - ECPv6.15.20//NONSGML v1.0//EN
CALSCALE:GREGORIAN
METHOD:PUBLISH
X-WR-CALNAME:North Mountain United Tapestry
X-ORIGINAL-URL:https://www.unitedtapestry.com
X-WR-CALDESC:Events for North Mountain United Tapestry
REFRESH-INTERVAL;VALUE=DURATION:PT1H
X-Robots-Tag:noindex
X-PUBLISHED-TTL:PT1H
BEGIN:VTIMEZONE
TZID:America/Halifax
BEGIN:DAYLIGHT
TZOFFSETFROM:-0400
TZOFFSETTO:-0300
TZNAME:ADT
DTSTART:20240310T060000
END:DAYLIGHT
BEGIN:STANDARD
TZOFFSETFROM:-0300
TZOFFSETTO:-0400
TZNAME:AST
DTSTART:20241103T050000
END:STANDARD
BEGIN:DAYLIGHT
TZOFFSETFROM:-0400
TZOFFSETTO:-0300
TZNAME:ADT
DTSTART:20250309T060000
END:DAYLIGHT
BEGIN:STANDARD
TZOFFSETFROM:-0300
TZOFFSETTO:-0400
TZNAME:AST
DTSTART:20251102T050000
END:STANDARD
BEGIN:DAYLIGHT
TZOFFSETFROM:-0400
TZOFFSETTO:-0300
TZNAME:ADT
DTSTART:20260308T060000
END:DAYLIGHT
BEGIN:STANDARD
TZOFFSETFROM:-0300
TZOFFSETTO:-0400
TZNAME:AST
DTSTART:20261101T050000
END:STANDARD
END:VTIMEZONE
BEGIN:VEVENT
DTSTART;TZID=America/Halifax:20250706T150000
DTEND;TZID=America/Halifax:20250706T170000
DTSTAMP:20260420T032605
CREATED:20250513T111838Z
LAST-MODIFIED:20250522T133009Z
UID:3740-1751814000-1751821200@www.unitedtapestry.com
SUMMARY:Strange Bird\, the Voice of Jung
DESCRIPTION:Tickets $20\nE-transfer music@unitedtapestry.com with Strange Bird in the message box\nOR\nwrite us music@unitedtapestry.com to make other payment arrangements.\n\nOn July 6\, 2025\, we will present a one-man play\, “Strange Bird\, the Voice of Jung\,” This is a 75 minute one-man show by our very own Raymond O’Neill. The play interweaves the sometimes controversial but always fascinating ideas of Carl Jung with O’Neill’s own dreams of Jung and stories of his ’round the world sojourn with Cirque du Soleil culminating in a surprise visit to Zurich\, Switzerland.\nTickets are $20 by e transfer to music@unitedtapestry.comThere will be tickets available at the door.\nMOREWith material gathered from Jung’s Red Book and his autobiography Memories\, Dream\, Reflections\, the timely\, alarmingly thought provoking and sometimes delightfully humorous “The Voice of Jung” is sure to please not only those already familiar with Jung’s work\, but will also serve as a comprehensive introduction to the life and ideas of Analytical Psychology’s founding father C. G. Jung; one of the 20th century’s most seminal thinkers.
URL:https://www.unitedtapestry.com/event/strange/
LOCATION:North Mountain United Tapestry\, 3201 Long Point Road\, Harbourville\, Nova Scotia\, B0P 1E0\, Canada
ATTACH;FMTTYPE=image/jpeg:https://www.unitedtapestry.com/wp-content/uploads/2025/05/IMG_8398.jpeg
ORGANIZER;CN="North Mountain United Tapestry":MAILTO:unitedtapestry@gmail.com
END:VEVENT
END:VCALENDAR