BEGIN:VCALENDAR
VERSION:2.0
PRODID:-//North Mountain United Tapestry - ECPv6.15.20//NONSGML v1.0//EN
CALSCALE:GREGORIAN
METHOD:PUBLISH
X-ORIGINAL-URL:https://www.unitedtapestry.com
X-WR-CALDESC:Events for North Mountain United Tapestry
REFRESH-INTERVAL;VALUE=DURATION:PT1H
X-Robots-Tag:noindex
X-PUBLISHED-TTL:PT1H
BEGIN:VTIMEZONE
TZID:America/Halifax
BEGIN:DAYLIGHT
TZOFFSETFROM:-0400
TZOFFSETTO:-0300
TZNAME:ADT
DTSTART:20240310T060000
END:DAYLIGHT
BEGIN:STANDARD
TZOFFSETFROM:-0300
TZOFFSETTO:-0400
TZNAME:AST
DTSTART:20241103T050000
END:STANDARD
BEGIN:DAYLIGHT
TZOFFSETFROM:-0400
TZOFFSETTO:-0300
TZNAME:ADT
DTSTART:20250309T060000
END:DAYLIGHT
BEGIN:STANDARD
TZOFFSETFROM:-0300
TZOFFSETTO:-0400
TZNAME:AST
DTSTART:20251102T050000
END:STANDARD
BEGIN:DAYLIGHT
TZOFFSETFROM:-0400
TZOFFSETTO:-0300
TZNAME:ADT
DTSTART:20260308T060000
END:DAYLIGHT
BEGIN:STANDARD
TZOFFSETFROM:-0300
TZOFFSETTO:-0400
TZNAME:AST
DTSTART:20261101T050000
END:STANDARD
END:VTIMEZONE
BEGIN:VEVENT
DTSTART;TZID=America/Halifax:20250712T093000
DTEND;TZID=America/Halifax:20250712T130000
DTSTAMP:20260420T034513
CREATED:20250704T194738Z
LAST-MODIFIED:20250710T204142Z
UID:3824-1752312600-1752325200@www.unitedtapestry.com
SUMMARY:North Mountain Market July 12\, 2025
DESCRIPTION:Oh July! Come join us in Harbourville for Fresh Farm Produce\, Live Music\, Art\, Crafts\, Local Bakers and fresh sea air!.\n       We have 9:30 AM start and we don’t close until 1PM.\nWe are welcoming back two old friend of the market this week\nNorth Mountain Uprising  with sweet and savoury scones\, muffins\, cookies\, banana bread and bliss balls. Also sourdough bagels !\n Two Rivers Pottery– Pottery with Personality — A Sale by the Bay! \n  \nSavour the rugged beauty of the Bay of Fundy.  Shop at Harbourville’s wharf side Fish Market.  Enjoy lunch at the Harbourville Trading Company.\nWe are postcard worthy Nova Scotia !\n                                      We are north on Hwy 360 from Exit 15\, Hwy 101\n Look who is inside our historic little church on July 5th\nPaintings by Kathy  – painting on canvas and paper \nSilvery Moon Alpacas Farm – Handspun alpaca fibre  knitted\, felted\, woven wares. hand dyed habotai silk and essential oil blends\nKate’s Pantry Coffee Shop-coffee\, tea\, gluten free sweets\nChase Lane Creations  –Original art work\, refurbished furniture and bird/bath feeders.\nHolisticious- herbal tinctures\, herbal salves\, herbal tonics\, summer time\, strawberry/blueberry/raspberry sauces\, baked  scratch french bread\nVallhalla Farm –  a traditional\, heritage farm returning to their roots; offering meat and eggs by order\, preserves\, pickles\, natural facial scrubs and more on their market table\nMcConnell House – antiques and treasures\nPaintings by Arnold  – paintings on canvas & tiles\, bracelets \nA Briny Stitcher – whimsical quilted creations.\nNot Just Leather Repairs   – leather handbags and other hand sewn products\nWoodlawn Hollow Homestead – wheat grass juice\, herbals\, handmade wooden stools\, surprises\n Wandering Farms  – small scale\, hand-powered\, vegetable and herb farm.  grown with ecologically sound practices .\nKnotty Tapper – yummy maple syrup\nNorth Mountain Uprising – sweet and savoury scones\, muffins\, cookies\, banana bread and bliss balls\nRainbow Stitches – cotton & hemp clothing \,bags\, purses\, zippered purses\, aprons\, placemats\, table runners\, table cloths\, wall hanging\nTwo Rivers Pottery –Handmade stoneware and porcelain pottery made with solar power near the shores of the Bay of Fundy.\n \nPLUS!\nLive Music with Andrew Hill !\n \n  \nFor the Family\nPlus our painting workshop (3) Children’s Painting Workshop | Facebook\nSorry this workshop is now FULL\nCOMING SOON TO THE MARKET!\nBougie Sisters.Co Bakery coming August 9th and  23rd\nTwo Rivers Pottery  coming  August 2 \, August 23\, Sept 20 and Oct 11\nWondering how to find your vendors this week?\n \n  \n  \n  \n  \n  \n  \n  \n  \n  \n  \n  \n  \n  \n 
URL:https://www.unitedtapestry.com/event/north-mountain-market-july-12-2025/
LOCATION:North Mountain United Tapestry\, 3201 Long Point Road\, Harbourville\, Nova Scotia\, B0P 1E0\, Canada
CATEGORIES:Market Day
ATTACH;FMTTYPE=image/jpeg:https://www.unitedtapestry.com/wp-content/uploads/2025/06/502471886_1242306627770114_1044975821691598580_n.jpg
ORGANIZER;CN="North Mountain United Tapestry":MAILTO:unitedtapestry@gmail.com
END:VEVENT
END:VCALENDAR