BEGIN:VCALENDAR
VERSION:2.0
PRODID:-//North Mountain United Tapestry - ECPv6.15.20//NONSGML v1.0//EN
CALSCALE:GREGORIAN
METHOD:PUBLISH
X-ORIGINAL-URL:https://www.unitedtapestry.com
X-WR-CALDESC:Events for North Mountain United Tapestry
REFRESH-INTERVAL;VALUE=DURATION:PT1H
X-Robots-Tag:noindex
X-PUBLISHED-TTL:PT1H
BEGIN:VTIMEZONE
TZID:America/Halifax
BEGIN:DAYLIGHT
TZOFFSETFROM:-0400
TZOFFSETTO:-0300
TZNAME:ADT
DTSTART:20240310T060000
END:DAYLIGHT
BEGIN:STANDARD
TZOFFSETFROM:-0300
TZOFFSETTO:-0400
TZNAME:AST
DTSTART:20241103T050000
END:STANDARD
BEGIN:DAYLIGHT
TZOFFSETFROM:-0400
TZOFFSETTO:-0300
TZNAME:ADT
DTSTART:20250309T060000
END:DAYLIGHT
BEGIN:STANDARD
TZOFFSETFROM:-0300
TZOFFSETTO:-0400
TZNAME:AST
DTSTART:20251102T050000
END:STANDARD
BEGIN:DAYLIGHT
TZOFFSETFROM:-0400
TZOFFSETTO:-0300
TZNAME:ADT
DTSTART:20260308T060000
END:DAYLIGHT
BEGIN:STANDARD
TZOFFSETFROM:-0300
TZOFFSETTO:-0400
TZNAME:AST
DTSTART:20261101T050000
END:STANDARD
END:VTIMEZONE
BEGIN:VEVENT
DTSTART;TZID=America/Halifax:20250720T190000
DTEND;TZID=America/Halifax:20250720T210000
DTSTAMP:20260420T020441
CREATED:20250304T024901Z
LAST-MODIFIED:20250304T024918Z
UID:3684-1753038000-1753045200@www.unitedtapestry.com
SUMMARY:July 20 Hupman Brothers
DESCRIPTION:Come and welcome back our friends to the North Mountain. Scott and Ryan Hupman will fill your ears with the best music and your hearts will thank you. These guys play from their souls . Brothers by birth \, they have been playing music together all of their lives. Blues and rootsy folk with a nod to rag time and swing. They have an infectious joy that will pull you in.tickets $20 by e transfer to music@unitedtapestry.com \n7PM start Doors open 6:30PM \nHupman Brothers Facebook
URL:https://www.unitedtapestry.com/event/july-20-human-brothers/
LOCATION:North Mountain United Tapestry\, 3201 Long Point Road\, Harbourville\, Nova Scotia\, B0P 1E0\, Canada
CATEGORIES:Concerts
ATTACH;FMTTYPE=image/png:https://www.unitedtapestry.com/wp-content/uploads/2025/03/Copy-of-Sings-the-Songs-of-Joni-Mitchell-as-well-as-her-Original-Music-1.png
ORGANIZER;CN="North Mountain United Tapestry":MAILTO:unitedtapestry@gmail.com
END:VEVENT
END:VCALENDAR