BEGIN:VCALENDAR
VERSION:2.0
PRODID:-//North Mountain United Tapestry - ECPv6.15.20//NONSGML v1.0//EN
CALSCALE:GREGORIAN
METHOD:PUBLISH
X-ORIGINAL-URL:https://www.unitedtapestry.com
X-WR-CALDESC:Events for North Mountain United Tapestry
REFRESH-INTERVAL;VALUE=DURATION:PT1H
X-Robots-Tag:noindex
X-PUBLISHED-TTL:PT1H
BEGIN:VTIMEZONE
TZID:America/Halifax
BEGIN:DAYLIGHT
TZOFFSETFROM:-0400
TZOFFSETTO:-0300
TZNAME:ADT
DTSTART:20240310T060000
END:DAYLIGHT
BEGIN:STANDARD
TZOFFSETFROM:-0300
TZOFFSETTO:-0400
TZNAME:AST
DTSTART:20241103T050000
END:STANDARD
BEGIN:DAYLIGHT
TZOFFSETFROM:-0400
TZOFFSETTO:-0300
TZNAME:ADT
DTSTART:20250309T060000
END:DAYLIGHT
BEGIN:STANDARD
TZOFFSETFROM:-0300
TZOFFSETTO:-0400
TZNAME:AST
DTSTART:20251102T050000
END:STANDARD
BEGIN:DAYLIGHT
TZOFFSETFROM:-0400
TZOFFSETTO:-0300
TZNAME:ADT
DTSTART:20260308T060000
END:DAYLIGHT
BEGIN:STANDARD
TZOFFSETFROM:-0300
TZOFFSETTO:-0400
TZNAME:AST
DTSTART:20261101T050000
END:STANDARD
END:VTIMEZONE
BEGIN:VEVENT
DTSTART;TZID=America/Halifax:20250802T093000
DTEND;TZID=America/Halifax:20250802T130000
DTSTAMP:20260420T021322
CREATED:20250731T161902Z
LAST-MODIFIED:20250731T161902Z
UID:3872-1754127000-1754139600@www.unitedtapestry.com
SUMMARY:North Mountain Market August 2\, 2025
DESCRIPTION:Oh August! Come join us in Harbourville for Fresh Farm Produce\, Live Music\, Art\, Crafts\, Local Bakers and fresh sea air!.\n       We have 9:30 AM start and we don’t close until 1PM.\nWe are welcoming back two old friends of the market this week\nPerkins Polyculture \nSustainably rooted in Canning\, NS Pasture-raised poultry & spray-free veggies Growing a regenerative future\n Two Rivers Pottery\nHandmade stoneware and porcelain pottery made with solar power near the shores of the Bay of Fundy.\n  \nSavour the rugged beauty of the Bay of Fundy.  After the market enjoy lunch at the Harbourville Trading Company.\nWe are postcard worthy Nova Scotia !\n                                      We are north on Hwy 360 from Exit 15\, Hwy 101\nand then…. \nA DETOUR! Beginning August 31st. Turn left on the #221 Hwy and travel west until you reach Long Point Road. Turning right stay on the pavement . You will curve to the right at the top of the mountain and again at the water side as you head through the “cottage country” bringing you along the shore .\nThe bridge in our little seaside hamlet  is being upgraded so a detour is necessary. A chance to see more of the beautiful North Mountain and a fabulous view of the Bay of Fundy as you travel through Turners Brook and down towards Harbourville ! \n Look who is inside our historic little church on August the 2nd….\nPaintings by Kathy  – painting on canvas and paper \nSilvery Moon Alpacas Farm – Handspun alpaca fibre  knitted\, felted\, woven wares. hand dyed habotai silk and essential oil blends\nKate’s Pantry Coffee Shop-coffee\, tea\, gluten free sweets\nChase Lane Creations  –Original art work\, refurbished furniture and bird/bath feeders.\nHolisticious- herbal tinctures\, herbal salves\, herbal tonics\, summer time\, strawberry/blueberry/raspberry sauces\, baked  scratch french bread\nVallhalla Farm –  a traditional\, heritage farm returning to their roots; offering meat and eggs by order\, preserves\, pickles\, natural facial scrubs and more on their market table\nMcConnell House – antiques and treasures\nPaintings by Arnold  – paintings on canvas & tiles\, bracelets \nWoodlawn Hollow Homestead – wheat grass juice\, herbals\, handmade wooden stools\, surprises\n Wandering Farms  – small scale\, hand-powered\, vegetable and herb farm.  grown with ecologically sound practices .\nKnotty Tapper – yummy maple syrup\nNorth Mountain Uprising – sweet and savoury scones\, muffins\, cookies\, banana bread and bliss balls\nTwo Rivers Pottery –Handmade stoneware and porcelain pottery made with solar power near the shores of the Bay of Fundy. \n\nPerkins Polyculture –Sustainably rooted in Canning\, NS Pasture-raised poultry & spray-free veggies Growing a regenerative future\nSew ‘n Sew- Crafty items made out of fabric\n \nPLUS!\nLive Music with Bob Deveau !\n\nFor the Family\nOur Creation Station welcomes artist Philip. We invite ALL kids to paint/draw/colour a big sea-themed drawing      & More! \n\nCOMING SOON TO THE MARKET!\nBougie Sisters.Co Bakery coming August 9th and  23rd\n\n\n  \n  \n  \n  \n  \n  \n  \n  \n  \n  \n  \n  \n  \n  \n 
URL:https://www.unitedtapestry.com/event/north-mountain-market-august-2-2025-2/
LOCATION:North Mountain United Tapestry\, 3201 Long Point Road\, Harbourville\, Nova Scotia\, B0P 1E0\, Canada
CATEGORIES:Market Day
ATTACH;FMTTYPE=image/jpeg:https://www.unitedtapestry.com/wp-content/uploads/2025/06/502471886_1242306627770114_1044975821691598580_n.jpg
ORGANIZER;CN="North Mountain United Tapestry":MAILTO:unitedtapestry@gmail.com
END:VEVENT
END:VCALENDAR