BEGIN:VCALENDAR
VERSION:2.0
PRODID:-//North Mountain United Tapestry - ECPv6.15.20//NONSGML v1.0//EN
CALSCALE:GREGORIAN
METHOD:PUBLISH
X-WR-CALNAME:North Mountain United Tapestry
X-ORIGINAL-URL:https://www.unitedtapestry.com
X-WR-CALDESC:Events for North Mountain United Tapestry
REFRESH-INTERVAL;VALUE=DURATION:PT1H
X-Robots-Tag:noindex
X-PUBLISHED-TTL:PT1H
BEGIN:VTIMEZONE
TZID:America/Halifax
BEGIN:DAYLIGHT
TZOFFSETFROM:-0400
TZOFFSETTO:-0300
TZNAME:ADT
DTSTART:20240310T060000
END:DAYLIGHT
BEGIN:STANDARD
TZOFFSETFROM:-0300
TZOFFSETTO:-0400
TZNAME:AST
DTSTART:20241103T050000
END:STANDARD
BEGIN:DAYLIGHT
TZOFFSETFROM:-0400
TZOFFSETTO:-0300
TZNAME:ADT
DTSTART:20250309T060000
END:DAYLIGHT
BEGIN:STANDARD
TZOFFSETFROM:-0300
TZOFFSETTO:-0400
TZNAME:AST
DTSTART:20251102T050000
END:STANDARD
BEGIN:DAYLIGHT
TZOFFSETFROM:-0400
TZOFFSETTO:-0300
TZNAME:ADT
DTSTART:20260308T060000
END:DAYLIGHT
BEGIN:STANDARD
TZOFFSETFROM:-0300
TZOFFSETTO:-0400
TZNAME:AST
DTSTART:20261101T050000
END:STANDARD
END:VTIMEZONE
BEGIN:VEVENT
DTSTART;TZID=America/Halifax:20250824T190000
DTEND;TZID=America/Halifax:20250824T190000
DTSTAMP:20260420T020034
CREATED:20250304T025832Z
LAST-MODIFIED:20250304T030444Z
UID:3688-1756062000-1756062000@www.unitedtapestry.com
SUMMARY:August 24 Terra Spencer
DESCRIPTION:Save the date. On August 24th\, 2025 Terra Spencer is coming back to Tapestry. We  really can’t wait to welcome her. It promises to be a magical evening in our little church on the bluff. \nTerra’s sold out her 2023 concert here \, please don’t delay in purchasing your seat. \nTickets are now on sale e transfer  $20 to music@unitedtapestry.com   \nFrom Terra’s website: \nBad ideas\, VCRs\, crumbling factories\, hairy dogs\, questionable tattoos…all are fair game for Nova Scotian funeral director-turned-songwriter Terra Spencer. And the songs are good ones\, judging from the stack of awards her three albums have received\, and from the caliber of her collaborators\, which include David Francey\, Ben Caplan\, and Matt Andersen. Although her butterscotch voice\, deft fingerstyle guitar\, and gospel-charged piano make her a formidable musician\, it’s her onstage ease and crackling wit that make each show feel like a knee-to-knee conversation in a room of 5 or 500. “The real deal.” – Ron Sexsmith \nTerra Spencer \n 
URL:https://www.unitedtapestry.com/event/august-24-terra-spencer/
LOCATION:North Mountain United Tapestry\, 3201 Long Point Road\, Harbourville\, Nova Scotia\, B0P 1E0\, Canada
CATEGORIES:Concerts
ATTACH;FMTTYPE=image/png:https://www.unitedtapestry.com/wp-content/uploads/2025/03/Music-@-Tapestry-1.png
ORGANIZER;CN="North Mountain United Tapestry":MAILTO:unitedtapestry@gmail.com
END:VEVENT
END:VCALENDAR