BEGIN:VCALENDAR
VERSION:2.0
PRODID:-//North Mountain United Tapestry - ECPv6.15.20//NONSGML v1.0//EN
CALSCALE:GREGORIAN
METHOD:PUBLISH
X-ORIGINAL-URL:https://www.unitedtapestry.com
X-WR-CALDESC:Events for North Mountain United Tapestry
REFRESH-INTERVAL;VALUE=DURATION:PT1H
X-Robots-Tag:noindex
X-PUBLISHED-TTL:PT1H
BEGIN:VTIMEZONE
TZID:America/Halifax
BEGIN:DAYLIGHT
TZOFFSETFROM:-0400
TZOFFSETTO:-0300
TZNAME:ADT
DTSTART:20240310T060000
END:DAYLIGHT
BEGIN:STANDARD
TZOFFSETFROM:-0300
TZOFFSETTO:-0400
TZNAME:AST
DTSTART:20241103T050000
END:STANDARD
BEGIN:DAYLIGHT
TZOFFSETFROM:-0400
TZOFFSETTO:-0300
TZNAME:ADT
DTSTART:20250309T060000
END:DAYLIGHT
BEGIN:STANDARD
TZOFFSETFROM:-0300
TZOFFSETTO:-0400
TZNAME:AST
DTSTART:20251102T050000
END:STANDARD
BEGIN:DAYLIGHT
TZOFFSETFROM:-0400
TZOFFSETTO:-0300
TZNAME:ADT
DTSTART:20260308T060000
END:DAYLIGHT
BEGIN:STANDARD
TZOFFSETFROM:-0300
TZOFFSETTO:-0400
TZNAME:AST
DTSTART:20261101T050000
END:STANDARD
END:VTIMEZONE
BEGIN:VEVENT
DTSTART;TZID=America/Halifax:20250906T093000
DTEND;TZID=America/Halifax:20250906T130000
DTSTAMP:20260420T003151
CREATED:20250905T140914Z
LAST-MODIFIED:20250905T151012Z
UID:3918-1757151000-1757163600@www.unitedtapestry.com
SUMMARY:North Mountain Market Sept 6\, 2025
DESCRIPTION:Oh summer\, please don’t leave us yet!\n \nCome join us in Harbourville for Fresh Farm Produce\, Live Music\, Art\, Crafts\, Local Bakers and fresh sea air!.\n       We have 9:30 AM start and we don’t close until 1PM.\nSavour the rugged beauty of the Bay of Fundy.  After the market enjoy lunch at the Harbourville Trading Company.\nWe are postcard worthy Nova Scotia !\n  \n                                      We are north on Hwy 360 from Exit 15\, Hwy 101\nLook who is inside our historic little church on August the 30th….\nPaintings by Kathy  – painting on canvas and paper \nKate’s Pantry Coffee Shop-coffee and tea  and gluten free and vegan treats\nChase Lane Creations  –Original art work\, refurbished furniture and bird/bath feeders.\nVallhalla Farm –  a traditional\, heritage farm returning to their roots; offering meat and eggs by order\, preserves\, pickles\, natural facial scrubs and more on their market table\nMcConnell House – antiques and treasures\nPaintings by Arnold  – Colourful paintings inspired by Haiti and Nova Scotia on canvas & tiles\, bracelets Arnold won’t be jingin us today but his paintings will!\nWoodlawn Hollow Homestead – wheat grass juice\, herbals\, handmade wooden stools\, hand pressed cider and teas\n Wandering Farms  – small scale\, hand-powered\, vegetable and herb farm.  grown with ecologically sound practices .\nKnotty Tapper – is sold out of Maple Syrup BUT will be at the market this week with fresh blueberries\, apples\, and more farm to table preserves for sale\n A Briny Stitcher-Whimsical\, colourful and enchanting quilted creations.\nNorth Mountain Uprising– yummy baked goods\, candles \, magical decoupaged bottle lanterns\nSew and Sew-  gorgeous aprons\, reimagined cigar boxes \,  imaginative playing card holders and more!\nPerkins Polyculture  -Pasture raised chicken and eggs\nCottage Cove Rope Creations – Colourful recycled rope creations by Karen. Baskets\, mats\, trivets\nBob Bent Author-Bob Bent is the author of many short stories and the novels Spy On Ice and Ida Red.\n\nPLUS!\n \nCarrie Clem of https://www.instagram.com/northmountain_weaver/ is a skilled artisan who pours her heart into her weaving \, spinning and daily life here on the North Mountain . Watch the magic unfold at our September 6th market\nLive Music with……?\nOur musician double booked himself and is finding it impossible to be in Cape Breton and Harbourville at the same time tee-hee. We are working on it and will announce as soon as it is confirmed!\nFor the Family\nOur Creation Station provides the supplies. The little ones provide the imagination and creativity! \n\n \n  \n  \n\n\n\n  \n  \n  \n  \n  \n  \n  \n  \n  \n  \n  \n  \n  \n  \n 
URL:https://www.unitedtapestry.com/event/north-mountain-market-september-06-2025-2/
LOCATION:North Mountain United Tapestry\, 3201 Long Point Road\, Harbourville\, Nova Scotia\, B0P 1E0\, Canada
CATEGORIES:Market Day
ATTACH;FMTTYPE=image/jpeg:https://www.unitedtapestry.com/wp-content/uploads/2025/06/502471886_1242306627770114_1044975821691598580_n.jpg
ORGANIZER;CN="North Mountain United Tapestry":MAILTO:unitedtapestry@gmail.com
END:VEVENT
END:VCALENDAR