BEGIN:VCALENDAR
VERSION:2.0
PRODID:-//North Mountain United Tapestry - ECPv6.15.20//NONSGML v1.0//EN
CALSCALE:GREGORIAN
METHOD:PUBLISH
X-ORIGINAL-URL:https://www.unitedtapestry.com
X-WR-CALDESC:Events for North Mountain United Tapestry
REFRESH-INTERVAL;VALUE=DURATION:PT1H
X-Robots-Tag:noindex
X-PUBLISHED-TTL:PT1H
BEGIN:VTIMEZONE
TZID:America/Halifax
BEGIN:DAYLIGHT
TZOFFSETFROM:-0400
TZOFFSETTO:-0300
TZNAME:ADT
DTSTART:20240310T060000
END:DAYLIGHT
BEGIN:STANDARD
TZOFFSETFROM:-0300
TZOFFSETTO:-0400
TZNAME:AST
DTSTART:20241103T050000
END:STANDARD
BEGIN:DAYLIGHT
TZOFFSETFROM:-0400
TZOFFSETTO:-0300
TZNAME:ADT
DTSTART:20250309T060000
END:DAYLIGHT
BEGIN:STANDARD
TZOFFSETFROM:-0300
TZOFFSETTO:-0400
TZNAME:AST
DTSTART:20251102T050000
END:STANDARD
BEGIN:DAYLIGHT
TZOFFSETFROM:-0400
TZOFFSETTO:-0300
TZNAME:ADT
DTSTART:20260308T060000
END:DAYLIGHT
BEGIN:STANDARD
TZOFFSETFROM:-0300
TZOFFSETTO:-0400
TZNAME:AST
DTSTART:20261101T050000
END:STANDARD
END:VTIMEZONE
BEGIN:VEVENT
DTSTART;TZID=America/Halifax:20250920T093000
DTEND;TZID=America/Halifax:20250920T130000
DTSTAMP:20260420T014534
CREATED:20250919T145950Z
LAST-MODIFIED:20250919T152340Z
UID:3937-1758360600-1758373200@www.unitedtapestry.com
SUMMARY:North Mountain Market Sept 20\, 2025
DESCRIPTION:Danny Arnold beloved son\, brother\, grandson\, nephew\, cousin and friend 1997 -2013\nOn Saturday the Danny Arnold Memorial Fund will be collecting donations for the Berwick Food Bank by selling gorgeous Chinese lanterns for your fall bouquets and decorations. Danny is remembered as a special young man who had a genuine love for animals and worked at our local meat market on his days away from 4H \, sports ( soccer\, swimming) and Black Rock youth group activities. He spent his quiet time reading. His parents\, John and Valerie \, are great supporters of our market. Please be generous in your donations to the food bank and take home a a beautiful bouquet as a thank you. \n  \nCome join us in Harbourville for Fresh Farm Produce\, Live Music\, Art\, Crafts\, Local Bakers and fresh sea air!\n       We have 9:30 AM start and we don’t close until 1PM.\nSavour the rugged beauty of the Bay of Fundy.  After the market enjoy lunch at the Harbourville Trading Company.\nWe are postcard worthy Nova Scotia !\n  \n                                      We are north on Hwy 360 from Exit 15\, Hwy 101\nLook who is inside our historic little church on August the 30th….\nPaintings by Kathy  – painting on canvas and paper \nKate’s Pantry Coffee Shop-coffee and tea  and gluten free and vegan treats\nChase Lane Creations  –Original art work\, refurbished furniture and bird/bath feeders.\nVallhalla Farm –  a traditional\, heritage farm returning to their roots; offering meat and eggs by order\, preserves\, pickles\, natural facial scrubs and more on their market table\nMcConnell House – antiques and treasures\nPaintings by Arnold  – Colourful paintings inspired by Haiti and Nova Scotia on canvas & tiles\, bracelets \nWoodlawn Hollow Homestead – wheat grass juice\, herbals\, handmade wooden stools\, hand pressed cider and teas\n Wandering Farms  – small scale\, hand-powered\, vegetable and herb farm.  grown with ecologically sound practices .\nKnotty Tapper – is sold out of Maple Syrup BUT will be at the market this week with fresh blueberries\, apples\, and more farm to table preserves for sale\nCottage Cove Rope Creations – Colourful recycled rope creations by Karen. Baskets\, mats\, trivets\nHarbourville Flower Fairie- Beautiful fresh flower bouquets to grace your home or to gift to a friend\nHolistcious-Yummy traditional breads and baked goods plus herbal products\nSilvery Moon Alpaca Farm-Handspun alpaca fibre  knitted\, felted\, woven wares. hand dyed habotai silk and essential oil blends\nWings and Things -They enjoy making animal birdhouses and other various outdoor decor. Barb will also be bringing her ikebana bases. Ikebana is the art of flower arranging that originates in ancient Japan.\nNorth Mountain Uprising -fresh berry scones\, a savoury scone\, cookies\, maple pecan squares (always a favourite) and maybe something a little special.\nRainbow Stitches-Clothing for men\, women and children in cotton and hemp\, silk and hemp\, linen….bags\, purses.\nLive Music with Andrew Hill\n \n\nFor the Family\nOur Creation Station provides the supplies. The little ones provide the imagination and creativity! \n\n \n  \n  \n\n\n\n  \n  \n  \n  \n  \n  \n  \n  \n  \n  \n  \n  \n  \n  \n 
URL:https://www.unitedtapestry.com/event/north-mountain-market-sept-20-2025-2/
LOCATION:North Mountain United Tapestry\, 3201 Long Point Road\, Harbourville\, Nova Scotia\, B0P 1E0\, Canada
CATEGORIES:Market Day
ATTACH;FMTTYPE=image/jpeg:https://www.unitedtapestry.com/wp-content/uploads/2025/06/502471886_1242306627770114_1044975821691598580_n.jpg
ORGANIZER;CN="North Mountain United Tapestry":MAILTO:unitedtapestry@gmail.com
END:VEVENT
END:VCALENDAR