BEGIN:VCALENDAR
VERSION:2.0
PRODID:-//North Mountain United Tapestry - ECPv6.15.20//NONSGML v1.0//EN
CALSCALE:GREGORIAN
METHOD:PUBLISH
X-WR-CALNAME:North Mountain United Tapestry
X-ORIGINAL-URL:https://www.unitedtapestry.com
X-WR-CALDESC:Events for North Mountain United Tapestry
REFRESH-INTERVAL;VALUE=DURATION:PT1H
X-Robots-Tag:noindex
X-PUBLISHED-TTL:PT1H
BEGIN:VTIMEZONE
TZID:America/Halifax
BEGIN:DAYLIGHT
TZOFFSETFROM:-0400
TZOFFSETTO:-0300
TZNAME:ADT
DTSTART:20240310T060000
END:DAYLIGHT
BEGIN:STANDARD
TZOFFSETFROM:-0300
TZOFFSETTO:-0400
TZNAME:AST
DTSTART:20241103T050000
END:STANDARD
BEGIN:DAYLIGHT
TZOFFSETFROM:-0400
TZOFFSETTO:-0300
TZNAME:ADT
DTSTART:20250309T060000
END:DAYLIGHT
BEGIN:STANDARD
TZOFFSETFROM:-0300
TZOFFSETTO:-0400
TZNAME:AST
DTSTART:20251102T050000
END:STANDARD
BEGIN:DAYLIGHT
TZOFFSETFROM:-0400
TZOFFSETTO:-0300
TZNAME:ADT
DTSTART:20260308T060000
END:DAYLIGHT
BEGIN:STANDARD
TZOFFSETFROM:-0300
TZOFFSETTO:-0400
TZNAME:AST
DTSTART:20261101T050000
END:STANDARD
END:VTIMEZONE
BEGIN:VEVENT
DTSTART;TZID=America/Halifax:20250927T093000
DTEND;TZID=America/Halifax:20250927T130000
DTSTAMP:20260419T223712
CREATED:20250924T031324Z
LAST-MODIFIED:20250924T100409Z
UID:3950-1758965400-1758978000@www.unitedtapestry.com
SUMMARY:North Mountain Market Sept 27\, 2025
DESCRIPTION:END OF SEASON COUNTDOWN ONLY 3 MORE WEEKS in our 2025 SEASON!\nCome join us in Harbourville for Fresh Farm Produce\, Live Music\, Art\, Crafts\, Local Bakers and fresh sea air!\n       We have 9:30 AM start and we don’t close until 1PM.\nSavour the rugged beauty of the Bay of Fundy.  After the market enjoy lunch at the Harbourville Trading Company.\nWe are postcard worthy Nova Scotia !\nWe are north on Hwy 360 from Exit 15\, Hwy 101\nLook who is inside our historic little church on September 27….\nPaintings by Kathy  – painting on canvas and paper \nTapestry’s Coffee Shop-coffee and tea and Sweets by Raymond!\nChase Lane Creations  –Original art work\, refurbished furniture and bird/bath feeders.\nVallhalla Farm –  a traditional\, heritage farm returning to their roots; offering meat and eggs by order\, preserves\, pickles\, natural facial scrubs and more on their market table\nMcConnell House – antiques and treasures\nPaintings by Arnold  – Colourful paintings inspired by Haiti and Nova Scotia on canvas & tiles\, bracelets \nWoodlawn Hollow Homestead – wheat grass juice\, herbals\, handmade wooden stools\, hand pressed cider and teas\n Wandering Farms  – small scale\, hand-powered\, vegetable and herb farm.  grown with ecologically sound practices .\nKnotty Tapper – is sold out of Maple Syrup BUT will be at the market this week with fresh blueberries\, apples\, and more farm to table preserves for sale\nCottage Cove Rope Creations – Colourful recycled rope creations by Karen. Baskets\, mats\, trivets\nHarbourville Flower Fairie- Beautiful fresh flower bouquets to grace your home or to gift to a friend\nHolistcious-Yummy traditional breads and baked goods plus herbal products\nSilvery Moon Alpaca Farm-Handspun alpaca fibre  knitted\, felted\, woven wares. hand dyed habotai silk and essential oil blends\nRainbow Stitches-Clothing for men\, women and children in cotton and hemp\, silk and hemp\, linen….bags\, purses.\nLive Music with ‪‪‪‪Stewart Franck &‬‬‬‬ his special guest Jeff Coates!\n \n\nFor the Family\nOur Creation Station provides the supplies. The little ones provide the imagination and creativity! \n\n \n  \n  \n\n\n\n  \n  \n  \n  \n  \n  \n  \n  \n  \n  \n  \n  \n  \n  \n 
URL:https://www.unitedtapestry.com/event/north-mountain-market-sept-27-2025/
LOCATION:North Mountain United Tapestry\, 3201 Long Point Road\, Harbourville\, Nova Scotia\, B0P 1E0\, Canada
CATEGORIES:Market Day
ATTACH;FMTTYPE=image/jpeg:https://www.unitedtapestry.com/wp-content/uploads/2025/06/502471886_1242306627770114_1044975821691598580_n.jpg
ORGANIZER;CN="North Mountain United Tapestry":MAILTO:unitedtapestry@gmail.com
END:VEVENT
END:VCALENDAR