BEGIN:VCALENDAR
VERSION:2.0
PRODID:-//North Mountain United Tapestry - ECPv6.15.20//NONSGML v1.0//EN
CALSCALE:GREGORIAN
METHOD:PUBLISH
X-ORIGINAL-URL:https://www.unitedtapestry.com
X-WR-CALDESC:Events for North Mountain United Tapestry
REFRESH-INTERVAL;VALUE=DURATION:PT1H
X-Robots-Tag:noindex
X-PUBLISHED-TTL:PT1H
BEGIN:VTIMEZONE
TZID:America/Halifax
BEGIN:DAYLIGHT
TZOFFSETFROM:-0400
TZOFFSETTO:-0300
TZNAME:ADT
DTSTART:20240310T060000
END:DAYLIGHT
BEGIN:STANDARD
TZOFFSETFROM:-0300
TZOFFSETTO:-0400
TZNAME:AST
DTSTART:20241103T050000
END:STANDARD
BEGIN:DAYLIGHT
TZOFFSETFROM:-0400
TZOFFSETTO:-0300
TZNAME:ADT
DTSTART:20250309T060000
END:DAYLIGHT
BEGIN:STANDARD
TZOFFSETFROM:-0300
TZOFFSETTO:-0400
TZNAME:AST
DTSTART:20251102T050000
END:STANDARD
BEGIN:DAYLIGHT
TZOFFSETFROM:-0400
TZOFFSETTO:-0300
TZNAME:ADT
DTSTART:20260308T060000
END:DAYLIGHT
BEGIN:STANDARD
TZOFFSETFROM:-0300
TZOFFSETTO:-0400
TZNAME:AST
DTSTART:20261101T050000
END:STANDARD
END:VTIMEZONE
BEGIN:VEVENT
DTSTART;TZID=America/Halifax:20251004T093000
DTEND;TZID=America/Halifax:20251004T130000
DTSTAMP:20260419T205306
CREATED:20251003T181543Z
LAST-MODIFIED:20251003T201932Z
UID:3964-1759570200-1759582800@www.unitedtapestry.com
SUMMARY:North Mountain Market Oct 4\, 2025
DESCRIPTION:END OF SEASON COUNTDOWN ONLY 2 MORE WEEKS in our 2025 SEASON!\nCome join us in Harbourville for Fresh Farm Produce\, Live Music\, Art\, Crafts\, Local Bakers and fresh sea air!\n       We have 9:30 AM start and we don’t close until 1PM.\nSavour the rugged beauty of the Bay of Fundy.  After the market enjoy lunch at the Harbourville Trading Company.\nWe are postcard worthy Nova Scotia !\nWe are north on Hwy 360 from Exit 15\, Hwy 101\nLook who is inside our historic little church on September 27….\nPaintings by Kathy  – painting on canvas and paper \nKate’s Pantry Coffee Shop-coffee and tea and gluten free sweets!\nChase Lane Creations  –Original art work\, refurbished furniture and bird/bath feeders.\nVallhalla Farm –  a traditional\, heritage farm returning to their roots; offering meat and eggs by order\, preserves\, pickles\, natural facial scrubs and more on their market table\nMcConnell House – antiques and treasures\nPaintings by Arnold  – Colourful paintings inspired by Haiti and Nova Scotia on canvas & tiles\, bracelets \nWoodlawn Hollow Homestead – wheat grass juice\, herbals\, handmade wooden stools\, hand pressed cider and teas\n Wandering Farms  – small scale\, hand-powered\, vegetable and herb farm.  grown with ecologically sound practices .\nKnotty Tapper – is sold out of Maple Syrup BUT will be at the market this week with fresh blueberries\, apples\, and more farm to table preserves for sale\nCottage Cove Rope Creations – Colourful recycled rope creations by Karen. Baskets\, mats\, trivets\nHarbourville Flower Fairie- Beautiful fresh flower bouquets to grace your home or to gift to a friend\nHolistcious-Yummy traditional breads and baked goods plus herbal products\nSilvery Moon Alpaca Farm-Handspun alpaca fibre  knitted\, felted\, woven wares. hand dyed habotai silk and essential oil blends\nRainbow Stitches-Clothing for men\, women and children in cotton and hemp\, silk and hemp\, linen….bags\, purses.\nPerkins Polyculture  Delicious Pasture raised chicken and eggs\nWings and Things – They enjoy making animal birdhouses and other various outdoor decor. Barb will also be bringing her ikebana bases. Ikebana is the art of flower arranging that originates in ancient Japan.\nLive Music with Zakary Miller\n \nEnter you ballot to win a turkey! Draw October 11th\n \n  \nOur Creation Station provides the supplies. The little ones provide the imagination and creativity! \n\n \n  \n  \n\n\n\n  \n  \n  \n  \n  \n  \n  \n  \n  \n  \n  \n  \n  \n  \n 
URL:https://www.unitedtapestry.com/event/north-mountain-market-oct-4-2025/
LOCATION:North Mountain United Tapestry\, 3201 Long Point Road\, Harbourville\, Nova Scotia\, B0P 1E0\, Canada
CATEGORIES:Market Day
ATTACH;FMTTYPE=image/jpeg:https://www.unitedtapestry.com/wp-content/uploads/2025/06/502471886_1242306627770114_1044975821691598580_n.jpg
ORGANIZER;CN="North Mountain United Tapestry":MAILTO:unitedtapestry@gmail.com
END:VEVENT
END:VCALENDAR