BEGIN:VCALENDAR
VERSION:2.0
PRODID:-//North Mountain United Tapestry - ECPv6.15.20//NONSGML v1.0//EN
CALSCALE:GREGORIAN
METHOD:PUBLISH
X-WR-CALNAME:North Mountain United Tapestry
X-ORIGINAL-URL:https://www.unitedtapestry.com
X-WR-CALDESC:Events for North Mountain United Tapestry
REFRESH-INTERVAL;VALUE=DURATION:PT1H
X-Robots-Tag:noindex
X-PUBLISHED-TTL:PT1H
BEGIN:VTIMEZONE
TZID:America/Halifax
BEGIN:DAYLIGHT
TZOFFSETFROM:-0400
TZOFFSETTO:-0300
TZNAME:ADT
DTSTART:20240310T060000
END:DAYLIGHT
BEGIN:STANDARD
TZOFFSETFROM:-0300
TZOFFSETTO:-0400
TZNAME:AST
DTSTART:20241103T050000
END:STANDARD
BEGIN:DAYLIGHT
TZOFFSETFROM:-0400
TZOFFSETTO:-0300
TZNAME:ADT
DTSTART:20250309T060000
END:DAYLIGHT
BEGIN:STANDARD
TZOFFSETFROM:-0300
TZOFFSETTO:-0400
TZNAME:AST
DTSTART:20251102T050000
END:STANDARD
BEGIN:DAYLIGHT
TZOFFSETFROM:-0400
TZOFFSETTO:-0300
TZNAME:ADT
DTSTART:20260308T060000
END:DAYLIGHT
BEGIN:STANDARD
TZOFFSETFROM:-0300
TZOFFSETTO:-0400
TZNAME:AST
DTSTART:20261101T050000
END:STANDARD
END:VTIMEZONE
BEGIN:VEVENT
DTSTART;TZID=America/Halifax:20251011T093000
DTEND;TZID=America/Halifax:20251011T130000
DTSTAMP:20260419T205140
CREATED:20251010T185031Z
LAST-MODIFIED:20251010T202844Z
UID:3972-1760175000-1760187600@www.unitedtapestry.com
SUMMARY:North Mountain Market Oct 11\, 2025
DESCRIPTION:LAST MARKET OF OUR 2025 SEASON!\n \nCome join us in Harbourville for Fresh Farm Produce\, Live Music\, Art\, Crafts\, Local Bakers and fresh sea air!\n       9:30 AM – 1PM.\nWe are welcoming back this old friend of the market this week\nTwo Rivers Pottery  Gorgeous handmade stoneware and porcelain pottery made with solar power near the shores of the Bay of Fundy.\nAND \nNot Just Leather Repair – Sheila has always enjoyed the art of creating  from fabrics and went on to creating beautiful handbags from leather\nLook who is inside and on the grounds of  our historic little church on October 11….\nPaintings by Kathy  – painting on canvas and paper \nKate’s Pantry Coffee Shop-coffee and tea and gluten free sweets!\nChase Lane Creations  –Original art work\, refurbished furniture and bird/bath feeders.\nVallhalla Farm –  a traditional\, heritage farm returning to their roots; offering meat and eggs by order\, preserves\, pickles\, natural facial scrubs and more on their market table\nMcConnell House – antiques and treasures\nPaintings by Arnold  – Colourful paintings inspired by Haiti and Nova Scotia on canvas & tiles\, bracelets \nWoodlawn Hollow Homestead – wheat grass juice\, herbals\, handmade wooden stools\, hand pressed cider and teas\n Wandering Farms  – small scale\, hand-powered\, vegetable and herb farm.  grown with ecologically sound practices .\nKnotty Tapper – is sold out of Maple Syrup BUT will be at the market this week with more farm to table preserves for sale\nCottage Cove Rope Creations – Colourful recycled rope creations by Karen. Baskets\, mats and  trivets\nHarbourville Flower Fairie- Beautiful fresh flower bouquets to grace your home or to gift to a friend\nHolistcious-Yummy traditional breads and baked goods plus herbal products\nSilvery Moon Alpaca Farm-Handspun alpaca fibre  knitted\, felted\, woven wares. hand dyed habotai silk and essential oil blends\nPerkins Polyculture  Delicious Pasture raised chicken and eggs\nWings and Things – They enjoy making animal birdhouses and other various outdoor decor. Barb will also be bringing her ikebana bases. Ikebana is the art of flower arranging that originates in ancient Japan.\nLive Music with  Don Denny\n \n  \nEnter your ballot at the market to win a turkey! Draw October 11th!\n \n  \nOur Creation Station Pumpkin Painting Palooza- we provide the paint and pumpkins and the wee ones the imagination and creativity!\n\n  \n  \n  \n\n\n\n  \n  \n  \n  \n  \n  \n  \n  \n  \n  \n  \n  \n  \n  \n 
URL:https://www.unitedtapestry.com/event/north-mountain-market-oct-11-2025-2/
LOCATION:North Mountain United Tapestry\, 3201 Long Point Road\, Harbourville\, Nova Scotia\, B0P 1E0\, Canada
CATEGORIES:Market Day
ATTACH;FMTTYPE=image/jpeg:https://www.unitedtapestry.com/wp-content/uploads/2025/06/502471886_1242306627770114_1044975821691598580_n.jpg
ORGANIZER;CN="North Mountain United Tapestry":MAILTO:unitedtapestry@gmail.com
END:VEVENT
END:VCALENDAR