BEGIN:VCALENDAR
VERSION:2.0
PRODID:-//North Mountain United Tapestry - ECPv6.15.20//NONSGML v1.0//EN
CALSCALE:GREGORIAN
METHOD:PUBLISH
X-ORIGINAL-URL:https://www.unitedtapestry.com
X-WR-CALDESC:Events for North Mountain United Tapestry
REFRESH-INTERVAL;VALUE=DURATION:PT1H
X-Robots-Tag:noindex
X-PUBLISHED-TTL:PT1H
BEGIN:VTIMEZONE
TZID:America/Halifax
BEGIN:DAYLIGHT
TZOFFSETFROM:-0400
TZOFFSETTO:-0300
TZNAME:ADT
DTSTART:20240310T060000
END:DAYLIGHT
BEGIN:STANDARD
TZOFFSETFROM:-0300
TZOFFSETTO:-0400
TZNAME:AST
DTSTART:20241103T050000
END:STANDARD
BEGIN:DAYLIGHT
TZOFFSETFROM:-0400
TZOFFSETTO:-0300
TZNAME:ADT
DTSTART:20250309T060000
END:DAYLIGHT
BEGIN:STANDARD
TZOFFSETFROM:-0300
TZOFFSETTO:-0400
TZNAME:AST
DTSTART:20251102T050000
END:STANDARD
BEGIN:DAYLIGHT
TZOFFSETFROM:-0400
TZOFFSETTO:-0300
TZNAME:ADT
DTSTART:20260308T060000
END:DAYLIGHT
BEGIN:STANDARD
TZOFFSETFROM:-0300
TZOFFSETTO:-0400
TZNAME:AST
DTSTART:20261101T050000
END:STANDARD
END:VTIMEZONE
BEGIN:VEVENT
DTSTART;TZID=America/Halifax:20251018T190000
DTEND;TZID=America/Halifax:20251018T210000
DTSTAMP:20260419T205240
CREATED:20250304T033411Z
LAST-MODIFIED:20251003T174220Z
UID:3697-1760814000-1760821200@www.unitedtapestry.com
SUMMARY:Oct 18 Rita Johns
DESCRIPTION:ita Johns is a Canadian Juno Nominee. She is a song writing genius from a time that held artists like herself\, Ella Fitzgerald\, and many more. Rita will be singing music from the 40’s to today with a backing soundtrack created by her husband\, Bob Federer. Bob is another well loved local musician\, recording engineer and producer. We will be setting Tapestry up cabaret style with tables\, flowers and candles.Book yours today. Advance reservations. We will save a few tickets for the door ($20 at the door)\, but really\, candlelight and the velvet butterscotch voice of Rita Johns\, who could ask for anything more? \nPLUS Disco set from the 70s! Calling All Girls!7PM start Doors open at 6;30PMTickets $15 e transfer music@unitedtapestry.com 
URL:https://www.unitedtapestry.com/event/oct-12-rita-johns/
LOCATION:North Mountain United Tapestry\, 3201 Long Point Road\, Harbourville\, Nova Scotia\, B0P 1E0\, Canada
CATEGORIES:Concerts
ATTACH;FMTTYPE=image/png:https://www.unitedtapestry.com/wp-content/uploads/2025/03/Pink-and-Black-Modern-Music-Event-Instagram-Post-3.png
ORGANIZER;CN="North Mountain United Tapestry":MAILTO:unitedtapestry@gmail.com
END:VEVENT
END:VCALENDAR