BEGIN:VCALENDAR
VERSION:2.0
PRODID:-//North Mountain United Tapestry - ECPv6.15.20//NONSGML v1.0//EN
CALSCALE:GREGORIAN
METHOD:PUBLISH
X-ORIGINAL-URL:https://www.unitedtapestry.com
X-WR-CALDESC:Events for North Mountain United Tapestry
REFRESH-INTERVAL;VALUE=DURATION:PT1H
X-Robots-Tag:noindex
X-PUBLISHED-TTL:PT1H
BEGIN:VTIMEZONE
TZID:America/Halifax
BEGIN:DAYLIGHT
TZOFFSETFROM:-0400
TZOFFSETTO:-0300
TZNAME:ADT
DTSTART:20240310T060000
END:DAYLIGHT
BEGIN:STANDARD
TZOFFSETFROM:-0300
TZOFFSETTO:-0400
TZNAME:AST
DTSTART:20241103T050000
END:STANDARD
BEGIN:DAYLIGHT
TZOFFSETFROM:-0400
TZOFFSETTO:-0300
TZNAME:ADT
DTSTART:20250309T060000
END:DAYLIGHT
BEGIN:STANDARD
TZOFFSETFROM:-0300
TZOFFSETTO:-0400
TZNAME:AST
DTSTART:20251102T050000
END:STANDARD
BEGIN:DAYLIGHT
TZOFFSETFROM:-0400
TZOFFSETTO:-0300
TZNAME:ADT
DTSTART:20260308T060000
END:DAYLIGHT
BEGIN:STANDARD
TZOFFSETFROM:-0300
TZOFFSETTO:-0400
TZNAME:AST
DTSTART:20261101T050000
END:STANDARD
END:VTIMEZONE
BEGIN:VEVENT
DTSTART;TZID=America/Halifax:20251224T170000
DTEND;TZID=America/Halifax:20251224T180000
DTSTAMP:20260419T171234
CREATED:20251101T175332Z
LAST-MODIFIED:20251124T165105Z
UID:3990-1766595600-1766599200@www.unitedtapestry.com
SUMMARY:Christmas Eve Gathering
DESCRIPTION:Come join with us as we celebrate together in our historic little church on the bluff with a much beloved annual Christmas Eve gathering. We  will welcome special musical guests . We will have community carol singing and the telling of the Christmas Story from scripture . 5:00 -6:00 pm\nCome\, children and teenagers\, brothers and sisters\, come andbehold the Christmas miracle.O come\, all ye faithfulO come\, men and women\, parents and grandparents\, come andhear the Christmas story.O come\, all ye faithfulO come\, all the world\, every race and place\, come and receivethis Christmas Blessing.All: O come\, all ye faithful
URL:https://www.unitedtapestry.com/event/christmas-eve-gathering-2/
LOCATION:North Mountain United Tapestry\, 3201 Long Point Road\, Harbourville\, Nova Scotia\, B0P 1E0\, Canada
CATEGORIES:Church Services
ATTACH;FMTTYPE=image/jpeg:https://www.unitedtapestry.com/wp-content/uploads/2025/11/Christmas-Eve-Poster-2025-2.jpg
ORGANIZER;CN="North Mountain United Tapestry":MAILTO:unitedtapestry@gmail.com
END:VEVENT
END:VCALENDAR