BEGIN:VCALENDAR
VERSION:2.0
PRODID:-//North Mountain United Tapestry - ECPv6.15.20//NONSGML v1.0//EN
CALSCALE:GREGORIAN
METHOD:PUBLISH
X-WR-CALNAME:North Mountain United Tapestry
X-ORIGINAL-URL:https://www.unitedtapestry.com
X-WR-CALDESC:Events for North Mountain United Tapestry
REFRESH-INTERVAL;VALUE=DURATION:PT1H
X-Robots-Tag:noindex
X-PUBLISHED-TTL:PT1H
BEGIN:VTIMEZONE
TZID:America/Halifax
BEGIN:DAYLIGHT
TZOFFSETFROM:-0400
TZOFFSETTO:-0300
TZNAME:ADT
DTSTART:20220313T060000
END:DAYLIGHT
BEGIN:STANDARD
TZOFFSETFROM:-0300
TZOFFSETTO:-0400
TZNAME:AST
DTSTART:20221106T050000
END:STANDARD
BEGIN:DAYLIGHT
TZOFFSETFROM:-0400
TZOFFSETTO:-0300
TZNAME:ADT
DTSTART:20230312T060000
END:DAYLIGHT
BEGIN:STANDARD
TZOFFSETFROM:-0300
TZOFFSETTO:-0400
TZNAME:AST
DTSTART:20231105T050000
END:STANDARD
BEGIN:DAYLIGHT
TZOFFSETFROM:-0400
TZOFFSETTO:-0300
TZNAME:ADT
DTSTART:20240310T060000
END:DAYLIGHT
BEGIN:STANDARD
TZOFFSETFROM:-0300
TZOFFSETTO:-0400
TZNAME:AST
DTSTART:20241103T050000
END:STANDARD
END:VTIMEZONE
BEGIN:VEVENT
DTSTART;TZID=America/Halifax:20230701T093000
DTEND;TZID=America/Halifax:20230701T130000
DTSTAMP:20260422T111449
CREATED:20230529T153141Z
LAST-MODIFIED:20230530T135845Z
UID:2855-1688203800-1688216400@www.unitedtapestry.com
SUMMARY:Market Music - Soulmates
DESCRIPTION:Each week during market hours\, we have special musicians lined up to enhance your community experience.  We’ve got a fantastic line up of musicians set to play at each of our North Mountain Farmers’ Markets\, starting on May 27th
URL:https://www.unitedtapestry.com/event/market-music-soulmates/
LOCATION:Nova Scotia
CATEGORIES:Music At The Market
ATTACH;FMTTYPE=image/png:https://www.unitedtapestry.com/wp-content/uploads/2023/05/Music-At-The-Market1.png
END:VEVENT
BEGIN:VEVENT
DTSTART;TZID=America/Halifax:20230708T093000
DTEND;TZID=America/Halifax:20230708T130000
DTSTAMP:20260422T111449
CREATED:20230529T153251Z
LAST-MODIFIED:20230530T135823Z
UID:2857-1688808600-1688821200@www.unitedtapestry.com
SUMMARY:Market Music - Cristian Quirivan
DESCRIPTION:Each week during market hours\, we have special musicians lined up to enhance your community experience.  We’ve got a fantastic line up of musicians set to play at each of our North Mountain Farmers’ Markets\, starting on May 27th
URL:https://www.unitedtapestry.com/event/market-music-cristian-quirivan/
LOCATION:Nova Scotia
CATEGORIES:Music At The Market
ATTACH;FMTTYPE=image/png:https://www.unitedtapestry.com/wp-content/uploads/2023/05/Market-Music-1.png
END:VEVENT
BEGIN:VEVENT
DTSTART;TZID=America/Halifax:20230715T093000
DTEND;TZID=America/Halifax:20230715T130000
DTSTAMP:20260422T111449
CREATED:20230529T153335Z
LAST-MODIFIED:20230530T135801Z
UID:2859-1689413400-1689426000@www.unitedtapestry.com
SUMMARY:Market Music - The Black Rock Buoys
DESCRIPTION:Each week during market hours\, we have special musicians lined up to enhance your community experience.  We’ve got a fantastic line up of musicians set to play at each of our North Mountain Farmers’ Markets\, starting on May 27th
URL:https://www.unitedtapestry.com/event/market-music-black-rock-buoys/
LOCATION:Nova Scotia
CATEGORIES:Music At The Market
ATTACH;FMTTYPE=image/png:https://www.unitedtapestry.com/wp-content/uploads/2023/05/Music-At-The-Market1.png
END:VEVENT
BEGIN:VEVENT
DTSTART;TZID=America/Halifax:20230722T093000
DTEND;TZID=America/Halifax:20230722T130000
DTSTAMP:20260422T111449
CREATED:20230529T153414Z
LAST-MODIFIED:20230530T135720Z
UID:2861-1690018200-1690030800@www.unitedtapestry.com
SUMMARY:Market Music - Terry Jagger
DESCRIPTION:Each week during market hours\, we have special musicians lined up to enhance your community experience.  We’ve got a fantastic line up of musicians set to play at each of our North Mountain Farmers’ Markets\, starting on May 27th
URL:https://www.unitedtapestry.com/event/market-music-terry-jagger/
LOCATION:Nova Scotia
CATEGORIES:Music At The Market
ATTACH;FMTTYPE=image/png:https://www.unitedtapestry.com/wp-content/uploads/2023/05/Market-Music-1.png
END:VEVENT
BEGIN:VEVENT
DTSTART;TZID=America/Halifax:20230729T093000
DTEND;TZID=America/Halifax:20230729T130000
DTSTAMP:20260422T111449
CREATED:20230529T153451Z
LAST-MODIFIED:20230530T135634Z
UID:2863-1690623000-1690635600@www.unitedtapestry.com
SUMMARY:Market Music - Andrew Hill
DESCRIPTION:Each week during market hours\, we have special musicians lined up to enhance your community experience.  We’ve got a fantastic line up of musicians set to play at each of our North Mountain Farmers’ Markets\, starting on May 27th
URL:https://www.unitedtapestry.com/event/market-music-andrew-hill/
LOCATION:Nova Scotia
CATEGORIES:Music At The Market
ATTACH;FMTTYPE=image/png:https://www.unitedtapestry.com/wp-content/uploads/2023/05/Music-At-The-Market1.png
END:VEVENT
BEGIN:VEVENT
DTSTART;TZID=America/Halifax:20230730T190000
DTEND;TZID=America/Halifax:20230730T210000
DTSTAMP:20260422T111449
CREATED:20230502T161704Z
LAST-MODIFIED:20230727T223658Z
UID:2552-1690743600-1690750800@www.unitedtapestry.com
SUMMARY:SOLD OUT - Terra Spencer
DESCRIPTION:We are thrilled to announce that we are sold out for Terra Spencer’s concert! \nRaised on the mud banks of the Avon River\, award-winning Nova Scotian funeral director-turned-songwriter Terra Spencer has won over audiences in Canada\, the UK\, and Germany since her 2018 debut. She has already crafted a catalogue of startlingly intimate songs\, marrying fingerstyle guitar\, gospel piano\, and her butterscotch voice with sly humour and 70s wood-paneled warmth. Terra recently released her third album\, Old News\, created with Ben Caplan and celebrated with a cross-Canada and UK tour. In a room of 5 or 500\, every show is a knee-to-knee conversation with a natural storyteller. \n Randy Newman\, Joni Mitchell\, and Karen Carpenter walk into a bar… “The real deal.” – Ron Sexsmith \nPreview Listen To Terra Spencer:
URL:https://www.unitedtapestry.com/event/terra-spencer/
LOCATION:Nova Scotia
CATEGORIES:Concerts
ATTACH;FMTTYPE=image/png:https://www.unitedtapestry.com/wp-content/uploads/2023/05/terra-spencer.png
END:VEVENT
END:VCALENDAR