BEGIN:VCALENDAR
VERSION:2.0
PRODID:-//North Mountain United Tapestry - ECPv6.15.20//NONSGML v1.0//EN
CALSCALE:GREGORIAN
METHOD:PUBLISH
X-ORIGINAL-URL:https://www.unitedtapestry.com
X-WR-CALDESC:Events for North Mountain United Tapestry
REFRESH-INTERVAL;VALUE=DURATION:PT1H
X-Robots-Tag:noindex
X-PUBLISHED-TTL:PT1H
BEGIN:VTIMEZONE
TZID:America/Halifax
BEGIN:DAYLIGHT
TZOFFSETFROM:-0400
TZOFFSETTO:-0300
TZNAME:ADT
DTSTART:20220313T060000
END:DAYLIGHT
BEGIN:STANDARD
TZOFFSETFROM:-0300
TZOFFSETTO:-0400
TZNAME:AST
DTSTART:20221106T050000
END:STANDARD
BEGIN:DAYLIGHT
TZOFFSETFROM:-0400
TZOFFSETTO:-0300
TZNAME:ADT
DTSTART:20230312T060000
END:DAYLIGHT
BEGIN:STANDARD
TZOFFSETFROM:-0300
TZOFFSETTO:-0400
TZNAME:AST
DTSTART:20231105T050000
END:STANDARD
BEGIN:DAYLIGHT
TZOFFSETFROM:-0400
TZOFFSETTO:-0300
TZNAME:ADT
DTSTART:20240310T060000
END:DAYLIGHT
BEGIN:STANDARD
TZOFFSETFROM:-0300
TZOFFSETTO:-0400
TZNAME:AST
DTSTART:20241103T050000
END:STANDARD
END:VTIMEZONE
BEGIN:VEVENT
DTSTART;TZID=America/Halifax:20230805T093000
DTEND;TZID=America/Halifax:20230805T130000
DTSTAMP:20260422T095039
CREATED:20230529T153549Z
LAST-MODIFIED:20230530T135609Z
UID:2865-1691227800-1691240400@www.unitedtapestry.com
SUMMARY:Market Music - Zakary Miller
DESCRIPTION:Each week during market hours\, we have special musicians lined up to enhance your community experience.  We’ve got a fantastic line up of musicians set to play at each of our North Mountain Farmers’ Markets\, starting on May 27th
URL:https://www.unitedtapestry.com/event/market-music-zakary-miller/
LOCATION:Nova Scotia
CATEGORIES:Music At The Market
ATTACH;FMTTYPE=image/png:https://www.unitedtapestry.com/wp-content/uploads/2023/05/Market-Music-1.png
END:VEVENT
BEGIN:VEVENT
DTSTART;TZID=America/Halifax:20230812T093000
DTEND;TZID=America/Halifax:20230812T130000
DTSTAMP:20260422T095039
CREATED:20230529T160100Z
LAST-MODIFIED:20230530T135548Z
UID:2867-1691832600-1691845200@www.unitedtapestry.com
SUMMARY:Market Music - Two In The Morning Trio
DESCRIPTION:Each week during market hours\, we have special musicians lined up to enhance your community experience.  We’ve got a fantastic line up of musicians set to play at each of our North Mountain Farmers’ Markets\, starting on May 27th
URL:https://www.unitedtapestry.com/event/market-music-two-in-morning/
LOCATION:Nova Scotia
CATEGORIES:Music At The Market
ATTACH;FMTTYPE=image/png:https://www.unitedtapestry.com/wp-content/uploads/2023/05/Music-At-The-Market1.png
END:VEVENT
BEGIN:VEVENT
DTSTART;TZID=America/Halifax:20230819T093000
DTEND;TZID=America/Halifax:20230819T130000
DTSTAMP:20260422T095039
CREATED:20230529T160207Z
LAST-MODIFIED:20230530T135522Z
UID:2871-1692437400-1692450000@www.unitedtapestry.com
SUMMARY:Market Music - Kim Doolittle
DESCRIPTION:Each week during market hours\, we have special musicians lined up to enhance your community experience.  We’ve got a fantastic line up of musicians set to play at each of our North Mountain Farmers’ Markets\, starting on May 27th
URL:https://www.unitedtapestry.com/event/market-music-kim-doolittle/
LOCATION:Nova Scotia
CATEGORIES:Music At The Market
ATTACH;FMTTYPE=image/png:https://www.unitedtapestry.com/wp-content/uploads/2023/05/Market-Music-1.png
END:VEVENT
BEGIN:VEVENT
DTSTART;TZID=America/Halifax:20230820T190000
DTEND;TZID=America/Halifax:20230820T210000
DTSTAMP:20260422T095039
CREATED:20230502T152954Z
LAST-MODIFIED:20230727T222810Z
UID:2540-1692558000-1692565200@www.unitedtapestry.com
SUMMARY:CANCELLED - Two In The Morning
DESCRIPTION:Unfortunately Two In the Morning has cancelled their concert scheduled for August 20th. \nStay tuned for updates on a potential concert replacement.
URL:https://www.unitedtapestry.com/event/two-in-the-morning/
LOCATION:Nova Scotia
CATEGORIES:Concerts
ATTACH;FMTTYPE=image/png:https://www.unitedtapestry.com/wp-content/uploads/2023/05/NMUT-Concert.png
END:VEVENT
BEGIN:VEVENT
DTSTART;TZID=America/Halifax:20230826T093000
DTEND;TZID=America/Halifax:20230826T130000
DTSTAMP:20260422T095039
CREATED:20230529T160244Z
LAST-MODIFIED:20230530T135501Z
UID:2873-1693042200-1693054800@www.unitedtapestry.com
SUMMARY:Market Music - Bob Deveau
DESCRIPTION:Each week during market hours\, we have special musicians lined up to enhance your community experience.  We’ve got a fantastic line up of musicians set to play at each of our North Mountain Farmers’ Markets\, starting on May 27th
URL:https://www.unitedtapestry.com/event/market-music-bob-deveau/
LOCATION:Nova Scotia
CATEGORIES:Music At The Market
ATTACH;FMTTYPE=image/png:https://www.unitedtapestry.com/wp-content/uploads/2023/05/Music-At-The-Market1.png
END:VEVENT
END:VCALENDAR