BEGIN:VCALENDAR
VERSION:2.0
PRODID:-//North Mountain United Tapestry - ECPv6.15.20//NONSGML v1.0//EN
CALSCALE:GREGORIAN
METHOD:PUBLISH
X-WR-CALNAME:North Mountain United Tapestry
X-ORIGINAL-URL:https://www.unitedtapestry.com
X-WR-CALDESC:Events for North Mountain United Tapestry
REFRESH-INTERVAL;VALUE=DURATION:PT1H
X-Robots-Tag:noindex
X-PUBLISHED-TTL:PT1H
BEGIN:VTIMEZONE
TZID:America/Halifax
BEGIN:DAYLIGHT
TZOFFSETFROM:-0400
TZOFFSETTO:-0300
TZNAME:ADT
DTSTART:20220313T060000
END:DAYLIGHT
BEGIN:STANDARD
TZOFFSETFROM:-0300
TZOFFSETTO:-0400
TZNAME:AST
DTSTART:20221106T050000
END:STANDARD
BEGIN:DAYLIGHT
TZOFFSETFROM:-0400
TZOFFSETTO:-0300
TZNAME:ADT
DTSTART:20230312T060000
END:DAYLIGHT
BEGIN:STANDARD
TZOFFSETFROM:-0300
TZOFFSETTO:-0400
TZNAME:AST
DTSTART:20231105T050000
END:STANDARD
BEGIN:DAYLIGHT
TZOFFSETFROM:-0400
TZOFFSETTO:-0300
TZNAME:ADT
DTSTART:20240310T060000
END:DAYLIGHT
BEGIN:STANDARD
TZOFFSETFROM:-0300
TZOFFSETTO:-0400
TZNAME:AST
DTSTART:20241103T050000
END:STANDARD
END:VTIMEZONE
BEGIN:VEVENT
DTSTART;TZID=America/Halifax:20230902T093000
DTEND;TZID=America/Halifax:20230902T130000
DTSTAMP:20260422T082906
CREATED:20230529T160322Z
LAST-MODIFIED:20230530T135424Z
UID:2875-1693647000-1693659600@www.unitedtapestry.com
SUMMARY:Market Music - Zakary Miller
DESCRIPTION:Each week during market hours\, we have special musicians lined up to enhance your community experience.  We’ve got a fantastic line up of musicians set to play at each of our North Mountain Farmers’ Markets\, starting on May 27th
URL:https://www.unitedtapestry.com/event/market-music-zakary-miller-2/
LOCATION:Nova Scotia
CATEGORIES:Music At The Market
ATTACH;FMTTYPE=image/png:https://www.unitedtapestry.com/wp-content/uploads/2023/05/Market-Music-1.png
END:VEVENT
BEGIN:VEVENT
DTSTART;TZID=America/Halifax:20230909T093000
DTEND;TZID=America/Halifax:20230909T130000
DTSTAMP:20260422T082906
CREATED:20230529T160358Z
LAST-MODIFIED:20230530T135405Z
UID:2877-1694251800-1694264400@www.unitedtapestry.com
SUMMARY:Market Music - Victor Scarnati
DESCRIPTION:Each week during market hours\, we have special musicians lined up to enhance your community experience.  We’ve got a fantastic line up of musicians set to play at each of our North Mountain Farmers’ Markets\, starting on May 27th
URL:https://www.unitedtapestry.com/event/market-music-victor-scarnati/
LOCATION:Nova Scotia
CATEGORIES:Music At The Market
ATTACH;FMTTYPE=image/png:https://www.unitedtapestry.com/wp-content/uploads/2023/05/Music-At-The-Market1.png
END:VEVENT
BEGIN:VEVENT
DTSTART;TZID=America/Halifax:20230910T190000
DTEND;TZID=America/Halifax:20230910T210000
DTSTAMP:20260422T082906
CREATED:20230502T145025Z
LAST-MODIFIED:20230522T164350Z
UID:2525-1694372400-1694379600@www.unitedtapestry.com
SUMMARY:Sarah McInnis
DESCRIPTION:We are delighted to welcome Sarah McInnis to our United Tapestry stage. Sarah is a beloved friend AND ukulele teacher to many North Mountain folks. At the heart of her work\, Sarah is a songwriter\, co-creator\, and believes in the profound power of storytelling for healing. An accomplished multi-instrumentalist\, Sarah is trained in guitar\, fiddle\, piano\, ukulele\, and voice. She is a talented songwriter who has been writing original music since the age of 15. She is dedicated to her Nova Scotia community and beyond through her work as an educator and within the Legacy Song Project where she works to honour\, reflect on\, and preserve the memory of a loved ones in song. \nTO GET YOUR TICKETS – SEND AN EMAIL MONEY TRANSFER (EMT) to music@unitedtapestry.com. Please indicate which concert you wish to attend in the message. \nPreview Listen To Sarah:
URL:https://www.unitedtapestry.com/event/sarah-mcinnis/
LOCATION:Nova Scotia
CATEGORIES:Concerts
ATTACH;FMTTYPE=image/png:https://www.unitedtapestry.com/wp-content/uploads/2023/05/Sarah-McInnis.png
END:VEVENT
BEGIN:VEVENT
DTSTART;TZID=America/Halifax:20230916T093000
DTEND;TZID=America/Halifax:20230916T130000
DTSTAMP:20260422T082906
CREATED:20230529T160430Z
LAST-MODIFIED:20230530T135208Z
UID:2879-1694856600-1694869200@www.unitedtapestry.com
SUMMARY:Market Music - The Black Rock Buoys
DESCRIPTION:Each week during market hours\, we have special musicians lined up to enhance your community experience.  We’ve got a fantastic line up of musicians set to play at each of our North Mountain Farmers’ Markets\, starting on May 27th
URL:https://www.unitedtapestry.com/event/market-music-the-black-rock-buoys/
LOCATION:Nova Scotia
CATEGORIES:Music At The Market
ATTACH;FMTTYPE=image/png:https://www.unitedtapestry.com/wp-content/uploads/2023/05/Market-Music-1.png
END:VEVENT
BEGIN:VEVENT
DTSTART;TZID=America/Halifax:20230923T093000
DTEND;TZID=America/Halifax:20230923T130000
DTSTAMP:20260422T082906
CREATED:20230529T160515Z
LAST-MODIFIED:20230530T135307Z
UID:2881-1695461400-1695474000@www.unitedtapestry.com
SUMMARY:Market Music - Stewart Franck
DESCRIPTION:Each week during market hours\, we have special musicians lined up to enhance your community experience.  We’ve got a fantastic line up of musicians set to play at each of our North Mountain Farmers’ Markets\, starting on May 27th
URL:https://www.unitedtapestry.com/event/market-music-stewart-franck/
LOCATION:Nova Scotia
CATEGORIES:Music At The Market
ATTACH;FMTTYPE=image/png:https://www.unitedtapestry.com/wp-content/uploads/2023/05/Music-At-The-Market1.png
END:VEVENT
BEGIN:VEVENT
DTSTART;TZID=America/Halifax:20230930T093000
DTEND;TZID=America/Halifax:20230930T130000
DTSTAMP:20260422T082906
CREATED:20230529T160554Z
LAST-MODIFIED:20230530T135116Z
UID:2883-1696066200-1696078800@www.unitedtapestry.com
SUMMARY:Market Music - The Von Zadoz
DESCRIPTION:Each week during market hours\, we have special musicians lined up to enhance your community experience.  We’ve got a fantastic line up of musicians set to play at each of our North Mountain Farmers’ Markets\, starting on May 27th
URL:https://www.unitedtapestry.com/event/market-music-the-von-zadoz/
LOCATION:Nova Scotia
CATEGORIES:Music At The Market
ATTACH;FMTTYPE=image/png:https://www.unitedtapestry.com/wp-content/uploads/2023/05/Market-Music-1.png
END:VEVENT
END:VCALENDAR