BEGIN:VCALENDAR
VERSION:2.0
PRODID:-//North Mountain United Tapestry - ECPv6.15.20//NONSGML v1.0//EN
CALSCALE:GREGORIAN
METHOD:PUBLISH
X-ORIGINAL-URL:https://www.unitedtapestry.com
X-WR-CALDESC:Events for North Mountain United Tapestry
REFRESH-INTERVAL;VALUE=DURATION:PT1H
X-Robots-Tag:noindex
X-PUBLISHED-TTL:PT1H
BEGIN:VTIMEZONE
TZID:America/Halifax
BEGIN:DAYLIGHT
TZOFFSETFROM:-0400
TZOFFSETTO:-0300
TZNAME:ADT
DTSTART:20230312T060000
END:DAYLIGHT
BEGIN:STANDARD
TZOFFSETFROM:-0300
TZOFFSETTO:-0400
TZNAME:AST
DTSTART:20231105T050000
END:STANDARD
BEGIN:DAYLIGHT
TZOFFSETFROM:-0400
TZOFFSETTO:-0300
TZNAME:ADT
DTSTART:20240310T060000
END:DAYLIGHT
BEGIN:STANDARD
TZOFFSETFROM:-0300
TZOFFSETTO:-0400
TZNAME:AST
DTSTART:20241103T050000
END:STANDARD
BEGIN:DAYLIGHT
TZOFFSETFROM:-0400
TZOFFSETTO:-0300
TZNAME:ADT
DTSTART:20250309T060000
END:DAYLIGHT
BEGIN:STANDARD
TZOFFSETFROM:-0300
TZOFFSETTO:-0400
TZNAME:AST
DTSTART:20251102T050000
END:STANDARD
END:VTIMEZONE
BEGIN:VEVENT
DTSTART;TZID=America/Halifax:20240601T093000
DTEND;TZID=America/Halifax:20240601T130000
DTSTAMP:20260421T070544
CREATED:20240309T195930Z
LAST-MODIFIED:20240528T202322Z
UID:3138-1717234200-1717246800@www.unitedtapestry.com
SUMMARY:North Mountain Market Opening Day 2024
DESCRIPTION:Mark June 1st on your calendar and come join us for Food\, Live Music\, Art\, Crafts. 9:30 AM start . Stay for lunch\, we don’t close until 1PM. Enjoy our Heritage Display. Savour the rugged beauty of the Bay of Fundy. Shop at Harbourville’s wharf side Fish Market. Enjoy lunch at the Harbourville Trading Company (opening June 1st)or browse the Red Herring Gallery (also opening June 1st) just behind the Trading Company. Paintings from Harbourville Rose Studio will be there\, along with fine artists from Kentville’s Tides Gallery. We are iconic Nova Scotia at its best!\nFollow the Mermaid north on Hwy 360 from Exit 15\, Hwy 101\n\nFrom local artisans to fresh farm produce\, there’s a treasure trove of delights waiting for you. Don’t miss out on this vibrant showcase of community talent and craftsmanship.\nPerkins Polyculture Farm  \nBaking with CLASS\nPaintings by Kathy \nSea Level Brewing\nSilvery Moon Alpacas Farm\nKate’s Pantry Coffee Shop\nWandering Farms\nCoast Mountain Designs \nChase Lane Creations\nChristine Faour Author\nTwo Rivers Pottery\nShannon Graves Jewellery\nEastern Door Arts & Crafts\nMeegan Lovett Holistic Health\nBrian Adams Woodworking\nNot Just Leather Repairs\nPete’s Creations\nFront Porch Designs by Andrea\nThe Petal Farm\nSundog Farm Goodies\nOcean Zn Gifts\nWings and Things\nWondering how to find your vendors?\n\n  \nPLUS! Live Music with …..with our own Zakary Miller!\n \n  \n  \n  \n  \n  \n  \n  \n  \n  \n 
URL:https://www.unitedtapestry.com/event/north-mountain-market-opening-day-2024/
LOCATION:North Mountain United Tapestry\, 3201 Long Point Road\, Harbourville\, Nova Scotia\, B0P 1E0\, Canada
CATEGORIES:Market Day
ATTACH;FMTTYPE=image/png:https://www.unitedtapestry.com/wp-content/uploads/2023/05/background-church-2.png
ORGANIZER;CN="North Mountain United Tapestry":MAILTO:unitedtapestry@gmail.com
END:VEVENT
BEGIN:VEVENT
DTSTART;TZID=America/Halifax:20240608T093000
DTEND;TZID=America/Halifax:20240608T130000
DTSTAMP:20260421T070544
CREATED:20240606T163809Z
LAST-MODIFIED:20240606T170906Z
UID:3342-1717839000-1717851600@www.unitedtapestry.com
SUMMARY:Market June 8th
DESCRIPTION:  \n \nOur Expected Vendors this week\nPaintings by Kathy  * Silvery Moon Alpacas Farm\nCoast Mountain Designs * Neck’ed * Baking with CLASS\nTwisted Whisk Bakery * Shannon Graves Jewellery *\nPerkins Polyculture * Brian Adams Twig Furniture\n Sea Level Brewing *Wandering Farm * Kate’s Pantry Coffeeshop\nPete’s Creations * Remy’s Friends Pet Wear *\nHilda de Vries Stuffies * North Mountain Uprising …and more to come\nMusic\nMarket Map
URL:https://www.unitedtapestry.com/event/market-june-8th/
LOCATION:North Mountain United Tapestry\, 3201 Long Point Road\, Harbourville\, Nova Scotia\, B0P 1E0\, Canada
CATEGORIES:Market Day
ORGANIZER;CN="North Mountain United Tapestry":MAILTO:unitedtapestry@gmail.com
END:VEVENT
BEGIN:VEVENT
DTSTART;TZID=America/Halifax:20240608T190000
DTEND;TZID=America/Halifax:20240608T210000
DTSTAMP:20260421T070544
CREATED:20240229T152407Z
LAST-MODIFIED:20240229T152655Z
UID:3098-1717873200-1717880400@www.unitedtapestry.com
SUMMARY:Kim Doolittle sings the Songs of  Joni Mitchell
DESCRIPTION:Kim Doolittle is a lifetime Singer\, Songwriter\, Storyteller & Musician and in 2024 is marking “50 Years a Singer” with new music and a special retrospective show.   \nShe has 9 albums to her credit with #10 dropping in the Fall/Winter of this year.  She has come full circle back to her Nova Scotian roots and among her own Original Songs\, will do an Homage to Canada’s Premiere Singer\, Songwriter Joni Mitchell which she will be bringing to The North Mountain Concert Series on June 8\, 2024.  \nJoining Kim will be Con Spirito . The guitar duo will bring their clear\, clean  and tasteful presentation of skill and art to this special showcase. \nGet your tickets to see this Original\, Storied and Seasoned Artist at the North Mountain United Tapestry.  See you there! \nTickets and info  music@unitedtapestry.com  902-538-7053 \n \nOur Full Season. Join us for any or all of our 2024 concerts!
URL:https://www.unitedtapestry.com/event/kim-doolittle-sings-joni/
LOCATION:North Mountain United Tapestry\, 3201 Long Point Road\, Harbourville\, Nova Scotia\, B0P 1E0\, Canada
CATEGORIES:Concerts
ATTACH;FMTTYPE=image/jpeg:https://www.unitedtapestry.com/wp-content/uploads/2024/02/KIm-Doolittle-Poster.jpg
ORGANIZER;CN="North Mountain United Tapestry":MAILTO:unitedtapestry@gmail.com
END:VEVENT
BEGIN:VEVENT
DTSTART;TZID=America/Halifax:20240615T093000
DTEND;TZID=America/Halifax:20240615T130000
DTSTAMP:20260421T070544
CREATED:20240614T182404Z
LAST-MODIFIED:20240615T024921Z
UID:3349-1718443800-1718456400@www.unitedtapestry.com
SUMMARY:June 15 Market Day
DESCRIPTION:Its forecast to be a rainy day tomorrow….come in out of the showers! \nOur sweet little historic church will be full  of \nFresh produce from Wandering Farm \, \nSTRAWBERRIES from Morse Farms\, \nfree range poultry from Perkins Polyculture\, \ncraft beer and cider  from Sea Level Brewing\, \nvisual art from Kathy  and Crystal \, \nInuit jewellery from One Spruce Twig Beadwork\, \n Wild Horse Pottery’s Donna Fagen will have  shelves full of her beautiful work and \na special YOUNG ENTREPENEUR Table with  young folk from  Flying Squirrel Adventures \nAnd that’s not all! \nColleen with yummy baked treats from Baking with CLASS will be there \nand Sandy from Eastern Door Arts and Crafts with her amazing carved stone\, bone and pyrography . \nCathou of  Silvery Moon Alpacas Farm will be spinning here alpaca wool and selling her gorgeous  knitted and felted pieces. \nFresh baked bread and yummy goodies from Danielle of  Twisted Whisk .   \nBarb and Lyndon of Wings and Things  birdhouses and Ikebana stones will greet you  and \nCarrie  and her mom of Remy’s Friends have the cutest petwear! \nAni is going to switch things up and rather than bring her weaving she is going to showcase her other passion plants! And her son will bring farm fresh eggs \nPete and RePete of Pete’s Creations and Woodlawn Hollow Homestead (respectively) are offering wooden carved bowls  and herbs \nMusic by Robertson and Jaffurs! \n \nIts going to be great!! \n 
URL:https://www.unitedtapestry.com/event/june-15-market-day/
LOCATION:North Mountain United Tapestry\, 3201 Long Point Road\, Harbourville\, Nova Scotia\, B0P 1E0\, Canada
CATEGORIES:Market Day
ATTACH;FMTTYPE=image/png:https://www.unitedtapestry.com/wp-content/uploads/2024/04/Farmers-Market-1.png
ORGANIZER;CN="North Mountain United Tapestry":MAILTO:unitedtapestry@gmail.com
END:VEVENT
BEGIN:VEVENT
DTSTART;TZID=America/Halifax:20240622T093000
DTEND;TZID=America/Halifax:20240622T130000
DTSTAMP:20260421T070544
CREATED:20240620T161656Z
LAST-MODIFIED:20240620T161901Z
UID:3361-1719048600-1719061200@www.unitedtapestry.com
SUMMARY:June 22  North Mountain Market
DESCRIPTION:This week at the Market\nRustic Pots \nTwisted Whisk \nLife on Harmony Street \nThe Green Window Sill \nWoodlawn Hollow (Brian’s twig furniture and Pete’s Herbs etc) \nWandering Farm \nSea Level \nPerkins Polyculture \nBaking with CLASS \nChristine Faour Author \nSilvery Moon Alpacas Farm \nPaintings by Kathy \nKate’s Pantry CoffeeShop \nPete’s Creations \nWings and Things \nAni van Dyk \nChase Lane Creations \nMusic with …. \n \nMarket Map
URL:https://www.unitedtapestry.com/event/june-22-north-mountain-market/
LOCATION:North Mountain United Tapestry\, 3201 Long Point Road\, Harbourville\, Nova Scotia\, B0P 1E0\, Canada
CATEGORIES:Market Day
ORGANIZER;CN="North Mountain United Tapestry":MAILTO:unitedtapestry@gmail.com
END:VEVENT
BEGIN:VEVENT
DTSTART;TZID=America/Halifax:20240629T093000
DTEND;TZID=America/Halifax:20240629T130000
DTSTAMP:20260421T070544
CREATED:20240627T211609Z
LAST-MODIFIED:20240627T211733Z
UID:3389-1719653400-1719666000@www.unitedtapestry.com
SUMMARY:June 29 North Mountain Market
DESCRIPTION:THIS WEEK AT THE MARKET\nBaking with CLASS \nPerkins Polyculture \nSea Level Brewing \nWandering Farm \nBlomidon Naturalist Society Info Booth on Chain Lakes Wilderness Area \nOne Spruce Twig Beadwork \nPete’s Creations \nSilvery Moon Alpacas Farm \nChristine Faour Author and Lavender Farm  \nLaughing Lupins \nMeg Raven \nThe Give Hope Project \nKate’s Pantry Coffee Shop \nWoodlawn Hollow Homestead \nChase Lane Creations \nPaintings by Kathy \nMusic at the Market this week! Von Zadoz\n \nMarket Map\n \n 
URL:https://www.unitedtapestry.com/event/june-29-north-mountain-market/
LOCATION:North Mountain United Tapestry\, 3201 Long Point Road\, Harbourville\, Nova Scotia\, B0P 1E0\, Canada
CATEGORIES:Market Day
ATTACH;FMTTYPE=image/png:https://www.unitedtapestry.com/wp-content/uploads/2024/04/Mermaid310-trans-bg.png
ORGANIZER;CN="North Mountain United Tapestry":MAILTO:unitedtapestry@gmail.com
END:VEVENT
BEGIN:VEVENT
DTSTART;TZID=America/Halifax:20240630T110000
DTEND;TZID=America/Halifax:20240630T120000
DTSTAMP:20260421T070544
CREATED:20240514T141228Z
LAST-MODIFIED:20240630T123241Z
UID:3290-1719745200-1719748800@www.unitedtapestry.com
SUMMARY:CANCELLED DUE TO WEATHER June 30th  Church Service
DESCRIPTION:Sorry this service (June 30th)  is cancelled due to rainy and windy weather!  We are pleased to welcome the community to four church services this year on June 30\, July 14 and August 18\, 2024 at North Mountain United Tapestry at 11 am with Minister Sheila  Redden-Smith AND of course our wonderful community led Christmas Eve Service at 5:30 on Dec 24th. \n \nHarbourville United Church\n The Harbourville Church has a long history of service to this small community on the shores of the Bay of Fundy. In 1857 John Lathcrn. a ‘second man’ to the Methodist pastor in the Cornwallis district\, developed an interest in the Fundy Shore. Three years later the church in Harbourville was designed b Rev. George Butcher\, a Methodist pastor. and built by John Clark. Construction costs were approximately $1000.00 and the church opened for use in 1860.\n          Over the years. the people of the Harbourville community held many fund-raising events on behalf of the little church on the cliffs to equip it with pews\, altar cloths\, hymn books\, and other furnishings. In 1925. the little Methodist church became the Harbourville United Church and to this day is part of the charge ministered from Berwick United.\n       Improvements have been made and through a seven – generation history has been cared for by the community members\, especially the women of the Ladies’ Sewing Circle. The ecumenical nature of the church is emphasized today\, welcoming all members of the community. Like the community our church has a long and rich history on the shores of the Bay.\n      Since 2013 Harbourville United with the vision of “North Mountain Tapestry”  has evolved to become a gathering place for the local community offering a weekly summer farmers market\, craft displays\, concerts and interesting speakers. We also hold 3 summer worship services and a Community led Christmas Eve Service
URL:https://www.unitedtapestry.com/event/church-services/
LOCATION:North Mountain United Tapestry\, 3201 Long Point Road\, Harbourville\, Nova Scotia\, B0P 1E0\, Canada
CATEGORIES:Church Services
ATTACH;FMTTYPE=image/jpeg:https://www.unitedtapestry.com/wp-content/uploads/2023/06/301819959_524509096216541_1997318002147571523_n-1-1.jpg
ORGANIZER;CN="North Mountain United Tapestry":MAILTO:unitedtapestry@gmail.com
END:VEVENT
BEGIN:VEVENT
DTSTART;TZID=America/Halifax:20240630T190000
DTEND;TZID=America/Halifax:20240630T210000
DTSTAMP:20260421T070544
CREATED:20240515T161310Z
LAST-MODIFIED:20240515T161526Z
UID:3313-1719774000-1719781200@www.unitedtapestry.com
SUMMARY:Pennybrook Album Release ROW ON
DESCRIPTION:The return of Jude Pelley and Charlie Wilson\, known as “Pennybrook\,” to release their new album ROW ON is certainly a cause for celebration. Their blend of original instrumental compositions with a Celtic flair has warmed our little mountain church before. \nThe duo’s music\, described as atmospheric and rich\, seems to perfectly complement the ambiance of our mountain church setting. With Charlie Wilson on the Irish flute and whistles\, and Jude Pelley playing guitars\, mandolin\, and Appalachian dulcimer\, the audience is in for a treat of both traditional and contemporary Celtic sounds. \nIt’s great to hear that they will be joined by special guests\, adding even more excitement to the album release. Pennybrook’s dedication to their craft\, as evidenced by their previous album The Edge of Waiting released in 2021\, promises a memorable musical experience for all who attend. \nEnjoy the music and the celebration of ROW ON! \nThe Edge Of Waiting | Pennybrook (bandcamp.com) \n 
URL:https://www.unitedtapestry.com/event/pennybrook-album-release-row-on/
LOCATION:North Mountain United Tapestry\, 3201 Long Point Road\, Harbourville\, Nova Scotia\, B0P 1E0\, Canada
CATEGORIES:Concerts
ATTACH;FMTTYPE=image/png:https://www.unitedtapestry.com/wp-content/uploads/2024/05/Pennybrook-CD-Release.png
ORGANIZER;CN="North Mountain United Tapestry":MAILTO:unitedtapestry@gmail.com
END:VEVENT
END:VCALENDAR