BEGIN:VCALENDAR
VERSION:2.0
PRODID:-//North Mountain United Tapestry - ECPv6.15.20//NONSGML v1.0//EN
CALSCALE:GREGORIAN
METHOD:PUBLISH
X-WR-CALNAME:North Mountain United Tapestry
X-ORIGINAL-URL:https://www.unitedtapestry.com
X-WR-CALDESC:Events for North Mountain United Tapestry
REFRESH-INTERVAL;VALUE=DURATION:PT1H
X-Robots-Tag:noindex
X-PUBLISHED-TTL:PT1H
BEGIN:VTIMEZONE
TZID:America/Halifax
BEGIN:DAYLIGHT
TZOFFSETFROM:-0400
TZOFFSETTO:-0300
TZNAME:ADT
DTSTART:20230312T060000
END:DAYLIGHT
BEGIN:STANDARD
TZOFFSETFROM:-0300
TZOFFSETTO:-0400
TZNAME:AST
DTSTART:20231105T050000
END:STANDARD
BEGIN:DAYLIGHT
TZOFFSETFROM:-0400
TZOFFSETTO:-0300
TZNAME:ADT
DTSTART:20240310T060000
END:DAYLIGHT
BEGIN:STANDARD
TZOFFSETFROM:-0300
TZOFFSETTO:-0400
TZNAME:AST
DTSTART:20241103T050000
END:STANDARD
BEGIN:DAYLIGHT
TZOFFSETFROM:-0400
TZOFFSETTO:-0300
TZNAME:ADT
DTSTART:20250309T060000
END:DAYLIGHT
BEGIN:STANDARD
TZOFFSETFROM:-0300
TZOFFSETTO:-0400
TZNAME:AST
DTSTART:20251102T050000
END:STANDARD
END:VTIMEZONE
BEGIN:VEVENT
DTSTART;TZID=America/Halifax:20241208T140000
DTEND;TZID=America/Halifax:20241208T160000
DTSTAMP:20260420T151929
CREATED:20241104T151458Z
LAST-MODIFIED:20241104T151458Z
UID:3600-1733666400-1733673600@www.unitedtapestry.com
SUMMARY:SUNRETURN CONCERT A Medieval Christmas Celebration
DESCRIPTION:Celebrate! \nJoin our merry band of minstrels\, as we celebrate the passing year\, and the return of the light. Presenting sacred songs and lively dance tunes from the medieval era to the 18th century\, the Sunreturn band provides a wonderful antidote to the commercial holiday that Christmas has become\, in our modern era.
URL:https://www.unitedtapestry.com/event/sunreturn-concert-a-medieval-christmas-celebration/
LOCATION:North Mountain United Tapestry\, 3201 Long Point Road\, Harbourville\, Nova Scotia\, B0P 1E0\, Canada
CATEGORIES:Concerts
ATTACH;FMTTYPE=image/png:https://www.unitedtapestry.com/wp-content/uploads/2024/11/POster.png
ORGANIZER;CN="North Mountain United Tapestry":MAILTO:unitedtapestry@gmail.com
END:VEVENT
BEGIN:VEVENT
DTSTART;TZID=America/Halifax:20241214T100000
DTEND;TZID=America/Halifax:20241214T140000
DTSTAMP:20260420T151929
CREATED:20241205T195806Z
LAST-MODIFIED:20241205T200329Z
UID:3605-1734170400-1734184800@www.unitedtapestry.com
SUMMARY:Harbourville Christmas Market
DESCRIPTION:  \nThe North Mountain community celebrates Handmade for the Holidays with weavers\, bakers \, crocheters and knitters. A Celtic jeweller will be here and there will be beautiful wreaths and centerpieces to celebrate the season. Blacksmith Carmen Legge will be here with his portable forge as well as apple pressing and cider \nWhile we are” hosting” this event in our sweet little church here on the bluff\, the actual organizer and host is Virve Whiteway  Virve is a dedicated supporter of North Mountain United Tapestry and Market \, visual and fibre artist\,  and an amazing cook. Virve created the beautiful poster for the market . We are so honoured to have her as a strong  thread in the  weaving of our community’s Tapestry
URL:https://www.unitedtapestry.com/event/harbourville-christmas-market/
LOCATION:North Mountain United Tapestry\, 3201 Long Point Road\, Harbourville\, Nova Scotia\, B0P 1E0\, Canada
CATEGORIES:Holiday Market
ATTACH;FMTTYPE=image/jpeg:https://www.unitedtapestry.com/wp-content/uploads/2024/12/image0-2-scaled.jpeg
END:VEVENT
BEGIN:VEVENT
DTSTART;TZID=America/Halifax:20241224T173000
DTEND;TZID=America/Halifax:20241224T183000
DTSTAMP:20260420T151929
CREATED:20241205T200056Z
LAST-MODIFIED:20241224T185132Z
UID:3609-1735061400-1735065000@www.unitedtapestry.com
SUMMARY:CANCELLED Christmas Eve Gathering
DESCRIPTION:Our Christmas Eve gathering is cancelled due to very poor road conditions here on the mountain. We wish you joy\, hope and peace in your heart and homes. Merry Christmas dear friends and neighbours. See you in the spring of the New Year when Tapestry reopens.\n\nCANCELLED Come join with us as we celebrate together in our historic little church on the bluff with a much beloved annual Christmas Eve gathering. We welcome special musical guests Rita Johns and Spencer Laing. We will have community carol singing and the telling of the Christmas Story from scripture . 5:30 -6:30 pm\nCome\, children and teenagers\, brothers and sisters\, come andbehold the Christmas miracle.O come\, all ye faithfulO come\, men and women\, parents and grandparents\, come andhear the Christmas story.O come\, all ye faithfulO come\, all the world\, every race and place\, come and receivethis Christmas Blessing.All: O come\, all ye faithful
URL:https://www.unitedtapestry.com/event/christmas-eve-gathering/
LOCATION:North Mountain United Tapestry\, 3201 Long Point Road\, Harbourville\, Nova Scotia\, B0P 1E0\, Canada
CATEGORIES:Church Services
ATTACH;FMTTYPE=image/jpeg:https://www.unitedtapestry.com/wp-content/uploads/2024/12/Christmas-Eve-Poster-2024.jpg
ORGANIZER;CN="North Mountain United Tapestry":MAILTO:unitedtapestry@gmail.com
END:VEVENT
END:VCALENDAR