BEGIN:VCALENDAR
VERSION:2.0
PRODID:-//North Mountain United Tapestry - ECPv6.15.20//NONSGML v1.0//EN
CALSCALE:GREGORIAN
METHOD:PUBLISH
X-ORIGINAL-URL:https://www.unitedtapestry.com
X-WR-CALDESC:Events for North Mountain United Tapestry
REFRESH-INTERVAL;VALUE=DURATION:PT1H
X-Robots-Tag:noindex
X-PUBLISHED-TTL:PT1H
BEGIN:VTIMEZONE
TZID:America/Halifax
BEGIN:DAYLIGHT
TZOFFSETFROM:-0400
TZOFFSETTO:-0300
TZNAME:ADT
DTSTART:20240310T060000
END:DAYLIGHT
BEGIN:STANDARD
TZOFFSETFROM:-0300
TZOFFSETTO:-0400
TZNAME:AST
DTSTART:20241103T050000
END:STANDARD
BEGIN:DAYLIGHT
TZOFFSETFROM:-0400
TZOFFSETTO:-0300
TZNAME:ADT
DTSTART:20250309T060000
END:DAYLIGHT
BEGIN:STANDARD
TZOFFSETFROM:-0300
TZOFFSETTO:-0400
TZNAME:AST
DTSTART:20251102T050000
END:STANDARD
BEGIN:DAYLIGHT
TZOFFSETFROM:-0400
TZOFFSETTO:-0300
TZNAME:ADT
DTSTART:20260308T060000
END:DAYLIGHT
BEGIN:STANDARD
TZOFFSETFROM:-0300
TZOFFSETTO:-0400
TZNAME:AST
DTSTART:20261101T050000
END:STANDARD
END:VTIMEZONE
BEGIN:VEVENT
DTSTART;TZID=America/Halifax:20250607T093000
DTEND;TZID=America/Halifax:20250607T130000
DTSTAMP:20260420T021532
CREATED:20250607T093309Z
LAST-MODIFIED:20250607T094305Z
UID:3768-1749288600-1749301200@www.unitedtapestry.com
SUMMARY:North Mountain Market June 7th 2025
DESCRIPTION:https://www.unitedtapestry.com/wp-content/uploads/2025/06/June-7-This-week-at-the-market.mp4\nMark June 7 on your calendar and come join us for Food\, Live Music\, Art\, Crafts. 9:30 AM start  and we don’t close until 1PM.  Savour the rugged beauty of the Bay of Fundy.  Shop at Harbourville’s wharf side Fish Market. Enjoy lunch here at the market with Chef Fiona of Molotov Cuisine or at the Harbourville Trading Company. We are Nova Scotia at its best!\nFollow the Mermaid north on Hwy 360 from Exit 15\, Hwy 101\n\nFrom local artisans to fresh farm produce\, there’s a treasure trove of delights waiting for you. Don’t miss out on this vibrant showcase of community talent  and CRAFTSMANSHIP.\nOur farmers’ market is celebrating it’s 11th season in 2025. Big love to our incredible customers at the North Mountain Market for going all-in on ‘buy local’ . You’re directly supporting our passion projects – farm\, garden\, bakery and studio creations – and keeping our families happy and afloat. We are grateful!\nInside our historic little church on June 7th\nPaintings by Kathy\nSilvery Moon Alpacas Farm\nKate’s Pantry Coffee Shop\nCoast Mountain Designs \nChase Lane Creations\nHolisticious\nVallhalla Farm\nMcConnell House\nPaintings by Arnold\nNot Just Leather Repair\nShyrina Rose Ceramics\nBurrow Bakes\nMolotov Cuisine\n  \nOutside on our grounds\nWandering Farms\nWings and Things\nThe Knotty Tapper\nNorth Mountain Uprising\nWoodlawn Hollow Homestead\nPerkins Polyculture\nChristine Faour Author\n\nPLUS!\nLive Music with  Andrew Hill!\n \nAnd for the Family\n\nCOMING SOON!\nHarbourville Flower Faerie coming June 14\nBougie Sisters.Co Bakery coming August 9th & 23rd\n  \nWondering how to find your vendors this week?\n \n  \n  \n  \n  \n  \n  \n  \n  \n  \n 
URL:https://www.unitedtapestry.com/event/north-mountain-market-june-7th-2025/
LOCATION:North Mountain United Tapestry\, 3201 Long Point Road\, Harbourville\, Nova Scotia\, B0P 1E0\, Canada
CATEGORIES:Market Day
ATTACH;FMTTYPE=image/png:https://www.unitedtapestry.com/wp-content/uploads/2025/05/Market-Cover-4.png
ORGANIZER;CN="North Mountain United Tapestry":MAILTO:unitedtapestry@gmail.com
END:VEVENT
BEGIN:VEVENT
DTSTART;TZID=America/Halifax:20250614T093000
DTEND;TZID=America/Halifax:20250614T130000
DTSTAMP:20260420T021532
CREATED:20250612T152112Z
LAST-MODIFIED:20250614T102351Z
UID:3777-1749893400-1749906000@www.unitedtapestry.com
SUMMARY:North Mountain Market June 14th 2025
DESCRIPTION:https://www.unitedtapestry.com/wp-content/uploads/2025/06/Sat-June-14-Market.mp4\nMark June 14 on your calendar and come join us in Harbourville for Food\, Live Music\, Art\, Crafts. 9:30 AM start  and we don’t close until 1PM.  Savour the rugged beauty of the Bay of Fundy.  Shop at Harbourville’s wharf side Fish Market.  Enjoy at the Harbourville Trading Company. We are iconic Nova Scotia at its best!\nFollow the Mermaid north on Hwy 360 from Exit 15\, Hwy 101\nFrom local artisans to fresh farm produce\, there’s a treasure trove of delights waiting for you. Don’t miss out on this vibrant showcase of community talent  and CRAFTSMANSHIP.\nOur farmers’ market is celebrating it’s 11th season in 2025. Big love to our incredible customers at the North Mountain Market for going all-in on ‘buy local’ . You’re directly supporting our passion projects – farm\, garden\, bakery and studio creations – and keeping our families happy and afloat. We are grateful!\nInside our historic little church on June 14th\nPaintings by Kathy\nSilvery Moon Alpacas Farm\nKate’s Pantry Coffee Shop\nChase Lane Creations\nHolisticious\nVallhalla Farm\nMcConnell House\nPaintings by Arnold\nNot Just Leather Repair\nHarbourville Flower Faerie\nChristine Faour Author\nBriny Sticher\nOutside on our grounds\nWandering Farms\nWings and Things\nThe Knotty Tapper\nNorth Mountain Uprising\nWoodlawn Hollow Homestead\n\nPLUS!\nLive Music with  Scott Henderson!\n \nAnd for the Family\n\nCOMING SOON!\nShyrina Rose Ceramics coming June 21st\nPerkins Polyculture coming July 5th\, August 2nd\, September 6 and Oct 4th\nBougie Sisters.Co Bakery coming August 9th and  23rd\nTwo Rivers Pottery coming  June 28\, July 26\, August 23\, Sept 20 and Oct 11\nBurrow Bakes coming July 5th\, August 2nd\, September 6th and October 4th\n  \nWondering how to find your vendors this week?\n \n  \n  \n  \n  \n  \n  \n  \n  \n  \n  \n 
URL:https://www.unitedtapestry.com/event/north-mountain-market-june-14th-2025-2/
LOCATION:North Mountain United Tapestry\, 3201 Long Point Road\, Harbourville\, Nova Scotia\, B0P 1E0\, Canada
CATEGORIES:Market Day
ATTACH;FMTTYPE=image/jpeg:https://www.unitedtapestry.com/wp-content/uploads/2025/06/502471886_1242306627770114_1044975821691598580_n.jpg
ORGANIZER;CN="North Mountain United Tapestry":MAILTO:unitedtapestry@gmail.com
END:VEVENT
BEGIN:VEVENT
DTSTART;TZID=America/Halifax:20250621T093000
DTEND;TZID=America/Halifax:20250621T130000
DTSTAMP:20260420T021532
CREATED:20250618T145129Z
LAST-MODIFIED:20250618T145202Z
UID:3792-1750498200-1750510800@www.unitedtapestry.com
SUMMARY:North Mountain Market June 21st 2025
DESCRIPTION:Summer is here! Come join us in Harbourville for Food\, Live Music\, Art\, Crafts.\n9:30 AM start  and we don’t close until 1PM.\nWe are welcoming three new vendors this week\n                          Shyrina Rose Ceramics * Morses Strawberries * Briny Stitcher\nSavour the rugged beauty of the Bay of Fundy.  Shop at Harbourville’s wharf side Fish Market.  Enjoy at the Harbourville Trading Company. We are iconic Nova Scotia at its best!\nFollow the Mermaid north on Hwy 360 from Exit 15\, Hwy 101\n Local Artisans \, Bakers and  Fresh Farm Produce!\nInside our historic little church on June 21st\nPaintings by Kathy\nSilvery Moon Alpacas Farm\nKate’s Pantry Coffee Shop\nChase Lane Creations\nHolisticious\nVallhalla Farm\nMcConnell House\nPaintings by Arnold\nHarbourville Flower Faerie\nBriny Stitcher\nShyrina Rose Ceramics\n  \nOutside on our grounds\nWandering Farms\nThe Knotty Tapper\nWoodlawn Hollow Homestead\nMorses Strawberries\n\nPLUS!\nLive Music with  Kim Doolittle!\n\nFor the Family\n\nCOMING SOON!\nPerkins Polyculture coming July 5th\, August 2nd\, September 6 and Oct 4th\nBougie Sisters.Co Bakery coming August 9th and  23rd\nTwo Rivers Pottery coming  June 28\, July 26\, August 23\, Sept 20 and Oct 11\nBurrow Bakes coming July 5th\, August 2nd\, September 6th and October 4th\n  \nWondering how to find your vendors this week?\n \n  \n  \n  \n  \n  \n  \n  \n  \n  \n  \n  \n 
URL:https://www.unitedtapestry.com/event/north-mountain-market-june-21st-2025/
LOCATION:North Mountain United Tapestry\, 3201 Long Point Road\, Harbourville\, Nova Scotia\, B0P 1E0\, Canada
CATEGORIES:Market Day
ATTACH;FMTTYPE=image/jpeg:https://www.unitedtapestry.com/wp-content/uploads/2025/06/502471886_1242306627770114_1044975821691598580_n.jpg
ORGANIZER;CN="North Mountain United Tapestry":MAILTO:unitedtapestry@gmail.com
END:VEVENT
BEGIN:VEVENT
DTSTART;TZID=America/Halifax:20250622T190000
DTEND;TZID=America/Halifax:20250622T210000
DTSTAMP:20260420T021532
CREATED:20250225T200145Z
LAST-MODIFIED:20250227T191234Z
UID:3665-1750618800-1750626000@www.unitedtapestry.com
SUMMARY:Joe H Henry
DESCRIPTION:Ok we are pretty excited to welcome this “mountain boy” to our sweet little venue!Folks are pretty excited by his music!If you haven’t heard him yet here is what folks are saying…..\n“Few voices are as expressive as Joe’s. His singing has such fine control and emotion – Powerful!” – Terry Pulliam – Producer\, Sloan\n“One of the brightest new lights on the East Coast music scene”— Troy Greencorn – Artistic Director\, Stanfest / Executive Director\, DeCoste Performing Arts Centre\nYou can listen to him here https://joehhenry.com/listen\nYou can see him here Joe H Henry – Real Things | No Method Live Session\nBut the BEST place to experience his powerful\, soulful Americana Roots music is here on June 22nd.\n7PM\nStart your summer off right.\ntickets North Mountain United Tapestry @ North Mountain United Tapestry – Jun 22\, 2025\, 7:00PM
URL:https://www.unitedtapestry.com/event/joe-h-henry/
LOCATION:North Mountain United Tapestry\, 3201 Long Point Road\, Harbourville\, Nova Scotia\, B0P 1E0\, Canada
CATEGORIES:Concerts
ATTACH;FMTTYPE=image/png:https://www.unitedtapestry.com/wp-content/uploads/2025/02/Joe-H-Henry.png
ORGANIZER;CN="North Mountain United Tapestry":MAILTO:unitedtapestry@gmail.com
END:VEVENT
BEGIN:VEVENT
DTSTART;TZID=America/Halifax:20250628T093000
DTEND;TZID=America/Halifax:20250628T130000
DTSTAMP:20260420T021532
CREATED:20250626T165432Z
LAST-MODIFIED:20250626T165432Z
UID:3816-1751103000-1751115600@www.unitedtapestry.com
SUMMARY:North Mountain Market June 28th 2025
DESCRIPTION:Summer is here! Come join us in Harbourville for Food\, Live Music\, Art\, Crafts.\n      9:30 AM start and we don’t close until 1PM.\nWe are welcoming back some crafty old  friends of the market this week\n                      EZ Wood Productions\n  \nSavour the rugged beauty of the Bay of Fundy.  Shop at Harbourville’s wharf side Fish Market.  Enjoy at the Harbourville Trading Company. We are postcard worthy Nova Scotia !\nFollow the Mermaid north on Hwy 360 from Exit 15\, Hwy 101\n Local Artisans \, Bakers and  Fresh Farm Produce!\nInside our historic little church on June 28th\n  \nPaintings by Kathy\nSilvery Moon Alpacas Farm\nKate’s Pantry Coffee Shop\nChase Lane Creations\nHolisticious\nVallhalla Farm\nMcConnell House\nPaintings by Arnold\nEZ Wood Productions\nA Briny Stitcher\nTwo Rivers Pottery\nNot Just Leather Repairs\n  \n  \nOutside on our grounds\nWandering Farms\nNorth Mountain Uprising\nWoodlawn Hollow Homestead\nMorses Strawberries\n\nPLUS!\nLive Music with  The Black Rock Buoys!\n\nFor the Family\n\nCOMING SOON!\nPerkins Polyculture coming July 5th\, August 2nd\, September 6 and Oct 4th\nBougie Sisters.Co Bakery coming August 9th and  23rd\nTwo Rivers Pottery  also coming  July 26\, August 23\, Sept 20 and Oct 11\nBurrow Bakes coming July 5th\, August 2nd\, September 6th and October 4th\n  \nWondering how to find your vendors this week?\n \n  \n  \n  \n  \n  \n  \n  \n  \n  \n  \n  \n 
URL:https://www.unitedtapestry.com/event/north-mountain-market-june-28th-2025-2/
LOCATION:North Mountain United Tapestry\, 3201 Long Point Road\, Harbourville\, Nova Scotia\, B0P 1E0\, Canada
CATEGORIES:Market Day
ATTACH;FMTTYPE=image/jpeg:https://www.unitedtapestry.com/wp-content/uploads/2025/06/502471886_1242306627770114_1044975821691598580_n.jpg
ORGANIZER;CN="North Mountain United Tapestry":MAILTO:unitedtapestry@gmail.com
END:VEVENT
END:VCALENDAR