BEGIN:VCALENDAR
VERSION:2.0
PRODID:-//North Mountain United Tapestry - ECPv6.15.20//NONSGML v1.0//EN
CALSCALE:GREGORIAN
METHOD:PUBLISH
X-ORIGINAL-URL:https://www.unitedtapestry.com
X-WR-CALDESC:Events for North Mountain United Tapestry
REFRESH-INTERVAL;VALUE=DURATION:PT1H
X-Robots-Tag:noindex
X-PUBLISHED-TTL:PT1H
BEGIN:VTIMEZONE
TZID:America/Halifax
BEGIN:DAYLIGHT
TZOFFSETFROM:-0400
TZOFFSETTO:-0300
TZNAME:ADT
DTSTART:20240310T060000
END:DAYLIGHT
BEGIN:STANDARD
TZOFFSETFROM:-0300
TZOFFSETTO:-0400
TZNAME:AST
DTSTART:20241103T050000
END:STANDARD
BEGIN:DAYLIGHT
TZOFFSETFROM:-0400
TZOFFSETTO:-0300
TZNAME:ADT
DTSTART:20250309T060000
END:DAYLIGHT
BEGIN:STANDARD
TZOFFSETFROM:-0300
TZOFFSETTO:-0400
TZNAME:AST
DTSTART:20251102T050000
END:STANDARD
BEGIN:DAYLIGHT
TZOFFSETFROM:-0400
TZOFFSETTO:-0300
TZNAME:ADT
DTSTART:20260308T060000
END:DAYLIGHT
BEGIN:STANDARD
TZOFFSETFROM:-0300
TZOFFSETTO:-0400
TZNAME:AST
DTSTART:20261101T050000
END:STANDARD
END:VTIMEZONE
BEGIN:VEVENT
DTSTART;TZID=America/Halifax:20250802T093000
DTEND;TZID=America/Halifax:20250802T130000
DTSTAMP:20260419T224004
CREATED:20250731T161902Z
LAST-MODIFIED:20250731T161902Z
UID:3872-1754127000-1754139600@www.unitedtapestry.com
SUMMARY:North Mountain Market August 2\, 2025
DESCRIPTION:Oh August! Come join us in Harbourville for Fresh Farm Produce\, Live Music\, Art\, Crafts\, Local Bakers and fresh sea air!.\n       We have 9:30 AM start and we don’t close until 1PM.\nWe are welcoming back two old friends of the market this week\nPerkins Polyculture \nSustainably rooted in Canning\, NS Pasture-raised poultry & spray-free veggies Growing a regenerative future\n Two Rivers Pottery\nHandmade stoneware and porcelain pottery made with solar power near the shores of the Bay of Fundy.\n  \nSavour the rugged beauty of the Bay of Fundy.  After the market enjoy lunch at the Harbourville Trading Company.\nWe are postcard worthy Nova Scotia !\n                                      We are north on Hwy 360 from Exit 15\, Hwy 101\nand then…. \nA DETOUR! Beginning August 31st. Turn left on the #221 Hwy and travel west until you reach Long Point Road. Turning right stay on the pavement . You will curve to the right at the top of the mountain and again at the water side as you head through the “cottage country” bringing you along the shore .\nThe bridge in our little seaside hamlet  is being upgraded so a detour is necessary. A chance to see more of the beautiful North Mountain and a fabulous view of the Bay of Fundy as you travel through Turners Brook and down towards Harbourville ! \n Look who is inside our historic little church on August the 2nd….\nPaintings by Kathy  – painting on canvas and paper \nSilvery Moon Alpacas Farm – Handspun alpaca fibre  knitted\, felted\, woven wares. hand dyed habotai silk and essential oil blends\nKate’s Pantry Coffee Shop-coffee\, tea\, gluten free sweets\nChase Lane Creations  –Original art work\, refurbished furniture and bird/bath feeders.\nHolisticious- herbal tinctures\, herbal salves\, herbal tonics\, summer time\, strawberry/blueberry/raspberry sauces\, baked  scratch french bread\nVallhalla Farm –  a traditional\, heritage farm returning to their roots; offering meat and eggs by order\, preserves\, pickles\, natural facial scrubs and more on their market table\nMcConnell House – antiques and treasures\nPaintings by Arnold  – paintings on canvas & tiles\, bracelets \nWoodlawn Hollow Homestead – wheat grass juice\, herbals\, handmade wooden stools\, surprises\n Wandering Farms  – small scale\, hand-powered\, vegetable and herb farm.  grown with ecologically sound practices .\nKnotty Tapper – yummy maple syrup\nNorth Mountain Uprising – sweet and savoury scones\, muffins\, cookies\, banana bread and bliss balls\nTwo Rivers Pottery –Handmade stoneware and porcelain pottery made with solar power near the shores of the Bay of Fundy. \n\nPerkins Polyculture –Sustainably rooted in Canning\, NS Pasture-raised poultry & spray-free veggies Growing a regenerative future\nSew ‘n Sew- Crafty items made out of fabric\n \nPLUS!\nLive Music with Bob Deveau !\n\nFor the Family\nOur Creation Station welcomes artist Philip. We invite ALL kids to paint/draw/colour a big sea-themed drawing      & More! \n\nCOMING SOON TO THE MARKET!\nBougie Sisters.Co Bakery coming August 9th and  23rd\n\n\n  \n  \n  \n  \n  \n  \n  \n  \n  \n  \n  \n  \n  \n  \n 
URL:https://www.unitedtapestry.com/event/north-mountain-market-august-2-2025-2/
LOCATION:North Mountain United Tapestry\, 3201 Long Point Road\, Harbourville\, Nova Scotia\, B0P 1E0\, Canada
CATEGORIES:Market Day
ATTACH;FMTTYPE=image/jpeg:https://www.unitedtapestry.com/wp-content/uploads/2025/06/502471886_1242306627770114_1044975821691598580_n.jpg
ORGANIZER;CN="North Mountain United Tapestry":MAILTO:unitedtapestry@gmail.com
END:VEVENT
BEGIN:VEVENT
DTSTART;TZID=America/Halifax:20250809T093000
DTEND;TZID=America/Halifax:20250809T130000
DTSTAMP:20260419T224004
CREATED:20250805T194332Z
LAST-MODIFIED:20250806T132822Z
UID:3880-1754731800-1754744400@www.unitedtapestry.com
SUMMARY:North Mountain Market August 9\, 2025
DESCRIPTION:https://www.unitedtapestry.com/wp-content/uploads/2025/08/Copy-of-Colorful-Retro-Cartoon-Illustrated-Festival-Market-Animated-Presentation-1.mp4\nOh August! Come join us in Harbourville for Fresh Farm Produce\, Live Music\, Art\, Crafts\, Local Bakers and fresh sea air!.\n       We have 9:30 AM start and we don’t close until 1PM.\nWe are welcoming back this old friend of the market this week\nPerkins Polyculture \nSustainably rooted in Canning\, NS Pasture-raised poultry & spray-free veggies Growing a regenerative future\nAND our  new friends\nThe Bougie Sisters\nThese sisters are all about tasty treats and top-notch ingredients. They whip up simple\, scrumptious baked goodies and love spreading the joy—one bite at a time!\n  \nSavour the rugged beauty of the Bay of Fundy.  After the market enjoy lunch at the Harbourville Trading Company.\nWe are postcard worthy Nova Scotia !\n                                      We are north on Hwy 360 from Exit 15\, Hwy 101\nand then…. \nA DETOUR! Beginning August 31st. Turn left on the #221 Hwy and travel west until you reach Long Point Road. Turning right stay on the pavement . You will curve to the right at the top of the mountain and again at the water side as you head through the “cottage country” bringing you along the shore . Enjoy this “new route and chance to see more of the beautiful North Mountain and a fabulous view of the Bay of Fundy as you travel through Turners Brook and down towards Harbourville !\n Look who is inside our historic little church on August the 2nd….\nPaintings by Kathy  – painting on canvas and paper \nSilvery Moon Alpacas Farm – Handspun alpaca fibre  knitted\, felted\, woven wares. hand dyed habotai silk and essential oil blends\nKate’s Pantry Coffee Shop-coffee and tea  Kate is taking a wee holiday but the coffee will still be on!\nChase Lane Creations  –Original art work\, refurbished furniture and bird/bath feeders.\nHolisticious- herbal tinctures\, herbal salves\, herbal tonics\, summer time\, strawberry/blueberry/raspberry sauces\, baked  scratch french bread\nVallhalla Farm –  a traditional\, heritage farm returning to their roots; offering meat and eggs by order\, preserves\, pickles\, natural facial scrubs and more on their market table\nMcConnell House – antiques and treasures\nPaintings by Arnold  – paintings on canvas & tiles\, bracelets \nWoodlawn Hollow Homestead – wheat grass juice\, herbals\, handmade wooden stools\, surprises\n Wandering Farms  – small scale\, hand-powered\, vegetable and herb farm.  grown with ecologically sound practices .\nKnotty Tapper – yummy maple syrup\nThe Bougie Sisters  –tasty treats and top-notch ingredients…. scrumptious baked goodies and love spreading the joy—one bite at a time!\nPerkins Polyculture –Sustainably rooted in Canning\, NS Pasture-raised poultry & spray-free veggies Growing a regenerative future\nRainbow Stitches- Clothing for men\, women and children in cotton and hemp\, silk and hemp\, linen. PLUS Bags\, purses AND Quilts: Queen size and King size\, placemats\, table runners\n\n \nPLUS!\nLive Music with The Black Rock Buoys !\n \nFor the Family\nOur Creation Station is excited to welcome back Judy Lipp of  Flying Squirrel Adventures\, who will guide the little ones on imaginative and creative journeys. \n\nAnd our Painting Workshop for Kiddos with Kathy Williams. Giraffe love! Don’t miss out\, only 12 spots available\, message Kathy to grab your FREE spot!  Wednesday the 6th of August is the deadline for registering Paintings by Kathy \n \n  \n\n\n\n  \n  \n  \n  \n  \n  \n  \n  \n  \n  \n  \n  \n  \n  \n 
URL:https://www.unitedtapestry.com/event/north-mountain-market-august-9-2025/
LOCATION:North Mountain United Tapestry\, 3201 Long Point Road\, Harbourville\, Nova Scotia\, B0P 1E0\, Canada
CATEGORIES:Market Day
ATTACH;FMTTYPE=image/jpeg:https://www.unitedtapestry.com/wp-content/uploads/2025/06/502471886_1242306627770114_1044975821691598580_n.jpg
ORGANIZER;CN="North Mountain United Tapestry":MAILTO:unitedtapestry@gmail.com
END:VEVENT
BEGIN:VEVENT
DTSTART;TZID=America/Halifax:20250816T093000
DTEND;TZID=America/Halifax:20250816T130000
DTSTAMP:20260419T224004
CREATED:20250814T162911Z
LAST-MODIFIED:20250814T162938Z
UID:3889-1755336600-1755349200@www.unitedtapestry.com
SUMMARY:North Mountain Market August 16\, 2025
DESCRIPTION:Oh August! Come join us in Harbourville for Fresh Farm Produce\, Live Music\, Art\, Crafts\, Local Bakers and fresh sea air!.\n       We have 9:30 AM start and we don’t close until 1PM.\nWe are welcoming back this old friend of the market this week\nSavour the rugged beauty of the Bay of Fundy.  After the market enjoy lunch at the Harbourville Trading Company.\nWe are postcard worthy Nova Scotia !\n                                      We are north on Hwy 360 from Exit 15\, Hwy 101\nLook who is inside our historic little church on August the 16th….\nPaintings by Kathy  – painting on canvas and paper \nSilvery Moon Alpacas Farm – Handspun alpaca fibre  knitted\, felted\, woven wares. hand dyed habotai silk and essential oil blends\nKate’s Pantry Coffee Shop-coffee and tea  and gluten free and vegan treats\nChase Lane Creations  –Original art work\, refurbished furniture and bird/bath feeders.\nHolisticious- herbal tinctures\, herbal salves\, herbal tonics\, summer time\, strawberry/blueberry/raspberry sauces\, baked  scratch french bread\nVallhalla Farm –  a traditional\, heritage farm returning to their roots; offering meat and eggs by order\, preserves\, pickles\, natural facial scrubs and more on their market table\nMcConnell House – antiques and treasures\nPaintings by Arnold  – paintings on canvas & tiles\, bracelets \nWoodlawn Hollow Homestead – wheat grass juice\, herbals\, handmade wooden stools\, surprises\n Wandering Farms  – small scale\, hand-powered\, vegetable and herb farm.  grown with ecologically sound practices .\nKnotty Tapper – yummy maple syrup\nNot Just Leather Repair – Sheila has always enjoyed the art of creating  from fabrics and went on to creating beautiful handbags from leather\nRainbow Stitches- Clothing for men\, women and children in cotton and hemp\, silk and hemp\, linen. PLUS Bags\, purses AND Quilts: Queen size and King size\, placemats\, table runners\nPLUS!\nLive Music with Andrew Hill !\n \n  \nFor the Family\nOur Creation Station provides the supplies. The little ones provide the imagination and creativity! \n\n \n  \n  \n\n\n\n  \n  \n  \n  \n  \n  \n  \n  \n  \n  \n  \n  \n  \n  \n 
URL:https://www.unitedtapestry.com/event/north-mountain-market-august-16-2025-2/
LOCATION:North Mountain United Tapestry\, 3201 Long Point Road\, Harbourville\, Nova Scotia\, B0P 1E0\, Canada
CATEGORIES:Market Day
ATTACH;FMTTYPE=image/jpeg:https://www.unitedtapestry.com/wp-content/uploads/2025/06/502471886_1242306627770114_1044975821691598580_n.jpg
ORGANIZER;CN="North Mountain United Tapestry":MAILTO:unitedtapestry@gmail.com
END:VEVENT
BEGIN:VEVENT
DTSTART;TZID=America/Halifax:20250820T140000
DTEND;TZID=America/Halifax:20250820T160000
DTSTAMP:20260419T224004
CREATED:20250814T170703Z
LAST-MODIFIED:20250814T170703Z
UID:3902-1755698400-1755705600@www.unitedtapestry.com
SUMMARY:Harbourville Through the Years
DESCRIPTION:        Exhibit Opening \nCurated by North Mountain United Tapestry Cultural and Heritage Society \n\n  Harbourville Through the Years \nWednesday\, August 20\,2025 at 2 PM \nLight refreshments \nIntroductory Talk with researcher Garnet Misner \n  \nThis extensive exhibit offers a captivating look into the historic fishing village of Harbourville\, nestled on the Bay of Fundy north of Berwick. Highlights include: \n  \nThe Stories Our Houses Tell –Harbourville’s built heritage of the 19th Century \n– as well as- \n*Seaside Park Hotel 1909-1929 \n*Parker & Cook stores \n*Sophia Parker’s clothing collection circa 1904 \n*Harbourville’s one room school \n*Harbourville United Church built 1860 \n*The Sewing Circle Women \n*Early Sea Captains \n*Elusive Isle Haute \n  \nWhether you’re a history buff\, a local curious about your roots\, or just looking for a charming afternoon outing\, this exhibit promises stories that span generations. \nThis exhibit is community project of North Mountain United Tapestry\, Harbourville
URL:https://www.unitedtapestry.com/event/harbourville-through-the-years/
LOCATION:Kings County Museum\, 37 Bridge Street\, Kentville\, Nova Scotia\, Canada
ORGANIZER;CN="North Mountain United Tapestry":MAILTO:unitedtapestry@gmail.com
END:VEVENT
BEGIN:VEVENT
DTSTART;TZID=America/Halifax:20250823T093000
DTEND;TZID=America/Halifax:20250823T130000
DTSTAMP:20260419T224004
CREATED:20250821T191222Z
LAST-MODIFIED:20250821T191222Z
UID:3906-1755941400-1755954000@www.unitedtapestry.com
SUMMARY:North Mountain Market August 23\, 2025
DESCRIPTION:Oh August! Come join us in Harbourville for Fresh Farm Produce\, Live Music\, Art\, Crafts\, Local Bakers and fresh sea air!.\n       We have 9:30 AM start and we don’t close until 1PM.\nWe are welcoming back this old friend of the market this week\nTwo Rivers Pottery  Gorgeous handmade stoneware and porcelain pottery made with solar power near the shores of the Bay of Fundy.\nAND our new friends\nBougie Sisters-  These sisters are all about tasty treats and top-notch ingredients. They whip up simple\, scrumptious baked goodies and love spreading the joy—one bite at a time\n  \nSavour the rugged beauty of the Bay of Fundy.  After the market enjoy lunch at the Harbourville Trading Company.\nWe are postcard worthy Nova Scotia !\n                                      We are north on Hwy 360 from Exit 15\, Hwy 101\nLook who is inside our historic little church on August the 16th….\nPaintings by Kathy  – painting on canvas and paper \nSilvery Moon Alpacas Farm – Handspun alpaca fibre  knitted\, felted\, woven wares. hand dyed habotai silk and essential oil blends\nKate’s Pantry Coffee Shop-coffee and tea  and gluten free and vegan treats\nChase Lane Creations  –Original art work\, refurbished furniture and bird/bath feeders.\nHolisticious- herbal tinctures\, herbal salves\, herbal tonics\, summer time\, strawberry/blueberry/raspberry sauces\, baked  scratch french bread\nVallhalla Farm –  a traditional\, heritage farm returning to their roots; offering meat and eggs by order\, preserves\, pickles\, natural facial scrubs and more on their market table\nMcConnell House – antiques and treasures\nPaintings by Arnold  – paintings on canvas & tiles\, bracelets \nWoodlawn Hollow Homestead – wheat grass juice\, herbals\, handmade wooden stools\, surprises\n Wandering Farms  – small scale\, hand-powered\, vegetable and herb farm.  grown with ecologically sound practices .\nKnotty Tapper – yummy maple syrup\nNot Just Leather Repair – Sheila has always enjoyed the art of creating  from fabrics and went on to creating beautiful handbags from leather\nRainbow Stitches- Clothing for men\, women and children in cotton and hemp\, silk and hemp\, linen. PLUS Bags\, purses AND Quilts: Queen size and King size\, placemats\, table runners\nBougie Sisters-  These sisters are all about tasty treats and top-notch ingredients. They whip up simple\, scrumptious baked goodies and love spreading the joy—one bite at a time\nTwo Rivers Pottery  Gorgeous handmade stoneware and porcelain pottery made with solar power near the shores of the Bay of Fundy.\nA Briny Stitcher-Whimsical\, colourful and enchanting quilted creations.\nPLUS!\nLive Music with Ruth Manning !\n \n  \nFor the Family\nOur Creation Station provides the supplies. The little ones provide the imagination and creativity! \n\n  \n  \n  \n\n\n\n  \n  \n  \n  \n  \n  \n  \n  \n  \n  \n  \n  \n  \n  \n 
URL:https://www.unitedtapestry.com/event/north-mountain-market-august-23-2025/
LOCATION:North Mountain United Tapestry\, 3201 Long Point Road\, Harbourville\, Nova Scotia\, B0P 1E0\, Canada
CATEGORIES:Market Day
ATTACH;FMTTYPE=image/jpeg:https://www.unitedtapestry.com/wp-content/uploads/2025/06/502471886_1242306627770114_1044975821691598580_n.jpg
ORGANIZER;CN="North Mountain United Tapestry":MAILTO:unitedtapestry@gmail.com
END:VEVENT
BEGIN:VEVENT
DTSTART;TZID=America/Halifax:20250824T190000
DTEND;TZID=America/Halifax:20250824T190000
DTSTAMP:20260419T224004
CREATED:20250304T025832Z
LAST-MODIFIED:20250304T030444Z
UID:3688-1756062000-1756062000@www.unitedtapestry.com
SUMMARY:August 24 Terra Spencer
DESCRIPTION:Save the date. On August 24th\, 2025 Terra Spencer is coming back to Tapestry. We  really can’t wait to welcome her. It promises to be a magical evening in our little church on the bluff. \nTerra’s sold out her 2023 concert here \, please don’t delay in purchasing your seat. \nTickets are now on sale e transfer  $20 to music@unitedtapestry.com   \nFrom Terra’s website: \nBad ideas\, VCRs\, crumbling factories\, hairy dogs\, questionable tattoos…all are fair game for Nova Scotian funeral director-turned-songwriter Terra Spencer. And the songs are good ones\, judging from the stack of awards her three albums have received\, and from the caliber of her collaborators\, which include David Francey\, Ben Caplan\, and Matt Andersen. Although her butterscotch voice\, deft fingerstyle guitar\, and gospel-charged piano make her a formidable musician\, it’s her onstage ease and crackling wit that make each show feel like a knee-to-knee conversation in a room of 5 or 500. “The real deal.” – Ron Sexsmith \nTerra Spencer \n 
URL:https://www.unitedtapestry.com/event/august-24-terra-spencer/
LOCATION:North Mountain United Tapestry\, 3201 Long Point Road\, Harbourville\, Nova Scotia\, B0P 1E0\, Canada
CATEGORIES:Concerts
ATTACH;FMTTYPE=image/png:https://www.unitedtapestry.com/wp-content/uploads/2025/03/Music-@-Tapestry-1.png
ORGANIZER;CN="North Mountain United Tapestry":MAILTO:unitedtapestry@gmail.com
END:VEVENT
BEGIN:VEVENT
DTSTART;TZID=America/Halifax:20250830T093000
DTEND;TZID=America/Halifax:20250830T130000
DTSTAMP:20260419T224004
CREATED:20250829T235303Z
LAST-MODIFIED:20250830T001625Z
UID:3913-1756546200-1756558800@www.unitedtapestry.com
SUMMARY:North Mountain Market August 30\, 2025
DESCRIPTION:Oh summer\, please don’t leave us yet!\nCome join us in Harbourville for Fresh Farm Produce\, Live Music\, Art\, Crafts\, Local Bakers and fresh sea air!.\n       We have 9:30 AM start and we don’t close until 1PM.\nSavour the rugged beauty of the Bay of Fundy.  After the market enjoy lunch at the Harbourville Trading Company.\nWe are postcard worthy Nova Scotia !\n                                      We are north on Hwy 360 from Exit 15\, Hwy 101\nLook who is inside our historic little church on August the 30th….\nPaintings by Kathy  – painting on canvas and paper \nSilvery Moon Alpacas Farm – Handspun alpaca fibre  knitted\, felted\, woven wares. hand dyed habotai silk and essential oil blends\nKate’s Pantry Coffee Shop-coffee and tea  and gluten free and vegan treats\nChase Lane Creations  –Original art work\, refurbished furniture and bird/bath feeders.\nHolisticious- herbal tinctures\, herbal salves\, herbal tonics\, summer time\, strawberry/blueberry/raspberry sauces\, baked  scratch french bread\nVallhalla Farm –  a traditional\, heritage farm returning to their roots; offering meat and eggs by order\, preserves\, pickles\, natural facial scrubs and more on their market table\nMcConnell House – antiques and treasures\nPaintings by Arnold  – Colourful paintings inspired by Haiti and Nova Scotia on canvas & tiles\, bracelets \nWoodlawn Hollow Homestead – wheat grass juice\, herbals\, handmade wooden stools\, surprises\n Wandering Farms  – small scale\, hand-powered\, vegetable and herb farm.  grown with ecologically sound practices .\nKnotty Tapper – yummy maple syrup\nRainbow Stitches- Clothing for men\, women and children in cotton and hemp\, silk and hemp\, linen. PLUS Bags\, purses AND Quilts: Queen size and King size\, placemats\, table runners\n A Briny Stitcher-Whimsical\, colourful and enchanting quilted creations.\nNorth Mountain Uprising– yummy baked goods\, candles \, magical decoupaged bottle lanterns\nSew and Sew-  gorgeous aprons\, reimagined cigar boxes \,  imaginative playing card holders and more!\nHarbourville Flower Fairie-stunning mountain grown flower bouquets\nPLUS!\nLive Music with Bob Deveau!\n  \n  \nFor the Family\nOur Creation Station provides the supplies. The little ones provide the imagination and creativity! \n\n \n  \n  \n\n\n\n  \n  \n  \n  \n  \n  \n  \n  \n  \n  \n  \n  \n  \n  \n 
URL:https://www.unitedtapestry.com/event/north-mountain-market-august-30-2025/
LOCATION:North Mountain United Tapestry\, 3201 Long Point Road\, Harbourville\, Nova Scotia\, B0P 1E0\, Canada
CATEGORIES:Market Day
ATTACH;FMTTYPE=image/jpeg:https://www.unitedtapestry.com/wp-content/uploads/2025/06/502471886_1242306627770114_1044975821691598580_n.jpg
ORGANIZER;CN="North Mountain United Tapestry":MAILTO:unitedtapestry@gmail.com
END:VEVENT
END:VCALENDAR